{"text_format":"1","workbook":"xlsx","n_sheets":1,"sheets":["Tabeller"],"not_rendered":{"charts":0,"images":0,"macros":0,"external_links":1,"defined_names":3,"comments":0,"pivot_tables":0},"unopened":[],"bounds":{"document_bytes":16777216,"sheet_cells":100000,"rows_first":2000,"rows_last":500,"rows_between":2000,"halvings":0,"cell_chars":16384,"cell_head_chars":4096},"cells_cut":0,"cells_raw":0,"read":"whole","date_system":"1900"}

{"sheet":"Tabeller","index":0,"n_rows":192,"n_cols":29,"rows_kept":192,"cut":false,"hidden":false,"merged":[[3,27,3,28],[4,27,4,28],[4,2,5,2],[4,3,5,3],[4,4,5,4],[4,5,5,5],[4,6,5,6],[4,7,5,7],[4,9,5,9],[4,10,5,10],[3,23,3,24],[4,25,4,26],[4,11,5,11],[4,12,5,12],[4,13,5,13],[4,14,5,14],[4,21,4,22],[4,23,4,24],[3,25,3,26],[2,16,2,17],[2,18,2,19],[3,16,3,17],[3,18,3,19],[3,21,3,22]]}
[]
[null,"Tabell 1","PMI og underindekser, historiske tall",null,null,null,null,null,"Tabell 2","PMI og underindekser, sesongjusterte verdier",null,null,null,null,null,"Tabell 3","Ordre - Orders",null,null,null,"Tabell 4","Øvrige indekser"]
[null,"Table 1","PMI and sub-indices, historical values",null,null,null,null,null,"Table 2","PMI and sub-indices, seasonally adjusted",null,null,null,null,null,"Table 3","Ordreinngang, ujustert",null,"Ordreinngang, sesongjustert",null,"Table 4","Additional indices"]
[null,null,"PMI","Produksjon","Nye ordre","Sysselsetting","Leveringstid","Lager",null,"PMI","Produksjon","Nye ordre","Sysselsetting","Leveringstid","Lager",null,"New orders, non-adjusted",null,"New orders, seasonally adjusted",null,null,"Innkjøpt mengde",null,"Innkjøpspriser",null,"Lager av sluttprodukter",null,"Innkjøpsplaner neste 6m"]
[null,null,"PMI","Production","New orders","Employment","Suppliers' Delivery Time","Inventory of Purchased Goods",null,"PMI","Production","New orders","Employment","Suppliers' Delivery Time","Inventory of Purchased Goods",null,"Hjemmemarked","Eksportmarked","Hjemmemarked","Eksportmarked",null,"Purchase quantity",null,"Purchase prices",null,"Inventory of finished goods",null,"Purchase plans next 6m"]
[null,null,null,null,null,null,null,null,null,null,null,null,null,null,null,null,"Home market","Export orders","Home market","Export orders",null,"Actual","Sa.","Actual","Sa.","Actual","Sa.","Actual","Sa."]
[]
[null,{"$f":"[1]Data!C7","v":"2004-02-01"},{"$f":"[1]Data!D7","v":56.356212434722629},{"$f":"[1]Data!E7","v":61.055276381909543},{"$f":"[1]Data!F7","v":61},{"$f":"[1]Data!G7","v":46.813725490196077},{"$f":"[1]Data!H7","v":56.030150753768844},{"$f":"[1]Data!I7","v":49.748743718592962},{"$f":"[1]Data!C7","v":"2004-02-01"},{"$f":"[1]Data!R7","v":57.201064994491212},{"$f":"[1]Data!S7","v":62.020102670102617},{"$f":"[1]Data!T7","v":61.250055888970877},{"$f":"[1]Data!U7","v":47.716151091013309},{"$f":"[1]Data!V7","v":58.320367473823318},{"$f":"[1]Data!W7","v":49.70262779001871},{"$f":"[1]Data!C7","v":"2004-02-01"},{"$f":"[1]Data!K7","v":54.060913705583758},{"$f":"[1]Data!L7","v":57.558139534883722},{"$f":"[1]Data!Y7","v":54.596575517586224},{"$f":"[1]Data!Z7","v":57.509481619499198},{"$f":"[1]Data!C7","v":"2004-02-01"},{"$f":"[1]Data!M7","v":57.5},{"$f":"[1]Data!AA7","v":57.072458365779248},{"$f":"[1]Data!N7","v":69.5},{"$f":"[1]Data!AB7","v":72.490888539149609},{"$f":"[1]Data!O7","v":50.515463917525771},{"$f":"[1]Data!AC7","v":46.457426521375844},{"$f":"[1]Data!P7","v":68.316831683168317},{"$f":"[1]Data!AD7","v":67.937802622800035}]
[null,{"$f":"[1]Data!C8","v":"2004-03-01"},{"$f":"[1]Data!D8","v":58.687672177305501},{"$f":"[1]Data!E8","v":63.628196850172657},{"$f":"[1]Data!F8","v":64.527777777777771},{"$f":"[1]Data!G8","v":49.493819266837171},{"$f":"[1]Data!H8","v":57.573086426608185},{"$f":"[1]Data!I8","v":51.124371859296481},{"$f":"[1]Data!C8","v":"2004-03-01"},{"$f":"[1]Data!R8","v":57.435817258029708},{"$f":"[1]Data!S8","v":60.774124576308616},{"$f":"[1]Data!T8","v":61.448717263701297},{"$f":"[1]Data!U8","v":49.833553931636779},{"$f":"[1]Data!V8","v":59.555398296915961},{"$f":"[1]Data!W8","v":50.923495960225779},{"$f":"[1]Data!C8","v":"2004-03-01"},{"$f":"[1]Data!K8","v":57.397688491209962},{"$f":"[1]Data!L8","v":59.953768562622585},{"$f":"[1]Data!Y8","v":56.036371743387576},{"$f":"[1]Data!Z8","v":58.247132768933128},{"$f":"[1]Data!C8","v":"2004-03-01"},{"$f":"[1]Data!M8","v":60.314245810055866},{"$f":"[1]Data!AA8","v":57.726151804224855},{"$f":"[1]Data!N8","v":71.277777777777771},{"$f":"[1]Data!AB8","v":71.011059295189725},{"$f":"[1]Data!O8","v":48.853237576740412},{"$f":"[1]Data!AC8","v":45.678906846146226},{"$f":"[1]Data!P8","v":68.63643781960613},{"$f":"[1]Data!AD8","v":67.632989967670994}]
[null,{"$f":"[1]Data!C9","v":"2004-04-01"},{"$f":"[1]Data!D9","v":61.019131919888395},{"$f":"[1]Data!E9","v":66.201117318435763},{"$f":"[1]Data!F9","v":68.055555555555557},{"$f":"[1]Data!G9","v":52.173913043478265},{"$f":"[1]Data!H9","v":59.11602209944752},{"$f":"[1]Data!I9","v":52.5},{"$f":"[1]Data!C9","v":"2004-04-01"},{"$f":"[1]Data!R9","v":58.716680261046271},{"$f":"[1]Data!S9","v":62.145790805704515},{"$f":"[1]Data!T9","v":64.054597207103683},{"$f":"[1]Data!U9","v":51.22854728333963},{"$f":"[1]Data!V9","v":58.389031756912324},{"$f":"[1]Data!W9","v":50.402108227157342},{"$f":"[1]Data!C9","v":"2004-04-01"},{"$f":"[1]Data!K9","v":60.734463276836159},{"$f":"[1]Data!L9","v":62.349397590361448},{"$f":"[1]Data!Y9","v":56.95469326548065},{"$f":"[1]Data!Z9","v":59.972575566076664},{"$f":"[1]Data!C9","v":"2004-04-01"},{"$f":"[1]Data!M9","v":63.128491620111731},{"$f":"[1]Data!AA9","v":61.201962641104195},{"$f":"[1]Data!N9","v":73.055555555555557},{"$f":"[1]Data!AB9","v":72.44959300211805},{"$f":"[1]Data!O9","v":47.19101123595506},{"$f":"[1]Data!AC9","v":44.818119124266644},{"$f":"[1]Data!P9","v":68.956043956043956},{"$f":"[1]Data!AD9","v":67.750758212449355}]
[null,{"$f":"[1]Data!C10","v":"2004-05-01"},{"$f":"[1]Data!D10","v":58.07472826086957},{"$f":"[1]Data!E10","v":58.695652173913047},{"$f":"[1]Data!F10","v":60.869565217391305},{"$f":"[1]Data!G10","v":54.658385093167702},{"$f":"[1]Data!H10","v":61.18012422360249},{"$f":"[1]Data!I10","v":49.6875},{"$f":"[1]Data!C10","v":"2004-05-01"},{"$f":"[1]Data!R10","v":55.131393101288353},{"$f":"[1]Data!S10","v":55.359340466648753},{"$f":"[1]Data!T10","v":56.648118663367235},{"$f":"[1]Data!U10","v":52.522002002077734},{"$f":"[1]Data!V10","v":58.42096647724258},{"$f":"[1]Data!W10","v":49.704229863859418},{"$f":"[1]Data!C10","v":"2004-05-01"},{"$f":"[1]Data!K10","v":56.60377358490566},{"$f":"[1]Data!L10","v":56.944444444444443},{"$f":"[1]Data!Y10","v":53.563676210765017},{"$f":"[1]Data!Z10","v":56.618998349647896},{"$f":"[1]Data!C10","v":"2004-05-01"},{"$f":"[1]Data!M10","v":59.433962264150949},{"$f":"[1]Data!AA10","v":57.449676449291438},{"$f":"[1]Data!N10","v":70.9375},{"$f":"[1]Data!AB10","v":70.486047125892412},{"$f":"[1]Data!O10","v":45.569620253164558},{"$f":"[1]Data!AC10","v":44.732545482942527},{"$f":"[1]Data!P10","v":72.327044025157235},{"$f":"[1]Data!AD10","v":70.585313445009589}]
[null,{"$f":"[1]Data!C11","v":"2004-06-01"},{"$f":"[1]Data!D11","v":60.432636142646608},{"$f":"[1]Data!E11","v":65.94202898550725},{"$f":"[1]Data!F11","v":66.50485436893203},{"$f":"[1]Data!G11","v":52.631578947368425},{"$f":"[1]Data!H11","v":59.375},{"$f":"[1]Data!I11","v":54.368932038834956},{"$f":"[1]Data!C11","v":"2004-06-01"},{"$f":"[1]Data!R11","v":57.169487005296304},{"$f":"[1]Data!S11","v":61.545742043086264},{"$f":"[1]Data!T11","v":61.275252273280586},{"$f":"[1]Data!U11","v":50.139278584993342},{"$f":"[1]Data!V11","v":57.673843290436452},{"$f":"[1]Data!W11","v":52.784563980235795},{"$f":"[1]Data!C11","v":"2004-06-01"},{"$f":"[1]Data!K11","v":61.576354679802954},{"$f":"[1]Data!L11","v":57.512953367875646},{"$f":"[1]Data!Y11","v":56.711591608657784},{"$f":"[1]Data!Z11","v":53.720895073069265},{"$f":"[1]Data!C11","v":"2004-06-01"},{"$f":"[1]Data!M11","v":63.397129186602868},{"$f":"[1]Data!AA11","v":60.391746213083991},{"$f":"[1]Data!N11","v":68.75},{"$f":"[1]Data!AB11","v":68.550706545050659},{"$f":"[1]Data!O11","v":48.786407766990294},{"$f":"[1]Data!AC11","v":45.649153277213749},{"$f":"[1]Data!P11","v":69.138755980861248},{"$f":"[1]Data!AD11","v":69.546084600523571}]
[null,{"$f":"[1]Data!C12","v":"2004-07-01"},{"$f":"[1]Data!D12","v":46.737146665837344},{"$f":"[1]Data!E12","v":34.5},{"$f":"[1]Data!F12","v":46.039603960396036},{"$f":"[1]Data!G12","v":47.087378640776706},{"$f":"[1]Data!H12","v":62.254901960784309},{"$f":"[1]Data!I12","v":44.554455445544555},{"$f":"[1]Data!C12","v":"2004-07-01"},{"$f":"[1]Data!R12","v":56.896432581471934},{"$f":"[1]Data!S12","v":53.297095013546752},{"$f":"[1]Data!T12","v":65.250647014955916},{"$f":"[1]Data!U12","v":53.091416031092564},{"$f":"[1]Data!V12","v":58.643885415043727},{"$f":"[1]Data!W12","v":54.17901294876598},{"$f":"[1]Data!C12","v":"2004-07-01"},{"$f":"[1]Data!K12","v":41.75257731958763},{"$f":"[1]Data!L12","v":36.893203883495147},{"$f":"[1]Data!Y12","v":59.863875799405108},{"$f":"[1]Data!Z12","v":46.543323875623777},{"$f":"[1]Data!C12","v":"2004-07-01"},{"$f":"[1]Data!M12","v":40.099009900990097},{"$f":"[1]Data!AA12","v":60.835566073302815},{"$f":"[1]Data!N12","v":58},{"$f":"[1]Data!AB12","v":59.755815259656977},{"$f":"[1]Data!O12","v":34.5},{"$f":"[1]Data!AC12","v":43.851010348236734},{"$f":"[1]Data!P12","v":65.196078431372555},{"$f":"[1]Data!AD12","v":62.703140679402523}]
[null,{"$f":"[1]Data!C13","v":"2004-08-01"},{"$f":"[1]Data!D13","v":61.737988922478891},{"$f":"[1]Data!E13","v":67.35294117647058},{"$f":"[1]Data!F13","v":70.114942528735639},{"$f":"[1]Data!G13","v":50.867052023121389},{"$f":"[1]Data!H13","v":62.790697674418603},{"$f":"[1]Data!I13","v":57.267441860465112},{"$f":"[1]Data!C13","v":"2004-08-01"},{"$f":"[1]Data!R13","v":56.674202421076103},{"$f":"[1]Data!S13","v":59.29327908917567},{"$f":"[1]Data!T13","v":61.514252374181559},{"$f":"[1]Data!U13","v":49.896880438394312},{"$f":"[1]Data!V13","v":59.268760190294842},{"$f":"[1]Data!W13","v":54.730831796953744},{"$f":"[1]Data!C13","v":"2004-08-01"},{"$f":"[1]Data!K13","v":63.095238095238095},{"$f":"[1]Data!L13","v":56.645569620253163},{"$f":"[1]Data!Y13","v":57.091018640310395},{"$f":"[1]Data!Z13","v":52.293767620348284},{"$f":"[1]Data!C13","v":"2004-08-01"},{"$f":"[1]Data!M13","v":67.836257309941516},{"$f":"[1]Data!AA13","v":61.28246086892149},{"$f":"[1]Data!N13","v":68.497109826589593},{"$f":"[1]Data!AB13","v":66.911892432847182},{"$f":"[1]Data!O13","v":46.198830409356731},{"$f":"[1]Data!AC13","v":49.263772815928625},{"$f":"[1]Data!P13","v":73.699421965317924},{"$f":"[1]Data!AD13","v":71.631859789415913}]
[null,{"$f":"[1]Data!C14","v":"2004-09-01"},{"$f":"[1]Data!D14","v":60.297551074902287},{"$f":"[1]Data!E14","v":65.885416666666671},{"$f":"[1]Data!F14","v":63.28125},{"$f":"[1]Data!G14","v":57.7720207253886},{"$f":"[1]Data!H14","v":59.635416666666664},{"$f":"[1]Data!I14","v":56.578947368421048},{"$f":"[1]Data!C14","v":"2004-09-01"},{"$f":"[1]Data!R14","v":56.885875288360367},{"$f":"[1]Data!S14","v":60.631125447071149},{"$f":"[1]Data!T14","v":59.048466743605559},{"$f":"[1]Data!U14","v":52.504099104107382},{"$f":"[1]Data!V14","v":59.163018414405286},{"$f":"[1]Data!W14","v":53.617186794713568},{"$f":"[1]Data!C14","v":"2004-09-01"},{"$f":"[1]Data!K14","v":62.096774193548391},{"$f":"[1]Data!L14","v":52.513966480446925},{"$f":"[1]Data!Y14","v":56.356667307775517},{"$f":"[1]Data!Z14","v":49.917487900578429},{"$f":"[1]Data!C14","v":"2004-09-01"},{"$f":"[1]Data!M14","v":64.0625},{"$f":"[1]Data!AA14","v":59.517418414752044},{"$f":"[1]Data!N14","v":70.3125},{"$f":"[1]Data!AB14","v":69.807411287952789},{"$f":"[1]Data!O14","v":49.21875},{"$f":"[1]Data!AC14","v":48.706178094494874},{"$f":"[1]Data!P14","v":72.135416666666671},{"$f":"[1]Data!AD14","v":71.475605658465611}]
[null,{"$f":"[1]Data!C15","v":"2004-10-01"},{"$f":"[1]Data!D15","v":56.722146091276301},{"$f":"[1]Data!E15","v":58.791208791208788},{"$f":"[1]Data!F15","v":58.563535911602216},{"$f":"[1]Data!G15","v":53.846153846153847},{"$f":"[1]Data!H15","v":59.217877094972067},{"$f":"[1]Data!I15","v":51.966292134831463},{"$f":"[1]Data!C15","v":"2004-10-01"},{"$f":"[1]Data!R15","v":56.482986232165764},{"$f":"[1]Data!S15","v":58.132587713908372},{"$f":"[1]Data!T15","v":58.655463912213399},{"$f":"[1]Data!U15","v":52.06844906630959},{"$f":"[1]Data!V15","v":60.363866784265021},{"$f":"[1]Data!W15","v":51.150697008770166},{"$f":"[1]Data!C15","v":"2004-10-01"},{"$f":"[1]Data!K15","v":54.722222222222221},{"$f":"[1]Data!L15","v":55.357142857142861},{"$f":"[1]Data!Y15","v":54.522789965478978},{"$f":"[1]Data!Z15","v":53.709190394940457},{"$f":"[1]Data!C15","v":"2004-10-01"},{"$f":"[1]Data!M15","v":61.60220994475138},{"$f":"[1]Data!AA15","v":59.484431087402442},{"$f":"[1]Data!N15","v":71.823204419889507},{"$f":"[1]Data!AB15","v":70.2580584729821},{"$f":"[1]Data!O15","v":45.856353591160222},{"$f":"[1]Data!AC15","v":46.650135018555048},{"$f":"[1]Data!P15","v":68.508287292817684},{"$f":"[1]Data!AD15","v":71.706114563163254}]
[null,{"$f":"[1]Data!C16","v":"2004-11-01"},{"$f":"[1]Data!D16","v":53.450850286688826},{"$f":"[1]Data!E16","v":55.847953216374265},{"$f":"[1]Data!F16","v":52.325581395348834},{"$f":"[1]Data!G16","v":52.046783625730995},{"$f":"[1]Data!H16","v":56.470588235294116},{"$f":"[1]Data!I16","v":50.887573964497037},{"$f":"[1]Data!C16","v":"2004-11-01"},{"$f":"[1]Data!R16","v":54.595435926584443},{"$f":"[1]Data!S16","v":56.372651359866246},{"$f":"[1]Data!T16","v":55.398307040665294},{"$f":"[1]Data!U16","v":52.190387809675805},{"$f":"[1]Data!V16","v":57.470120632803528},{"$f":"[1]Data!W16","v":51.758146824373888},{"$f":"[1]Data!C16","v":"2004-11-01"},{"$f":"[1]Data!K16","v":50.292397660818715},{"$f":"[1]Data!L16","v":50.318471337579624},{"$f":"[1]Data!Y16","v":52.213120288952979},{"$f":"[1]Data!Z16","v":53.716438954456279},{"$f":"[1]Data!C16","v":"2004-11-01"},{"$f":"[1]Data!M16","v":57.602339181286553},{"$f":"[1]Data!AA16","v":57.79742065499088},{"$f":"[1]Data!N16","v":68.421052631578945},{"$f":"[1]Data!AB16","v":69.253549659274853},{"$f":"[1]Data!O16","v":44.444444444444443},{"$f":"[1]Data!AC16","v":45.192682809183161},{"$f":"[1]Data!P16","v":64.117647058823536},{"$f":"[1]Data!AD16","v":71.893794064562016}]
[null,{"$f":"[1]Data!C17","v":"2004-12-01"},{"$f":"[1]Data!D17","v":53.078087819060613},{"$f":"[1]Data!E17","v":54.775280898876403},{"$f":"[1]Data!F17","v":53.089887640449433},{"$f":"[1]Data!G17","v":50.558659217877093},{"$f":"[1]Data!H17","v":53.932584269662925},{"$f":"[1]Data!I17","v":47.44318181818182},{"$f":"[1]Data!C17","v":"2004-12-01"},{"$f":"[1]Data!R17","v":55.052131480751939},{"$f":"[1]Data!S17","v":56.347973551890597},{"$f":"[1]Data!T17","v":55.530396669169761},{"$f":"[1]Data!U17","v":54.061558870982054},{"$f":"[1]Data!V17","v":55.747229777421616},{"$f":"[1]Data!W17","v":48.683771487812812},{"$f":"[1]Data!C17","v":"2004-12-01"},{"$f":"[1]Data!K17","v":51.40449438202247},{"$f":"[1]Data!L17","v":52.121212121212125},{"$f":"[1]Data!Y17","v":53.038288610981496},{"$f":"[1]Data!Z17","v":53.330424515553297},{"$f":"[1]Data!C17","v":"2004-12-01"},{"$f":"[1]Data!M17","v":53.651685393258425},{"$f":"[1]Data!AA17","v":55.590624389324525},{"$f":"[1]Data!N17","v":63.559322033898312},{"$f":"[1]Data!AB17","v":63.817878258367173},{"$f":"[1]Data!O17","v":45.224719101123597},{"$f":"[1]Data!AC17","v":46.544655857824225},{"$f":"[1]Data!P17","v":69.774011299435031},{"$f":"[1]Data!AD17","v":70.164965222609126}]
[null,{"$f":"[1]Data!C18","v":"2005-01-01"},{"$f":"[1]Data!D18","v":51.92},{"$f":"[1]Data!E18","v":52.4},{"$f":"[1]Data!F18","v":53.6},{"$f":"[1]Data!G18","v":53},{"$f":"[1]Data!H18","v":50.6},{"$f":"[1]Data!I18","v":54.5},{"$f":"[1]Data!C18","v":"2005-01-01"},{"$f":"[1]Data!R18","v":55.910143950692813},{"$f":"[1]Data!S18","v":56.617896972189456},{"$f":"[1]Data!T18","v":58.712901505301687},{"$f":"[1]Data!U18","v":56.161794351581271},{"$f":"[1]Data!V18","v":54.97728042664658},{"$f":"[1]Data!W18","v":53.371516782582951},{"$f":"[1]Data!C18","v":"2005-01-01"},{"$f":"[1]Data!K18","v":54.623815818462219},{"$f":"[1]Data!L18","v":52.275883838383841},{"$f":"[1]Data!Y18","v":58.578285194717289},{"$f":"[1]Data!Z18","v":53.160214929997274},{"$f":"[1]Data!C18","v":"2005-01-01"},{"$f":"[1]Data!M18","v":56.237607402511571},{"$f":"[1]Data!AA18","v":56.672879096945167},{"$f":"[1]Data!N18","v":64.064429228869685},{"$f":"[1]Data!AB18","v":63.340787591646809},{"$f":"[1]Data!O18","v":49.073398511600757},{"$f":"[1]Data!AC18","v":47.584071860034577},{"$f":"[1]Data!P18","v":73.685706948418812},{"$f":"[1]Data!AD18","v":71.940382846920485}]
[null,{"$f":"[1]Data!C19","v":"2005-02-01"},{"$f":"[1]Data!D19","v":56.105096095134044},{"$f":"[1]Data!E19","v":58.766233766233768},{"$f":"[1]Data!F19","v":61.111111111111114},{"$f":"[1]Data!G19","v":52.27272727272728},{"$f":"[1]Data!H19","v":52.58064516129032},{"$f":"[1]Data!I19","v":52.614379084967318},{"$f":"[1]Data!C19","v":"2005-02-01"},{"$f":"[1]Data!R19","v":57.014060776741694},{"$f":"[1]Data!S19","v":59.660573801972269},{"$f":"[1]Data!T19","v":61.524265979821052},{"$f":"[1]Data!U19","v":53.373560066975294},{"$f":"[1]Data!V19","v":54.702336672017623},{"$f":"[1]Data!W19","v":52.384249818953926},{"$f":"[1]Data!C19","v":"2005-02-01"},{"$f":"[1]Data!K19","v":57.843137254901961},{"$f":"[1]Data!L19","v":52.430555555555557},{"$f":"[1]Data!Y19","v":58.485891063054964},{"$f":"[1]Data!Z19","v":52.542123562616347},{"$f":"[1]Data!C19","v":"2005-02-01"},{"$f":"[1]Data!M19","v":58.82352941176471},{"$f":"[1]Data!AA19","v":58.414206229479241},{"$f":"[1]Data!N19","v":64.569536423841058},{"$f":"[1]Data!AB19","v":67.611960443928524},{"$f":"[1]Data!O19","v":52.922077922077918},{"$f":"[1]Data!AC19","v":48.646400054935128},{"$f":"[1]Data!P19","v":77.597402597402592},{"$f":"[1]Data!AD19","v":77.469222464483352}]
[null,{"$f":"[1]Data!C20","v":"2005-03-01"},{"$f":"[1]Data!D20","v":58.829183006816855},{"$f":"[1]Data!E20","v":62.918660287081337},{"$f":"[1]Data!F20","v":66.097560975609753},{"$f":"[1]Data!G20","v":52.830188679245282},{"$f":"[1]Data!H20","v":51.201923076923073},{"$f":"[1]Data!I20","v":49.760765550239235},{"$f":"[1]Data!C20","v":"2005-03-01"},{"$f":"[1]Data!R20","v":57.626684985353926},{"$f":"[1]Data!S20","v":60.254311362088835},{"$f":"[1]Data!T20","v":63.070781058547709},{"$f":"[1]Data!U20","v":53.149959398188621},{"$f":"[1]Data!V20","v":52.905271792721685},{"$f":"[1]Data!W20","v":49.239098212785706},{"$f":"[1]Data!C20","v":"2005-03-01"},{"$f":"[1]Data!K20","v":61.616161616161612},{"$f":"[1]Data!L20","v":55},{"$f":"[1]Data!Y20","v":60.328798102393733},{"$f":"[1]Data!Z20","v":53.68950465474164},{"$f":"[1]Data!C20","v":"2005-03-01"},{"$f":"[1]Data!M20","v":65.071770334928232},{"$f":"[1]Data!AA20","v":62.627991495401787},{"$f":"[1]Data!N20","v":56.971153846153847},{"$f":"[1]Data!AB20","v":57.009524104132133},{"$f":"[1]Data!O20","v":51.196172248803833},{"$f":"[1]Data!AC20","v":47.658237287789518},{"$f":"[1]Data!P20","v":74.170616113744074},{"$f":"[1]Data!AD20","v":73.419550823199998}]
[null,{"$f":"[1]Data!C21","v":"2005-04-01"},{"$f":"[1]Data!D21","v":58.411496753527501},{"$f":"[1]Data!E21","v":64.018691588785046},{"$f":"[1]Data!F21","v":63.953488372093027},{"$f":"[1]Data!G21","v":53.686635944700463},{"$f":"[1]Data!H21","v":53.472222222222229},{"$f":"[1]Data!I21","v":55.373831775700936},{"$f":"[1]Data!C21","v":"2005-04-01"},{"$f":"[1]Data!R21","v":56.059194735469731},{"$f":"[1]Data!S21","v":60.03817734984586},{"$f":"[1]Data!T21","v":59.749490442825},{"$f":"[1]Data!U21","v":52.738634015993156},{"$f":"[1]Data!V21","v":52.589885345891773},{"$f":"[1]Data!W21","v":53.11406339921632},{"$f":"[1]Data!C21","v":"2005-04-01"},{"$f":"[1]Data!K21","v":61.848341232227483},{"$f":"[1]Data!L21","v":54.102564102564102},{"$f":"[1]Data!Y21","v":57.770036857332641},{"$f":"[1]Data!Z21","v":52.016932155812817},{"$f":"[1]Data!C21","v":"2005-04-01"},{"$f":"[1]Data!M21","v":60.046728971962622},{"$f":"[1]Data!AA21","v":58.033016342966185},{"$f":"[1]Data!N21","v":55.140186915887853},{"$f":"[1]Data!AB21","v":54.629721785410467},{"$f":"[1]Data!O21","v":55.324074074074076},{"$f":"[1]Data!AC21","v":52.854833012528928},{"$f":"[1]Data!P21","v":68.663594470046093},{"$f":"[1]Data!AD21","v":67.181676716038723}]
[null,{"$f":"[1]Data!C22","v":"2005-05-01"},{"$f":"[1]Data!D22","v":59.853597060833899},{"$f":"[1]Data!E22","v":63.095238095238095},{"$f":"[1]Data!F22","v":66.267942583732065},{"$f":"[1]Data!G22","v":55.238095238095234},{"$f":"[1]Data!H22","v":56.25},{"$f":"[1]Data!I22","v":52.857142857142861},{"$f":"[1]Data!C22","v":"2005-05-01"},{"$f":"[1]Data!R22","v":56.575446899353679},{"$f":"[1]Data!S22","v":59.15077438149941},{"$f":"[1]Data!T22","v":61.408301751375539},{"$f":"[1]Data!U22","v":53.082910987327445},{"$f":"[1]Data!V22","v":53.728753437225727},{"$f":"[1]Data!W22","v":53.106324344831918},{"$f":"[1]Data!C22","v":"2005-05-01"},{"$f":"[1]Data!K22","v":62.926829268292678},{"$f":"[1]Data!L22","v":51.785714285714285},{"$f":"[1]Data!Y22","v":59.112412934509727},{"$f":"[1]Data!Z22","v":51.294573274096578},{"$f":"[1]Data!C22","v":"2005-05-01"},{"$f":"[1]Data!M22","v":63.70192307692308},{"$f":"[1]Data!AA22","v":61.549178462333344},{"$f":"[1]Data!N22","v":54.523809523809526},{"$f":"[1]Data!AB22","v":54.093989048153212},{"$f":"[1]Data!O22","v":48.792270531400966},{"$f":"[1]Data!AC22","v":48.125557711444152},{"$f":"[1]Data!P22","v":71.327014218009481},{"$f":"[1]Data!AD22","v":69.44803949172784}]
[null,{"$f":"[1]Data!C23","v":"2005-06-01"},{"$f":"[1]Data!D23","v":59.531049010761343},{"$f":"[1]Data!E23","v":60.804020100502512},{"$f":"[1]Data!F23","v":64.321608040200999},{"$f":"[1]Data!G23","v":58.706467661691548},{"$f":"[1]Data!H23","v":57},{"$f":"[1]Data!I23","v":52.577319587628864},{"$f":"[1]Data!C23","v":"2005-06-01"},{"$f":"[1]Data!R23","v":56.339327243547558},{"$f":"[1]Data!S23","v":56.824143690221582},{"$f":"[1]Data!T23","v":59.253718962807874},{"$f":"[1]Data!U23","v":56.017347087415246},{"$f":"[1]Data!V23","v":55.247174839432233},{"$f":"[1]Data!W23","v":51.333700112480777},{"$f":"[1]Data!C23","v":"2005-06-01"},{"$f":"[1]Data!K23","v":61.479591836734699},{"$f":"[1]Data!L23","v":57.446808510638299},{"$f":"[1]Data!Y23","v":56.450353813827718},{"$f":"[1]Data!Z23","v":53.800599730332408},{"$f":"[1]Data!C23","v":"2005-06-01"},{"$f":"[1]Data!M23","v":59.798994974874375},{"$f":"[1]Data!AA23","v":56.928341390917851},{"$f":"[1]Data!N23","v":52.777777777777786},{"$f":"[1]Data!AB23","v":52.143541636291154},{"$f":"[1]Data!O23","v":52.020202020202021},{"$f":"[1]Data!AC23","v":49.011866538362618},{"$f":"[1]Data!P23","v":69.402985074626855},{"$f":"[1]Data!AD23","v":69.718615583848461}]
[null,{"$f":"[1]Data!C24","v":"2005-07-01"},{"$f":"[1]Data!D24","v":47.847902097902107},{"$f":"[1]Data!E24","v":40.151515151515156},{"$f":"[1]Data!F24","v":42.307692307692307},{"$f":"[1]Data!G24","v":49.242424242424235},{"$f":"[1]Data!H24","v":62.307692307692307},{"$f":"[1]Data!I24","v":40.769230769230766},{"$f":"[1]Data!C24","v":"2005-07-01"},{"$f":"[1]Data!R24","v":58.367644243507009},{"$f":"[1]Data!S24","v":61.772081418772814},{"$f":"[1]Data!T24","v":59.76795842080972},{"$f":"[1]Data!U24","v":55.580624548239079},{"$f":"[1]Data!V24","v":58.769788873642341},{"$f":"[1]Data!W24","v":49.373568781232748},{"$f":"[1]Data!C24","v":"2005-07-01"},{"$f":"[1]Data!K24","v":36.36363636363636},{"$f":"[1]Data!L24","v":42.372881355932208},{"$f":"[1]Data!Y24","v":52.215711778909032},{"$f":"[1]Data!Z24","v":53.076296095917961},{"$f":"[1]Data!C24","v":"2005-07-01"},{"$f":"[1]Data!M24","v":39.393939393939391},{"$f":"[1]Data!AA24","v":59.60044524620087},{"$f":"[1]Data!N24","v":54.545454545454547},{"$f":"[1]Data!AB24","v":55.855988272492979},{"$f":"[1]Data!O24","v":38.46153846153846},{"$f":"[1]Data!AC24","v":48.379142564031746},{"$f":"[1]Data!P24","v":70.454545454545453},{"$f":"[1]Data!AD24","v":67.373267993058818}]
[null,{"$f":"[1]Data!C25","v":"2005-08-01"},{"$f":"[1]Data!D25","v":61.208316676558233},{"$f":"[1]Data!E25","v":67.287234042553195},{"$f":"[1]Data!F25","v":67.819148936170222},{"$f":"[1]Data!G25","v":54.521276595744681},{"$f":"[1]Data!H25","v":57.486631016042779},{"$f":"[1]Data!I25","v":54.86486486486487},{"$f":"[1]Data!C25","v":"2005-08-01"},{"$f":"[1]Data!R25","v":56.107545371461647},{"$f":"[1]Data!S25","v":59.020756283134766},{"$f":"[1]Data!T25","v":59.566852706070854},{"$f":"[1]Data!U25","v":52.901067727125266},{"$f":"[1]Data!V25","v":54.339412341209396},{"$f":"[1]Data!W25","v":52.488249077497585},{"$f":"[1]Data!C25","v":"2005-08-01"},{"$f":"[1]Data!K25","v":64.171122994652407},{"$f":"[1]Data!L25","v":55.337078651685388},{"$f":"[1]Data!Y25","v":57.963674465833428},{"$f":"[1]Data!Z25","v":50.905641394253024},{"$f":"[1]Data!C25","v":"2005-08-01"},{"$f":"[1]Data!M25","v":63.172043010752688},{"$f":"[1]Data!AA25","v":56.827634975688333},{"$f":"[1]Data!N25","v":58.378378378378379},{"$f":"[1]Data!AB25","v":56.809198259472957},{"$f":"[1]Data!O25","v":41.351351351351354},{"$f":"[1]Data!AC25","v":43.919906289195197},{"$f":"[1]Data!P25","v":70.370370370370367},{"$f":"[1]Data!AD25","v":68.293210886055348}]
[null,{"$f":"[1]Data!C26","v":"2005-09-01"},{"$f":"[1]Data!D26","v":62.242988435299559},{"$f":"[1]Data!E26","v":64.945652173913047},{"$f":"[1]Data!F26","v":69.398907103825138},{"$f":"[1]Data!G26","v":60.989010989010993},{"$f":"[1]Data!H26","v":56.557377049180324},{"$f":"[1]Data!I26","v":54.945054945054949},{"$f":"[1]Data!C26","v":"2005-09-01"},{"$f":"[1]Data!R26","v":58.794066772080079},{"$f":"[1]Data!S26","v":60.059925881117024},{"$f":"[1]Data!T26","v":64.625706362638951},{"$f":"[1]Data!U26","v":55.734480435332571},{"$f":"[1]Data!V26","v":56.226418433666879},{"$f":"[1]Data!W26","v":51.894854591074086},{"$f":"[1]Data!C26","v":"2005-09-01"},{"$f":"[1]Data!K26","v":67.679558011049721},{"$f":"[1]Data!L26","v":58.479532163742689},{"$f":"[1]Data!Y26","v":61.508925677203877},{"$f":"[1]Data!Z26","v":55.418075294781374},{"$f":"[1]Data!C26","v":"2005-09-01"},{"$f":"[1]Data!M26","v":65.659340659340657},{"$f":"[1]Data!AA26","v":60.918331906200372},{"$f":"[1]Data!N26","v":57.923497267759565},{"$f":"[1]Data!AB26","v":57.439117850597647},{"$f":"[1]Data!O26","v":48.07692307692308},{"$f":"[1]Data!AC26","v":47.722711565188987},{"$f":"[1]Data!P26","v":71.311475409836063},{"$f":"[1]Data!AD26","v":70.554350502014458}]
[null,{"$f":"[1]Data!C27","v":"2005-10-01"},{"$f":"[1]Data!D27","v":57.487542355989639},{"$f":"[1]Data!E27","v":60.919540229885058},{"$f":"[1]Data!F27","v":60.404624277456648},{"$f":"[1]Data!G27","v":55.747126436781613},{"$f":"[1]Data!H27","v":55.172413793103445},{"$f":"[1]Data!I27","v":52.890173410404621},{"$f":"[1]Data!C27","v":"2005-10-01"},{"$f":"[1]Data!R27","v":57.233924745151441},{"$f":"[1]Data!S27","v":60.176439553534784},{"$f":"[1]Data!T27","v":60.716447349770789},{"$f":"[1]Data!U27","v":53.62229401014995},{"$f":"[1]Data!V27","v":56.218651549255391},{"$f":"[1]Data!W27","v":51.823758825817983},{"$f":"[1]Data!C27","v":"2005-10-01"},{"$f":"[1]Data!K27","v":60.946745562130175},{"$f":"[1]Data!L27","v":51.226993865030678},{"$f":"[1]Data!Y27","v":60.81254307091325},{"$f":"[1]Data!Z27","v":49.781608476879967},{"$f":"[1]Data!C27","v":"2005-10-01"},{"$f":"[1]Data!M27","v":58.857142857142854},{"$f":"[1]Data!AA27","v":56.46802481485097},{"$f":"[1]Data!N27","v":56.358381502890168},{"$f":"[1]Data!AB27","v":55.279808249452358},{"$f":"[1]Data!O27","v":45.95375722543352},{"$f":"[1]Data!AC27","v":46.38614618415253},{"$f":"[1]Data!P27","v":68.103448275862064},{"$f":"[1]Data!AD27","v":71.636083341333872}]
[null,{"$f":"[1]Data!C28","v":"2005-11-01"},{"$f":"[1]Data!D28","v":58.521957653097601},{"$f":"[1]Data!E28","v":61.538461538461533},{"$f":"[1]Data!F28","v":62.5},{"$f":"[1]Data!G28","v":56.25},{"$f":"[1]Data!H28","v":56.024096385542165},{"$f":"[1]Data!I28","v":52.662721893491124},{"$f":"[1]Data!C28","v":"2005-11-01"},{"$f":"[1]Data!R28","v":60.125667193438019},{"$f":"[1]Data!S28","v":62.373304894637279},{"$f":"[1]Data!T28","v":66.756535252506083},{"$f":"[1]Data!U28","v":56.491062997196778},{"$f":"[1]Data!V28","v":57.247706926662048},{"$f":"[1]Data!W28","v":53.79988244411792},{"$f":"[1]Data!C28","v":"2005-11-01"},{"$f":"[1]Data!K28","v":62.048192771084331},{"$f":"[1]Data!L28","v":54.777070063694268},{"$f":"[1]Data!Y28","v":64.786532812305808},{"$f":"[1]Data!Z28","v":58.517158012788578},{"$f":"[1]Data!C28","v":"2005-11-01"},{"$f":"[1]Data!M28","v":60.946745562130175},{"$f":"[1]Data!AA28","v":61.757181872221743},{"$f":"[1]Data!N28","v":59.523809523809526},{"$f":"[1]Data!AB28","v":60.557528829838553},{"$f":"[1]Data!O28","v":46.726190476190482},{"$f":"[1]Data!AC28","v":47.581204195920819},{"$f":"[1]Data!P28","v":68.75},{"$f":"[1]Data!AD28","v":77.400065137732085}]
[null,{"$f":"[1]Data!C29","v":"2005-12-01"},{"$f":"[1]Data!D29","v":57.850866695862059},{"$f":"[1]Data!E29","v":60.769230769230766},{"$f":"[1]Data!F29","v":61.871301775147927},{"$f":"[1]Data!G29","v":54.464285714285715},{"$f":"[1]Data!H29","v":56.174698795180724},{"$f":"[1]Data!I29","v":52.218934911242606},{"$f":"[1]Data!C29","v":"2005-12-01"},{"$f":"[1]Data!R29","v":60.221656495192683},{"$f":"[1]Data!S29","v":62.947995784445524},{"$f":"[1]Data!T29","v":64.884720191120792},{"$f":"[1]Data!U29","v":58.424680354131524},{"$f":"[1]Data!V29","v":58.05295821880101},{"$f":"[1]Data!W29","v":53.736383119013936},{"$f":"[1]Data!C29","v":"2005-12-01"},{"$f":"[1]Data!K29","v":60.542168674698793},{"$f":"[1]Data!L29","v":53.337902120454729},{"$f":"[1]Data!Y29","v":62.680243360808085},{"$f":"[1]Data!Z29","v":54.883698148823996},{"$f":"[1]Data!C29","v":"2005-12-01"},{"$f":"[1]Data!M29","v":60.650887573964496},{"$f":"[1]Data!AA29","v":62.990904731359187},{"$f":"[1]Data!N29","v":62.351190476190482},{"$f":"[1]Data!AB29","v":63.125345870178577},{"$f":"[1]Data!O29","v":48.06547619047619},{"$f":"[1]Data!AC29","v":49.659410197427391},{"$f":"[1]Data!P29","v":72.316176470588232},{"$f":"[1]Data!AD29","v":72.756814919722572}]
[null,{"$f":"[1]Data!C30","v":"2006-01-01"},{"$f":"[1]Data!D30","v":57.179775738626525},{"$f":"[1]Data!E30","v":60},{"$f":"[1]Data!F30","v":61.242603550295854},{"$f":"[1]Data!G30","v":52.678571428571431},{"$f":"[1]Data!H30","v":56.325301204819283},{"$f":"[1]Data!I30","v":51.775147928994087},{"$f":"[1]Data!C30","v":"2006-01-01"},{"$f":"[1]Data!R30","v":61.638888663232024},{"$f":"[1]Data!S30","v":64.759922054868539},{"$f":"[1]Data!T30","v":67.240492388826581},{"$f":"[1]Data!U30","v":56.034812038551536},{"$f":"[1]Data!V30","v":61.171754175693074},{"$f":"[1]Data!W30","v":51.059651011973571},{"$f":"[1]Data!C30","v":"2006-01-01"},{"$f":"[1]Data!K30","v":59.036144578313255},{"$f":"[1]Data!L30","v":51.898734177215189},{"$f":"[1]Data!Y30","v":63.640782517299208},{"$f":"[1]Data!Z30","v":52.79739856899765},{"$f":"[1]Data!C30","v":"2006-01-01"},{"$f":"[1]Data!M30","v":60.355029585798817},{"$f":"[1]Data!AA30","v":60.962349378331595},{"$f":"[1]Data!N30","v":65.178571428571431},{"$f":"[1]Data!AB30","v":64.95657759027425},{"$f":"[1]Data!O30","v":49.404761904761905},{"$f":"[1]Data!AC30","v":47.704452442438196},{"$f":"[1]Data!P30","v":75.882352941176464},{"$f":"[1]Data!AD30","v":74.499924219381484}]
[null,{"$f":"[1]Data!C31","v":"2006-02-01"},{"$f":"[1]Data!D31","v":58.271766586437892},{"$f":"[1]Data!E31","v":58.843537414965986},{"$f":"[1]Data!F31","v":60.544217687074834},{"$f":"[1]Data!G31","v":59.395973154362416},{"$f":"[1]Data!H31","v":57.931034482758619},{"$f":"[1]Data!I31","v":51.712328767123289},{"$f":"[1]Data!C31","v":"2006-02-01"},{"$f":"[1]Data!R31","v":59.449049548136905},{"$f":"[1]Data!S31","v":59.850568180542169},{"$f":"[1]Data!T31","v":61.467789201545017},{"$f":"[1]Data!U31","v":60.692376013836579},{"$f":"[1]Data!V31","v":60.246173945588815},{"$f":"[1]Data!W31","v":51.293305520677798},{"$f":"[1]Data!C31","v":"2006-02-01"},{"$f":"[1]Data!K31","v":58.965517241379317},{"$f":"[1]Data!L31","v":55.79710144927536},{"$f":"[1]Data!Y31","v":59.90577439812639},{"$f":"[1]Data!Z31","v":56.289311511656067},{"$f":"[1]Data!C31","v":"2006-02-01"},{"$f":"[1]Data!M31","v":62.162162162162161},{"$f":"[1]Data!AA31","v":61.997810308150846},{"$f":"[1]Data!N31","v":62.328767123287676},{"$f":"[1]Data!AB31","v":65.447915682982384},{"$f":"[1]Data!O31","v":50.342465753424662},{"$f":"[1]Data!AC31","v":46.263228073755684},{"$f":"[1]Data!P31","v":72.818791946308721},{"$f":"[1]Data!AD31","v":73.087951396233848}]
[null,{"$f":"[1]Data!C32","v":"2006-03-01"},{"$f":"[1]Data!D32","v":59.267912595622207},{"$f":"[1]Data!E32","v":62.883435582822088},{"$f":"[1]Data!F32","v":61.963190184049083},{"$f":"[1]Data!G32","v":57.098765432098759},{"$f":"[1]Data!H32","v":58.588957055214721},{"$f":"[1]Data!I32","v":52.5},{"$f":"[1]Data!C32","v":"2006-03-01"},{"$f":"[1]Data!R32","v":58.330361958410251},{"$f":"[1]Data!S32","v":60.578477859276923},{"$f":"[1]Data!T32","v":59.22880826326449},{"$f":"[1]Data!U32","v":57.51264234526564},{"$f":"[1]Data!V32","v":60.548153945751054},{"$f":"[1]Data!W32","v":51.676515463041142},{"$f":"[1]Data!C32","v":"2006-03-01"},{"$f":"[1]Data!K32","v":56.481481481481481},{"$f":"[1]Data!L32","v":56.25},{"$f":"[1]Data!Y32","v":55.636807178973434},{"$f":"[1]Data!Z32","v":55.205918784921813},{"$f":"[1]Data!C32","v":"2006-03-01"},{"$f":"[1]Data!M32","v":61.111111111111114},{"$f":"[1]Data!AA32","v":59.263796352376758},{"$f":"[1]Data!N32","v":65.740740740740748},{"$f":"[1]Data!AB32","v":66.075821577274908},{"$f":"[1]Data!O32","v":50.308641975308646},{"$f":"[1]Data!AC32","v":46.569362087913611},{"$f":"[1]Data!P32","v":73.006134969325146},{"$f":"[1]Data!AD32","v":72.774869566849247}]
[null,{"$f":"[1]Data!C33","v":"2006-04-01"},{"$f":"[1]Data!D33","v":60.760957817056507},{"$f":"[1]Data!E33","v":62.797619047619051},{"$f":"[1]Data!F33","v":63.69047619047619},{"$f":"[1]Data!G33","v":59.281437125748504},{"$f":"[1]Data!H33","v":61.676646706586823},{"$f":"[1]Data!I33","v":51.533742331288344},{"$f":"[1]Data!C33","v":"2006-04-01"},{"$f":"[1]Data!R33","v":58.148663136123119},{"$f":"[1]Data!S33","v":58.67228474176023},{"$f":"[1]Data!T33","v":58.853258065028157},{"$f":"[1]Data!U33","v":58.514536434449774},{"$f":"[1]Data!V33","v":60.38294786333956},{"$f":"[1]Data!W33","v":49.357349352162693},{"$f":"[1]Data!C33","v":"2006-04-01"},{"$f":"[1]Data!K33","v":62.727272727272727},{"$f":"[1]Data!L33","v":52.243589743589737},{"$f":"[1]Data!Y33","v":58.363257998100721},{"$f":"[1]Data!Z33","v":50.292429082159359},{"$f":"[1]Data!C33","v":"2006-04-01"},{"$f":"[1]Data!M33","v":60.11904761904762},{"$f":"[1]Data!AA33","v":58.137282104039308},{"$f":"[1]Data!N33","v":66.167664670658681},{"$f":"[1]Data!AB33","v":65.562562154326159},{"$f":"[1]Data!O33","v":50.898203592814369},{"$f":"[1]Data!AC33","v":49.061144366470607},{"$f":"[1]Data!P33","v":73.80952380952381},{"$f":"[1]Data!AD33","v":71.505296670347718}]
[null,{"$f":"[1]Data!C34","v":"2006-05-01"},{"$f":"[1]Data!D34","v":62.77771990514676},{"$f":"[1]Data!E34","v":63.664596273291927},{"$f":"[1]Data!F34","v":66.666666666666671},{"$f":"[1]Data!G34","v":61.419753086419746},{"$f":"[1]Data!H34","v":65.527950310559007},{"$f":"[1]Data!I34","v":52.515723270440255},{"$f":"[1]Data!C34","v":"2006-05-01"},{"$f":"[1]Data!R34","v":58.900509095313303},{"$f":"[1]Data!S34","v":58.810709887597739},{"$f":"[1]Data!T34","v":60.92469093361121},{"$f":"[1]Data!U34","v":59.115000335176106},{"$f":"[1]Data!V34","v":62.61250767404487},{"$f":"[1]Data!W34","v":52.944518748114476},{"$f":"[1]Data!C34","v":"2006-05-01"},{"$f":"[1]Data!K34","v":64.15094339622641},{"$f":"[1]Data!L34","v":55.743243243243242},{"$f":"[1]Data!Y34","v":59.358340725239863},{"$f":"[1]Data!Z34","v":54.837366264743302},{"$f":"[1]Data!C34","v":"2006-05-01"},{"$f":"[1]Data!M34","v":62.893081761006286},{"$f":"[1]Data!AA34","v":60.258760168951156},{"$f":"[1]Data!N34","v":66.875},{"$f":"[1]Data!AB34","v":66.095945013022757},{"$f":"[1]Data!O34","v":49.689440993788821},{"$f":"[1]Data!AC34","v":49.297824322098663},{"$f":"[1]Data!P34","v":74.074074074074076},{"$f":"[1]Data!AD34","v":71.888695114717308}]
[null,{"$f":"[1]Data!C35","v":"2006-06-01"},{"$f":"[1]Data!D35","v":64.865161782108089},{"$f":"[1]Data!E35","v":67.449664429530202},{"$f":"[1]Data!F35","v":70.270270270270274},{"$f":"[1]Data!G35","v":63.087248322147659},{"$f":"[1]Data!H35","v":65.202702702702709},{"$f":"[1]Data!I35","v":54.761904761904759},{"$f":"[1]Data!C35","v":"2006-06-01"},{"$f":"[1]Data!R35","v":61.107251680542731},{"$f":"[1]Data!S35","v":62.94311071929927},{"$f":"[1]Data!T35","v":64.401273849591874},{"$f":"[1]Data!U35","v":59.90004700451923},{"$f":"[1]Data!V35","v":62.821854136702306},{"$f":"[1]Data!W35","v":53.521956755688365},{"$f":"[1]Data!C35","v":"2006-06-01"},{"$f":"[1]Data!K35","v":67.006802721088434},{"$f":"[1]Data!L35","v":60.431654676258994},{"$f":"[1]Data!Y35","v":60.71187834344272},{"$f":"[1]Data!Z35","v":56.618399883725822},{"$f":"[1]Data!C35","v":"2006-06-01"},{"$f":"[1]Data!M35","v":66.107382550335572},{"$f":"[1]Data!AA35","v":62.680927619474176},{"$f":"[1]Data!N35","v":66.891891891891902},{"$f":"[1]Data!AB35","v":65.184481150441684},{"$f":"[1]Data!O35","v":51.689189189189193},{"$f":"[1]Data!AC35","v":49.386360385113427},{"$f":"[1]Data!P35","v":72.818791946308721},{"$f":"[1]Data!AD35","v":72.649466638378883}]
[null,{"$f":"[1]Data!C36","v":"2006-07-01"},{"$f":"[1]Data!D36","v":46.286617056461147},{"$f":"[1]Data!E36","v":32.142857142857146},{"$f":"[1]Data!F36","v":40.476190476190474},{"$f":"[1]Data!G36","v":51.19047619047619},{"$f":"[1]Data!H36","v":67.64705882352942},{"$f":"[1]Data!I36","v":42.771084337349393},{"$f":"[1]Data!C36","v":"2006-07-01"},{"$f":"[1]Data!R36","v":55.202015163894636},{"$f":"[1]Data!S36","v":48.809074819078376},{"$f":"[1]Data!T36","v":56.739442821596938},{"$f":"[1]Data!U36","v":57.703848527051044},{"$f":"[1]Data!V36","v":63.81021859601568},{"$f":"[1]Data!W36","v":51.343888821665963},{"$f":"[1]Data!C36","v":"2006-07-01"},{"$f":"[1]Data!K36","v":38.69047619047619},{"$f":"[1]Data!L36","v":44.078947368421055},{"$f":"[1]Data!Y36","v":55.28345367566439},{"$f":"[1]Data!Z36","v":54.320286755962584},{"$f":"[1]Data!C36","v":"2006-07-01"},{"$f":"[1]Data!M36","v":39.759036144578317},{"$f":"[1]Data!AA36","v":59.388503344025445},{"$f":"[1]Data!N36","v":61.764705882352942},{"$f":"[1]Data!AB36","v":62.456802744816883},{"$f":"[1]Data!O36","v":38.235294117647058},{"$f":"[1]Data!AC36","v":47.021110466157474},{"$f":"[1]Data!P36","v":78.235294117647058},{"$f":"[1]Data!AD36","v":73.927109978371746}]
[null,{"$f":"[1]Data!C37","v":"2006-08-01"},{"$f":"[1]Data!D37","v":67.535904712762289},{"$f":"[1]Data!E37","v":69.93464052287581},{"$f":"[1]Data!F37","v":74.183006535947712},{"$f":"[1]Data!G37","v":62.171052631578945},{"$f":"[1]Data!H37","v":70.39473684210526},{"$f":"[1]Data!I37","v":51.96078431372549},{"$f":"[1]Data!C37","v":"2006-08-01"},{"$f":"[1]Data!R37","v":61.894000953488614},{"$f":"[1]Data!S37","v":61.343048406812635},{"$f":"[1]Data!T37","v":65.519048628044132},{"$f":"[1]Data!U37","v":59.189595309250294},{"$f":"[1]Data!V37","v":66.884521999259945},{"$f":"[1]Data!W37","v":49.680730983668397},{"$f":"[1]Data!C37","v":"2006-08-01"},{"$f":"[1]Data!K37","v":66.225165562913915},{"$f":"[1]Data!L37","v":63.448275862068968},{"$f":"[1]Data!Y37","v":59.952151251511026},{"$f":"[1]Data!Z37","v":58.132859336786041},{"$f":"[1]Data!C37","v":"2006-08-01"},{"$f":"[1]Data!M37","v":69.281045751633997},{"$f":"[1]Data!AA37","v":62.049606031737149},{"$f":"[1]Data!N37","v":69.73684210526315},{"$f":"[1]Data!AB37","v":67.15964126977714},{"$f":"[1]Data!O37","v":43.75},{"$f":"[1]Data!AC37","v":46.199980885259187},{"$f":"[1]Data!P37","v":75.65789473684211},{"$f":"[1]Data!AD37","v":73.468176926471457}]
[null,{"$f":"[1]Data!C38","v":"2006-09-01"},{"$f":"[1]Data!D38","v":64.933796034209706},{"$f":"[1]Data!E38","v":67.43421052631578},{"$f":"[1]Data!F38","v":66.442953020134226},{"$f":"[1]Data!G38","v":67.21854304635761},{"$f":"[1]Data!H38","v":66.44736842105263},{"$f":"[1]Data!I38","v":52.68456375838926},{"$f":"[1]Data!C38","v":"2006-09-01"},{"$f":"[1]Data!R38","v":61.659107980720741},{"$f":"[1]Data!S38","v":62.948104289679961},{"$f":"[1]Data!T38","v":61.935245853536266},{"$f":"[1]Data!U38","v":62.140710283273201},{"$f":"[1]Data!V38","v":66.030464608585618},{"$f":"[1]Data!W38","v":49.912035957026077},{"$f":"[1]Data!C38","v":"2006-09-01"},{"$f":"[1]Data!K38","v":65.202702702702709},{"$f":"[1]Data!L38","v":57.608695652173921},{"$f":"[1]Data!Y38","v":59.580267645701667},{"$f":"[1]Data!Z38","v":54.270004168942783},{"$f":"[1]Data!C38","v":"2006-09-01"},{"$f":"[1]Data!M38","v":63.851351351351354},{"$f":"[1]Data!AA38","v":59.200949010383113},{"$f":"[1]Data!N38","v":67.687074829931973},{"$f":"[1]Data!AB38","v":66.848083394091589},{"$f":"[1]Data!O38","v":46.688741721854299},{"$f":"[1]Data!AC38","v":46.906762758173556},{"$f":"[1]Data!P38","v":73.178807947019862},{"$f":"[1]Data!AD38","v":72.409777761776169}]
[null,{"$f":"[1]Data!C39","v":"2006-10-01"},{"$f":"[1]Data!D39","v":63.033135549921433},{"$f":"[1]Data!E39","v":64.625850340136054},{"$f":"[1]Data!F39","v":65.753424657534254},{"$f":"[1]Data!G39","v":63.698630136986296},{"$f":"[1]Data!H39","v":65.517241379310349},{"$f":"[1]Data!I39","v":54.166666666666664},{"$f":"[1]Data!C39","v":"2006-10-01"},{"$f":"[1]Data!R39","v":63.032628696245261},{"$f":"[1]Data!S39","v":64.148842972636757},{"$f":"[1]Data!T39","v":66.926877936399606},{"$f":"[1]Data!U39","v":60.942734196907836},{"$f":"[1]Data!V39","v":66.905072591076234},{"$f":"[1]Data!W39","v":53.069531558768148},{"$f":"[1]Data!C39","v":"2006-10-01"},{"$f":"[1]Data!K39","v":61.971830985915496},{"$f":"[1]Data!L39","v":58.208955223880594},{"$f":"[1]Data!Y39","v":62.307291916013618},{"$f":"[1]Data!Z39","v":56.958574274539671},{"$f":"[1]Data!C39","v":"2006-10-01"},{"$f":"[1]Data!M39","v":66.095890410958901},{"$f":"[1]Data!AA39","v":63.257970236842532},{"$f":"[1]Data!N39","v":70.689655172413794},{"$f":"[1]Data!AB39","v":69.972985112218936},{"$f":"[1]Data!O39","v":46.896551724137936},{"$f":"[1]Data!AC39","v":46.872967659515787},{"$f":"[1]Data!P39","v":69.863013698630141},{"$f":"[1]Data!AD39","v":74.244648116269019}]
[null,{"$f":"[1]Data!C40","v":"2006-11-01"},{"$f":"[1]Data!D40","v":62.262293875222795},{"$f":"[1]Data!E40","v":65.064102564102569},{"$f":"[1]Data!F40","v":62.258064516129032},{"$f":"[1]Data!G40","v":62.179487179487182},{"$f":"[1]Data!H40","v":67.834394904458605},{"$f":"[1]Data!I40","v":52.922077922077925},{"$f":"[1]Data!C40","v":"2006-11-01"},{"$f":"[1]Data!R40","v":64.226880843021291},{"$f":"[1]Data!S40","v":66.395429153487243},{"$f":"[1]Data!T40","v":66.93679904492528},{"$f":"[1]Data!U40","v":62.55698997946245},{"$f":"[1]Data!V40","v":69.761198175332552},{"$f":"[1]Data!W40","v":54.285938810204875},{"$f":"[1]Data!C40","v":"2006-11-01"},{"$f":"[1]Data!K40","v":60.57692307692308},{"$f":"[1]Data!L40","v":50.342465753424662},{"$f":"[1]Data!Y40","v":63.419986292065254},{"$f":"[1]Data!Z40","v":53.966476309470593},{"$f":"[1]Data!C40","v":"2006-11-01"},{"$f":"[1]Data!M40","v":64.610389610389618},{"$f":"[1]Data!AA40","v":66.595884288942727},{"$f":"[1]Data!N40","v":65.806451612903231},{"$f":"[1]Data!AB40","v":67.640761809261861},{"$f":"[1]Data!O40","v":48.726114649681534},{"$f":"[1]Data!AC40","v":49.485787970885923},{"$f":"[1]Data!P40","v":66.129032258064512},{"$f":"[1]Data!AD40","v":74.935464969248187}]
[null,{"$f":"[1]Data!C41","v":"2006-12-01"},{"$f":"[1]Data!D41","v":59.126615874435643},{"$f":"[1]Data!E41","v":63.07692307692308},{"$f":"[1]Data!F41","v":64.728682170542641},{"$f":"[1]Data!G41","v":47.65625},{"$f":"[1]Data!H41","v":65.891472868217051},{"$f":"[1]Data!I41","v":54.761904761904759},{"$f":"[1]Data!C41","v":"2006-12-01"},{"$f":"[1]Data!R41","v":61.637062504070357},{"$f":"[1]Data!S41","v":65.854423231660405},{"$f":"[1]Data!T41","v":67.895175678272267},{"$f":"[1]Data!U41","v":51.28970840863883},{"$f":"[1]Data!V41","v":68.028548119198817},{"$f":"[1]Data!W41","v":56.57319906934017},{"$f":"[1]Data!C41","v":"2006-12-01"},{"$f":"[1]Data!K41","v":62.698412698412696},{"$f":"[1]Data!L41","v":54.621848739495803},{"$f":"[1]Data!Y41","v":65.110370621377982},{"$f":"[1]Data!Z41","v":56.600406693461757},{"$f":"[1]Data!C41","v":"2006-12-01"},{"$f":"[1]Data!M41","v":62.8},{"$f":"[1]Data!AA41","v":65.29635503898507},{"$f":"[1]Data!N41","v":68.75},{"$f":"[1]Data!AB41","v":70.50301581015043},{"$f":"[1]Data!O41","v":47.65625},{"$f":"[1]Data!AC41","v":49.574601926956319},{"$f":"[1]Data!P41","v":72.047244094488192},{"$f":"[1]Data!AD41","v":72.425041697271311}]
[null,{"$f":"[1]Data!C42","v":"2007-01-01"},{"$f":"[1]Data!D42","v":54.327500000000001},{"$f":"[1]Data!E42","v":56.9},{"$f":"[1]Data!F42","v":54.75},{"$f":"[1]Data!G42","v":58.5},{"$f":"[1]Data!H42","v":61.95},{"$f":"[1]Data!I42","v":73.150000000000006},{"$f":"[1]Data!C42","v":"2007-01-01"},{"$f":"[1]Data!R42","v":58.635306487708831},{"$f":"[1]Data!S42","v":60.9934280504688},{"$f":"[1]Data!T42","v":60.095764101614854},{"$f":"[1]Data!U42","v":62.852076888689531},{"$f":"[1]Data!V42","v":67.198395529272432},{"$f":"[1]Data!W42","v":72.91954462521602},{"$f":"[1]Data!C42","v":"2007-01-01"},{"$f":"[1]Data!K42","v":54},{"$f":"[1]Data!L42","v":54.8},{"$f":"[1]Data!Y42","v":58.701080595358185},{"$f":"[1]Data!Z42","v":55.872239628021013},{"$f":"[1]Data!C42","v":"2007-01-01"},{"$f":"[1]Data!M42","v":64.502093340449505},{"$f":"[1]Data!AA42","v":65.149158323758442},{"$f":"[1]Data!N42","v":56.55},{"$f":"[1]Data!AB42","v":57.182058211209082},{"$f":"[1]Data!O42","v":49.95},{"$f":"[1]Data!AC42","v":48.136872602304557},{"$f":"[1]Data!P42","v":74.650000000000006},{"$f":"[1]Data!AD42","v":74.037579065515217}]
[null,{"$f":"[1]Data!C43","v":"2007-02-01"},{"$f":"[1]Data!D43","v":59.975000000000001},{"$f":"[1]Data!E43","v":60.6},{"$f":"[1]Data!F43","v":61.900000000000006},{"$f":"[1]Data!G43","v":59.25},{"$f":"[1]Data!H43","v":65.3},{"$f":"[1]Data!I43","v":53.900000000000006},{"$f":"[1]Data!C43","v":"2007-02-01"},{"$f":"[1]Data!R43","v":61.529863524921325},{"$f":"[1]Data!S43","v":61.736826222078655},{"$f":"[1]Data!T43","v":63.739382207431603},{"$f":"[1]Data!U43","v":60.462604245807967},{"$f":"[1]Data!V43","v":68.003099823091446},{"$f":"[1]Data!W43","v":53.191435154531305},{"$f":"[1]Data!C43","v":"2007-02-01"},{"$f":"[1]Data!K43","v":58.900000000000006},{"$f":"[1]Data!L43","v":54.900000000000006},{"$f":"[1]Data!Y43","v":60.143585281103988},{"$f":"[1]Data!Z43","v":56.003101611302668},{"$f":"[1]Data!C43","v":"2007-02-01"},{"$f":"[1]Data!M43","v":61.6},{"$f":"[1]Data!AA43","v":61.722394839013646},{"$f":"[1]Data!N43","v":62.75},{"$f":"[1]Data!AB43","v":66.070927146093737},{"$f":"[1]Data!O43","v":52.15},{"$f":"[1]Data!AC43","v":47.892688615506515},{"$f":"[1]Data!P43","v":73.25},{"$f":"[1]Data!AD43","v":73.912748006653842}]
[null,{"$f":"[1]Data!C44","v":"2007-03-01"},{"$f":"[1]Data!D44","v":62.912499999999994},{"$f":"[1]Data!E44","v":64.599999999999994},{"$f":"[1]Data!F44","v":65.5},{"$f":"[1]Data!G44","v":64.150000000000006},{"$f":"[1]Data!H44","v":66.150000000000006},{"$f":"[1]Data!I44","v":56.400000000000006},{"$f":"[1]Data!C44","v":"2007-03-01"},{"$f":"[1]Data!R44","v":62.378088671376723},{"$f":"[1]Data!S44","v":62.84728197908052},{"$f":"[1]Data!T44","v":63.1173960166062},{"$f":"[1]Data!U44","v":64.931611194957128},{"$f":"[1]Data!V44","v":68.191663938411295},{"$f":"[1]Data!W44","v":54.840224581283877},{"$f":"[1]Data!C44","v":"2007-03-01"},{"$f":"[1]Data!K44","v":63.6},{"$f":"[1]Data!L44","v":54.150000000000006},{"$f":"[1]Data!Y44","v":63.561364728722211},{"$f":"[1]Data!Z44","v":53.387111196423838},{"$f":"[1]Data!C44","v":"2007-03-01"},{"$f":"[1]Data!M44","v":62.400000000000006},{"$f":"[1]Data!AA44","v":61.464929588483429},{"$f":"[1]Data!N44","v":69.7},{"$f":"[1]Data!AB44","v":70.348714086812436},{"$f":"[1]Data!O44","v":53.75},{"$f":"[1]Data!AC44","v":49.242297177450894},{"$f":"[1]Data!P44","v":72.349999999999994},{"$f":"[1]Data!AD44","v":72.453450343894417}]
[null,{"$f":"[1]Data!C45","v":"2007-04-01"},{"$f":"[1]Data!D45","v":63.29},{"$f":"[1]Data!E45","v":64.25},{"$f":"[1]Data!F45","v":64.55},{"$f":"[1]Data!G45","v":64.75},{"$f":"[1]Data!H45","v":71.650000000000006},{"$f":"[1]Data!I45","v":58.349999999999994},{"$f":"[1]Data!C45","v":"2007-04-01"},{"$f":"[1]Data!R45","v":60.172006520932662},{"$f":"[1]Data!S45","v":59.688958119342857},{"$f":"[1]Data!T45","v":58.543705221952742},{"$f":"[1]Data!U45","v":64.011413874730394},{"$f":"[1]Data!V45","v":69.745039083925576},{"$f":"[1]Data!W45","v":55.773832130237928},{"$f":"[1]Data!C45","v":"2007-04-01"},{"$f":"[1]Data!K45","v":61.5},{"$f":"[1]Data!L45","v":54.75},{"$f":"[1]Data!Y45","v":56.712304311675737},{"$f":"[1]Data!Z45","v":52.624059083644944},{"$f":"[1]Data!C45","v":"2007-04-01"},{"$f":"[1]Data!M45","v":64.150000000000006},{"$f":"[1]Data!AA45","v":61.827592464490152},{"$f":"[1]Data!N45","v":67.55},{"$f":"[1]Data!AB45","v":66.478655156785109},{"$f":"[1]Data!O45","v":50.8},{"$f":"[1]Data!AC45","v":49.204636023166401},{"$f":"[1]Data!P45","v":77.067669172932327},{"$f":"[1]Data!AD45","v":73.882418088629549}]
[null,{"$f":"[1]Data!C46","v":"2007-05-01"},{"$f":"[1]Data!D46","v":64.9375},{"$f":"[1]Data!E46","v":66.400000000000006},{"$f":"[1]Data!F46","v":65.95},{"$f":"[1]Data!G46","v":62.900000000000006},{"$f":"[1]Data!H46","v":74.650000000000006},{"$f":"[1]Data!I46","v":52.25},{"$f":"[1]Data!C46","v":"2007-05-01"},{"$f":"[1]Data!R46","v":60.534984432064277},{"$f":"[1]Data!S46","v":60.503974921841625},{"$f":"[1]Data!T46","v":59.644090959020929},{"$f":"[1]Data!U46","v":60.555045825874984},{"$f":"[1]Data!V46","v":71.325804631523127},{"$f":"[1]Data!W46","v":52.941164460058722},{"$f":"[1]Data!C46","v":"2007-05-01"},{"$f":"[1]Data!K46","v":61.699999999999996},{"$f":"[1]Data!L46","v":53.95},{"$f":"[1]Data!Y46","v":56.397240194851108},{"$f":"[1]Data!Z46","v":52.433418989375539},{"$f":"[1]Data!C46","v":"2007-05-01"},{"$f":"[1]Data!M46","v":60.95},{"$f":"[1]Data!AA46","v":57.680306802871094},{"$f":"[1]Data!N46","v":66.5},{"$f":"[1]Data!AB46","v":65.033118600111649},{"$f":"[1]Data!O46","v":51.2},{"$f":"[1]Data!AC46","v":51.205123686007049},{"$f":"[1]Data!P46","v":74.25},{"$f":"[1]Data!AD46","v":71.749989047336186}]
[null,{"$f":"[1]Data!C47","v":"2007-06-01"},{"$f":"[1]Data!D47","v":61.9925},{"$f":"[1]Data!E47","v":62.15},{"$f":"[1]Data!F47","v":64.099999999999994},{"$f":"[1]Data!G47","v":62.4},{"$f":"[1]Data!H47","v":64.7},{"$f":"[1]Data!I47","v":49.6},{"$f":"[1]Data!C47","v":"2007-06-01"},{"$f":"[1]Data!R47","v":57.942980001063859},{"$f":"[1]Data!S47","v":57.421616747159042},{"$f":"[1]Data!T47","v":57.926330368068626},{"$f":"[1]Data!U47","v":58.752818231200003},{"$f":"[1]Data!V47","v":61.987179461360014},{"$f":"[1]Data!W47","v":48.389638615904914},{"$f":"[1]Data!C47","v":"2007-06-01"},{"$f":"[1]Data!K47","v":61.949999999999996},{"$f":"[1]Data!L47","v":54.05},{"$f":"[1]Data!Y47","v":54.746384155072477},{"$f":"[1]Data!Z47","v":50.738967604257432},{"$f":"[1]Data!C47","v":"2007-06-01"},{"$f":"[1]Data!M47","v":61.45},{"$f":"[1]Data!AA47","v":57.660118195524475},{"$f":"[1]Data!N47","v":70.349999999999994},{"$f":"[1]Data!AB47","v":67.871416958707101},{"$f":"[1]Data!O47","v":51.65},{"$f":"[1]Data!AC47","v":50.123747610660999},{"$f":"[1]Data!P47","v":72.599999999999994},{"$f":"[1]Data!AD47","v":71.659882217770516}]
[null,{"$f":"[1]Data!C48","v":"2007-07-01"},{"$f":"[1]Data!D48","v":47.015000000000001},{"$f":"[1]Data!E48","v":34},{"$f":"[1]Data!F48","v":41},{"$f":"[1]Data!G48","v":53},{"$f":"[1]Data!H48","v":66},{"$f":"[1]Data!I48","v":42.85},{"$f":"[1]Data!C48","v":"2007-07-01"},{"$f":"[1]Data!R48","v":55.908351738559752},{"$f":"[1]Data!S48","v":50.914084426117732},{"$f":"[1]Data!T48","v":56.457634729081555},{"$f":"[1]Data!U48","v":59.62795974163646},{"$f":"[1]Data!V48","v":62.412039391779707},{"$f":"[1]Data!W48","v":50.448576437883993},{"$f":"[1]Data!C48","v":"2007-07-01"},{"$f":"[1]Data!K48","v":39.6},{"$f":"[1]Data!L48","v":40.200000000000003},{"$f":"[1]Data!Y48","v":55.822212661387482},{"$f":"[1]Data!Z48","v":48.311799444805381},{"$f":"[1]Data!C48","v":"2007-07-01"},{"$f":"[1]Data!M48","v":38},{"$f":"[1]Data!AA48","v":55.548575782320079},{"$f":"[1]Data!N48","v":62},{"$f":"[1]Data!AB48","v":62.081057704979948},{"$f":"[1]Data!O48","v":40.85},{"$f":"[1]Data!AC48","v":48.971992729986873},{"$f":"[1]Data!P48","v":75},{"$f":"[1]Data!AD48","v":69.735514624987729}]
[null,{"$f":"[1]Data!C49","v":"2007-08-01"},{"$f":"[1]Data!D49","v":64.482500000000002},{"$f":"[1]Data!E49","v":68.5},{"$f":"[1]Data!F49","v":66.2},{"$f":"[1]Data!G49","v":67},{"$f":"[1]Data!H49","v":62.650000000000006},{"$f":"[1]Data!I49","v":53},{"$f":"[1]Data!C49","v":"2007-08-01"},{"$f":"[1]Data!R49","v":59.257769606789303},{"$f":"[1]Data!S49","v":60.325820704086141},{"$f":"[1]Data!T49","v":59.076989660848206},{"$f":"[1]Data!U49","v":62.743589456136156},{"$f":"[1]Data!V49","v":59.92079486872624},{"$f":"[1]Data!W49","v":50.836195890228673},{"$f":"[1]Data!C49","v":"2007-08-01"},{"$f":"[1]Data!K49","v":65.2},{"$f":"[1]Data!L49","v":54.75},{"$f":"[1]Data!Y49","v":59.354119244839666},{"$f":"[1]Data!Z49","v":49.980735456090095},{"$f":"[1]Data!C49","v":"2007-08-01"},{"$f":"[1]Data!M49","v":64.099999999999994},{"$f":"[1]Data!AA49","v":57.267284616167657},{"$f":"[1]Data!N49","v":60.150000000000006},{"$f":"[1]Data!AB49","v":57.331799915548814},{"$f":"[1]Data!O49","v":49.45},{"$f":"[1]Data!AC49","v":51.956116650042524},{"$f":"[1]Data!P49","v":76},{"$f":"[1]Data!AD49","v":73.918273232140152}]
[null,{"$f":"[1]Data!C50","v":"2007-09-01"},{"$f":"[1]Data!D50","v":59.37},{"$f":"[1]Data!E50","v":60.9},{"$f":"[1]Data!F50","v":61.75},{"$f":"[1]Data!G50","v":62.7},{"$f":"[1]Data!H50","v":58.2},{"$f":"[1]Data!I50","v":56.5},{"$f":"[1]Data!C50","v":"2007-09-01"},{"$f":"[1]Data!R50","v":56.740259732912406},{"$f":"[1]Data!S50","v":57.337793336617644},{"$f":"[1]Data!T50","v":57.996144434073145},{"$f":"[1]Data!U50","v":58.679444544066058},{"$f":"[1]Data!V50","v":57.867044197715501},{"$f":"[1]Data!W50","v":54.089774699344794},{"$f":"[1]Data!C50","v":"2007-09-01"},{"$f":"[1]Data!K50","v":61.35},{"$f":"[1]Data!L50","v":57.85},{"$f":"[1]Data!Y50","v":56.734087553856675},{"$f":"[1]Data!Z50","v":54.564862523996162},{"$f":"[1]Data!C50","v":"2007-09-01"},{"$f":"[1]Data!M50","v":63.900000000000006},{"$f":"[1]Data!AA50","v":59.730256537002063},{"$f":"[1]Data!N50","v":55.45},{"$f":"[1]Data!AB50","v":54.340003931954463},{"$f":"[1]Data!O50","v":56.45},{"$f":"[1]Data!AC50","v":57.623447968851167},{"$f":"[1]Data!P50","v":73.599999999999994},{"$f":"[1]Data!AD50","v":73.19434803329797}]
[null,{"$f":"[1]Data!C51","v":"2007-10-01"},{"$f":"[1]Data!D51","v":59.849453359195905},{"$f":"[1]Data!E51","v":65.566037735849051},{"$f":"[1]Data!F51","v":60.280373831775705},{"$f":"[1]Data!G51","v":63.55140186915888},{"$f":"[1]Data!H51","v":53.271028037383175},{"$f":"[1]Data!I51","v":53.271028037383175},{"$f":"[1]Data!C51","v":"2007-10-01"},{"$f":"[1]Data!R51","v":60.018300754569651},{"$f":"[1]Data!S51","v":65.440035070638345},{"$f":"[1]Data!T51","v":62.109229145053369},{"$f":"[1]Data!U51","v":60.624620096163568},{"$f":"[1]Data!V51","v":54.324575477431374},{"$f":"[1]Data!W51","v":52.480870974533637},{"$f":"[1]Data!C51","v":"2007-10-01"},{"$f":"[1]Data!K51","v":55.714285714285708},{"$f":"[1]Data!L51","v":51.5},{"$f":"[1]Data!Y51","v":56.514103394915075},{"$f":"[1]Data!Z51","v":50.746176133676961},{"$f":"[1]Data!C51","v":"2007-10-01"},{"$f":"[1]Data!M51","v":61.214953271028037},{"$f":"[1]Data!AA51","v":58.576347480018761},{"$f":"[1]Data!N51","v":59.813084112149532},{"$f":"[1]Data!AB51","v":59.838173806230699},{"$f":"[1]Data!O51","v":54.205607476635521},{"$f":"[1]Data!AC51","v":53.938938208009141},{"$f":"[1]Data!P51","v":68.224299065420553},{"$f":"[1]Data!AD51","v":73.734872432584282}]
[null,{"$f":"[1]Data!C52","v":"2007-11-01"},{"$f":"[1]Data!D52","v":53.290000000000006},{"$f":"[1]Data!E52","v":53.45},{"$f":"[1]Data!F52","v":50.45},{"$f":"[1]Data!G52","v":56.400000000000006},{"$f":"[1]Data!H52","v":54.75},{"$f":"[1]Data!I52","v":47},{"$f":"[1]Data!C52","v":"2007-11-01"},{"$f":"[1]Data!R52","v":55.203384995816258},{"$f":"[1]Data!S52","v":54.929272494472215},{"$f":"[1]Data!T52","v":54.758379027017817},{"$f":"[1]Data!U52","v":56.901451745287922},{"$f":"[1]Data!V52","v":56.598880786088984},{"$f":"[1]Data!W52","v":48.265693028780689},{"$f":"[1]Data!C52","v":"2007-11-01"},{"$f":"[1]Data!K52","v":49.55},{"$f":"[1]Data!L52","v":48.65},{"$f":"[1]Data!Y52","v":52.085981955894994},{"$f":"[1]Data!Z52","v":52.631669420828132},{"$f":"[1]Data!C52","v":"2007-11-01"},{"$f":"[1]Data!M52","v":52.6},{"$f":"[1]Data!AA52","v":55.152845207894934},{"$f":"[1]Data!N52","v":55.95},{"$f":"[1]Data!AB52","v":58.267927206754244},{"$f":"[1]Data!O52","v":53},{"$f":"[1]Data!AC52","v":53.62546601757559},{"$f":"[1]Data!P52","v":62},{"$f":"[1]Data!AD52","v":70.69213330959208}]
[null,{"$f":"[1]Data!C53","v":"2007-12-01"},{"$f":"[1]Data!D53","v":51.602216191768434},{"$f":"[1]Data!E53","v":52.985074626865668},{"$f":"[1]Data!F53","v":49.253731343283583},{"$f":"[1]Data!G53","v":49.242424242424249},{"$f":"[1]Data!H53","v":56.71641791044776},{"$f":"[1]Data!I53","v":47.761194029850742},{"$f":"[1]Data!C53","v":"2007-12-01"},{"$f":"[1]Data!R53","v":53.967975974999817},{"$f":"[1]Data!S53","v":56.144081019108093},{"$f":"[1]Data!T53","v":51.735705711291303},{"$f":"[1]Data!U53","v":53.006665592712984},{"$f":"[1]Data!V53","v":58.476498920476089},{"$f":"[1]Data!W53","v":49.615639497786077},{"$f":"[1]Data!C53","v":"2007-12-01"},{"$f":"[1]Data!K53","v":48.484848484848484},{"$f":"[1]Data!L53","v":46.774193548387096},{"$f":"[1]Data!Y53","v":50.597421509553477},{"$f":"[1]Data!Z53","v":48.835877211771567},{"$f":"[1]Data!C53","v":"2007-12-01"},{"$f":"[1]Data!M53","v":51.492537313432834},{"$f":"[1]Data!AA53","v":53.660337732087072},{"$f":"[1]Data!N53","v":58.955223880597018},{"$f":"[1]Data!AB53","v":61.418570691106332},{"$f":"[1]Data!O53","v":47.727272727272734},{"$f":"[1]Data!AC53","v":50.129855641471373},{"$f":"[1]Data!P53","v":73.84615384615384},{"$f":"[1]Data!AD53","v":74.317122910559164}]
[null,{"$f":"[1]Data!C54","v":"2008-01-01"},{"$f":"[1]Data!D54","v":49.455551333304044},{"$f":"[1]Data!E54","v":47.058823529411761},{"$f":"[1]Data!F54","v":48.543689320388353},{"$f":"[1]Data!G54","v":50.480769230769226},{"$f":"[1]Data!H54","v":50.954901960784312},{"$f":"[1]Data!I54","v":46.116504854368934},{"$f":"[1]Data!C54","v":"2008-01-01"},{"$f":"[1]Data!R54","v":53.146889893790998},{"$f":"[1]Data!S54","v":50.172772661110429},{"$f":"[1]Data!T54","v":53.394955389234376},{"$f":"[1]Data!U54","v":54.741634323541533},{"$f":"[1]Data!V54","v":55.165343716000066},{"$f":"[1]Data!W54","v":46.379183103652352},{"$f":"[1]Data!C54","v":"2008-01-01"},{"$f":"[1]Data!K54","v":46.116504854368934},{"$f":"[1]Data!L54","v":50.515463917525778},{"$f":"[1]Data!Y54","v":50.533146278362686},{"$f":"[1]Data!Z54","v":51.67832295484326},{"$f":"[1]Data!C54","v":"2008-01-01"},{"$f":"[1]Data!M54","v":46.634615384615387},{"$f":"[1]Data!AA54","v":47.335476090371849},{"$f":"[1]Data!N54","v":63.106796116504853},{"$f":"[1]Data!AB54","v":64.893062269758971},{"$f":"[1]Data!O54","v":54.32692307692308},{"$f":"[1]Data!AC54","v":52.093524080968841},{"$f":"[1]Data!P54","v":68.75},{"$f":"[1]Data!AD54","v":68.987185317290866}]
[null,{"$f":"[1]Data!C55","v":"2008-02-01"},{"$f":"[1]Data!D55","v":53.765348139471563},{"$f":"[1]Data!E55","v":56.989247311827953},{"$f":"[1]Data!F55","v":52.197802197802197},{"$f":"[1]Data!G55","v":54.347826086956523},{"$f":"[1]Data!H55","v":55.434782608695649},{"$f":"[1]Data!I55","v":53.260869565217391},{"$f":"[1]Data!C55","v":"2008-02-01"},{"$f":"[1]Data!R55","v":55.308904205225588},{"$f":"[1]Data!S55","v":58.011150642390774},{"$f":"[1]Data!T55","v":54.217842337308355},{"$f":"[1]Data!U55","v":55.480549861061476},{"$f":"[1]Data!V55","v":57.935721583135305},{"$f":"[1]Data!W55","v":52.457043662471989},{"$f":"[1]Data!C55","v":"2008-02-01"},{"$f":"[1]Data!K55","v":52.197802197802197},{"$f":"[1]Data!L55","v":48.255813953488371},{"$f":"[1]Data!Y55","v":53.458059732494725},{"$f":"[1]Data!Z55","v":49.642297018404889},{"$f":"[1]Data!C55","v":"2008-02-01"},{"$f":"[1]Data!M55","v":56.451612903225808},{"$f":"[1]Data!AA55","v":56.807731828813431},{"$f":"[1]Data!N55","v":62.5},{"$f":"[1]Data!AB55","v":65.887014286925506},{"$f":"[1]Data!O55","v":58.152173913043484},{"$f":"[1]Data!AC55","v":53.431397372356997},{"$f":"[1]Data!P55","v":64.130434782608688},{"$f":"[1]Data!AD55","v":64.522229720593856}]
[null,{"$f":"[1]Data!C56","v":"2008-03-01"},{"$f":"[1]Data!D56","v":53.5629468845761},{"$f":"[1]Data!E56","v":55.617977528089888},{"$f":"[1]Data!F56","v":53.370786516853926},{"$f":"[1]Data!G56","v":53.932584269662925},{"$f":"[1]Data!H56","v":55.056179775280903},{"$f":"[1]Data!I56","v":53.977272727272727},{"$f":"[1]Data!C56","v":"2008-03-01"},{"$f":"[1]Data!R56","v":53.419968623020083},{"$f":"[1]Data!S56","v":54.474451300216366},{"$f":"[1]Data!T56","v":51.705042431127403},{"$f":"[1]Data!U56","v":54.989838202735925},{"$f":"[1]Data!V56","v":56.462162318647138},{"$f":"[1]Data!W56","v":51.774489197164847},{"$f":"[1]Data!C56","v":"2008-03-01"},{"$f":"[1]Data!K56","v":49.425287356321839},{"$f":"[1]Data!L56","v":48.795180722891565},{"$f":"[1]Data!Y56","v":49.75399662348044},{"$f":"[1]Data!Z56","v":48.086091065217893},{"$f":"[1]Data!C56","v":"2008-03-01"},{"$f":"[1]Data!M56","v":53.409090909090907},{"$f":"[1]Data!AA56","v":53.158538063192132},{"$f":"[1]Data!N56","v":62.921348314606746},{"$f":"[1]Data!AB56","v":63.126367449952966},{"$f":"[1]Data!O56","v":58.988764044943821},{"$f":"[1]Data!AC56","v":53.418398277995372},{"$f":"[1]Data!P56","v":65.168539325842701},{"$f":"[1]Data!AD56","v":65.281835911979215}]
[null,{"$f":"[1]Data!C57","v":"2008-04-01"},{"$f":"[1]Data!D57","v":56.89},{"$f":"[1]Data!E57","v":58.45},{"$f":"[1]Data!F57","v":60.15},{"$f":"[1]Data!G57","v":53.95},{"$f":"[1]Data!H57","v":57.25},{"$f":"[1]Data!I57","v":51.45},{"$f":"[1]Data!C57","v":"2008-04-01"},{"$f":"[1]Data!R57","v":53.771658673124719},{"$f":"[1]Data!S57","v":54.083184014251579},{"$f":"[1]Data!T57","v":53.739649227372183},{"$f":"[1]Data!U57","v":53.391700361114154},{"$f":"[1]Data!V57","v":55.460405644907574},{"$f":"[1]Data!W57","v":48.684330176087933},{"$f":"[1]Data!C57","v":"2008-04-01"},{"$f":"[1]Data!K57","v":57.650000000000006},{"$f":"[1]Data!L57","v":51.55},{"$f":"[1]Data!Y57","v":53.003929351802221},{"$f":"[1]Data!Z57","v":49.460069176376493},{"$f":"[1]Data!C57","v":"2008-04-01"},{"$f":"[1]Data!M57","v":60.5},{"$f":"[1]Data!AA57","v":57.871144968775418},{"$f":"[1]Data!N57","v":70.349999999999994},{"$f":"[1]Data!AB57","v":68.607003559515391},{"$f":"[1]Data!O57","v":51.8},{"$f":"[1]Data!AC57","v":50.057675834222522},{"$f":"[1]Data!P57","v":68.25},{"$f":"[1]Data!AD57","v":64.7386375541886}]
[null,{"$f":"[1]Data!C58","v":"2008-05-01"},{"$f":"[1]Data!D58","v":55.866578920553458},{"$f":"[1]Data!E58","v":58.264462809917362},{"$f":"[1]Data!F58","v":54.508196721311478},{"$f":"[1]Data!G58","v":56.302521008403367},{"$f":"[1]Data!H58","v":56.25},{"$f":"[1]Data!I58","v":47.5},{"$f":"[1]Data!C58","v":"2008-05-01"},{"$f":"[1]Data!R58","v":51.78866859450266},{"$f":"[1]Data!S58","v":52.312664458530769},{"$f":"[1]Data!T58","v":48.858150609410686},{"$f":"[1]Data!U58","v":54.128030124972121},{"$f":"[1]Data!V58","v":53.857492647079198},{"$f":"[1]Data!W58","v":48.511726250095379},{"$f":"[1]Data!C58","v":"2008-05-01"},{"$f":"[1]Data!K58","v":56.198347107438011},{"$f":"[1]Data!L58","v":49.568965517241381},{"$f":"[1]Data!Y58","v":51.017463770650359},{"$f":"[1]Data!Z58","v":47.424504578016219},{"$f":"[1]Data!C58","v":"2008-05-01"},{"$f":"[1]Data!M58","v":52.47933884297521},{"$f":"[1]Data!AA58","v":49.132121074587076},{"$f":"[1]Data!N58","v":69.834710743801651},{"$f":"[1]Data!AB58","v":67.582145824952889},{"$f":"[1]Data!O58","v":50},{"$f":"[1]Data!AC58","v":50.565141853899092},{"$f":"[1]Data!P58","v":66.949152542372886},{"$f":"[1]Data!AD58","v":64.663937464297661}]
[null,{"$f":"[1]Data!C59","v":"2008-06-01"},{"$f":"[1]Data!D59","v":51.569502801120457},{"$f":"[1]Data!E59","v":53.333333333333336},{"$f":"[1]Data!F59","v":46.25},{"$f":"[1]Data!G59","v":54.201680672268907},{"$f":"[1]Data!H59","v":56.25},{"$f":"[1]Data!I59","v":49.166666666666671},{"$f":"[1]Data!C59","v":"2008-06-01"},{"$f":"[1]Data!R59","v":47.861258720671032},{"$f":"[1]Data!S59","v":48.669179699959699},{"$f":"[1]Data!T59","v":41.125017535272896},{"$f":"[1]Data!U59","v":50.52087164544696},{"$f":"[1]Data!V59","v":53.686030528397765},{"$f":"[1]Data!W59","v":48.006203732498108},{"$f":"[1]Data!C59","v":"2008-06-01"},{"$f":"[1]Data!K59","v":44.117647058823529},{"$f":"[1]Data!L59","v":45.652173913043477},{"$f":"[1]Data!Y59","v":38.109300489477782},{"$f":"[1]Data!Z59","v":42.80912351625642},{"$f":"[1]Data!C59","v":"2008-06-01"},{"$f":"[1]Data!M59","v":44.166666666666671},{"$f":"[1]Data!AA59","v":40.874595243705215},{"$f":"[1]Data!N59","v":71.487603305785129},{"$f":"[1]Data!AB59","v":68.458673364724234},{"$f":"[1]Data!O59","v":52.5},{"$f":"[1]Data!AC59","v":51.777000253804324},{"$f":"[1]Data!P59","v":58.82352941176471},{"$f":"[1]Data!AD59","v":57.186025742040883}]
[null,{"$f":"[1]Data!C60","v":"2008-07-01"},{"$f":"[1]Data!D60","v":40.256794272355343},{"$f":"[1]Data!E60","v":32.5},{"$f":"[1]Data!F60","v":32.20338983050847},{"$f":"[1]Data!G60","v":44.067796610169488},{"$f":"[1]Data!H60","v":52.542372881355938},{"$f":"[1]Data!I60","v":42.241379310344826},{"$f":"[1]Data!C60","v":"2008-07-01"},{"$f":"[1]Data!R60","v":47.383635838317957},{"$f":"[1]Data!S60","v":47.887492472313028},{"$f":"[1]Data!T60","v":43.441432328217495},{"$f":"[1]Data!U60","v":48.98343634360824},{"$f":"[1]Data!V60","v":49.609725103367545},{"$f":"[1]Data!W60","v":48.588130124523346},{"$f":"[1]Data!C60","v":"2008-07-01"},{"$f":"[1]Data!K60","v":28.813559322033896},{"$f":"[1]Data!L60","v":38.888888888888886},{"$f":"[1]Data!Y60","v":39.553436372766114},{"$f":"[1]Data!Z60","v":45.708839930650456},{"$f":"[1]Data!C60","v":"2008-07-01"},{"$f":"[1]Data!M60","v":30.508474576271183},{"$f":"[1]Data!AA60","v":43.352165122445392},{"$f":"[1]Data!N60","v":71.186440677966104},{"$f":"[1]Data!AB60","v":70.773677818663643},{"$f":"[1]Data!O60","v":47.413793103448278},{"$f":"[1]Data!AC60","v":55.180319256605934},{"$f":"[1]Data!P60","v":63.559322033898312},{"$f":"[1]Data!AD60","v":58.399308502277734}]
[null,{"$f":"[1]Data!C61","v":"2008-08-01"},{"$f":"[1]Data!D61","v":53.065056206649132},{"$f":"[1]Data!E61","v":53.982300884955748},{"$f":"[1]Data!F61","v":52.252252252252248},{"$f":"[1]Data!G61","v":55.752212389380531},{"$f":"[1]Data!H61","v":51.327433628318587},{"$f":"[1]Data!I61","v":49.557522123893804},{"$f":"[1]Data!C61","v":"2008-08-01"},{"$f":"[1]Data!R61","v":49.124218595981318},{"$f":"[1]Data!S61","v":47.83541734948048},{"$f":"[1]Data!T61","v":47.124155668156533},{"$f":"[1]Data!U61","v":51.632044725186638},{"$f":"[1]Data!V61","v":49.626601490685196},{"$f":"[1]Data!W61","v":47.422816104758716},{"$f":"[1]Data!C61","v":"2008-08-01"},{"$f":"[1]Data!K61","v":50},{"$f":"[1]Data!L61","v":48.598130841121488},{"$f":"[1]Data!Y61","v":45.678533039200524},{"$f":"[1]Data!Z61","v":44.553332719389147},{"$f":"[1]Data!C61","v":"2008-08-01"},{"$f":"[1]Data!M61","v":48.672566371681413},{"$f":"[1]Data!AA61","v":43.585227108167665},{"$f":"[1]Data!N61","v":66.517857142857139},{"$f":"[1]Data!AB61","v":63.160247622785725},{"$f":"[1]Data!O61","v":51.315789473684205},{"$f":"[1]Data!AC61","v":53.673891371898847},{"$f":"[1]Data!P61","v":59.821428571428569},{"$f":"[1]Data!AD61","v":58.427338349256026}]
[null,{"$f":"[1]Data!C62","v":"2008-09-01"},{"$f":"[1]Data!D62","v":45.761465421135583},{"$f":"[1]Data!E62","v":45.726495726495727},{"$f":"[1]Data!F62","v":42.173913043478265},{"$f":"[1]Data!G62","v":48.260869565217391},{"$f":"[1]Data!H62","v":46.551724137931032},{"$f":"[1]Data!I62","v":49.572649572649574},{"$f":"[1]Data!C62","v":"2008-09-01"},{"$f":"[1]Data!R62","v":43.988531840948909},{"$f":"[1]Data!S62","v":43.146788566416213},{"$f":"[1]Data!T62","v":39.782030606932544},{"$f":"[1]Data!U62","v":45.7356349255681},{"$f":"[1]Data!V62","v":46.243169342187485},{"$f":"[1]Data!W62","v":48.163768691766492},{"$f":"[1]Data!C62","v":"2008-09-01"},{"$f":"[1]Data!K62","v":40.434782608695656},{"$f":"[1]Data!L62","v":42.727272727272727},{"$f":"[1]Data!Y62","v":37.745832697063641},{"$f":"[1]Data!Z62","v":40.23330170266216},{"$f":"[1]Data!C62","v":"2008-09-01"},{"$f":"[1]Data!M62","v":41.452991452991455},{"$f":"[1]Data!AA62","v":38.933701804323924},{"$f":"[1]Data!N62","v":60.683760683760681},{"$f":"[1]Data!AB62","v":59.423237210932754},{"$f":"[1]Data!O62","v":50.869565217391305},{"$f":"[1]Data!AC62","v":52.975174981153025},{"$f":"[1]Data!P62","v":50.892857142857139},{"$f":"[1]Data!AD62","v":50.967089575341532}]
[null,{"$f":"[1]Data!C63","v":"2008-10-01"},{"$f":"[1]Data!D63","v":42.786182421028137},{"$f":"[1]Data!E63","v":43.939393939393938},{"$f":"[1]Data!F63","v":33.720930232558146},{"$f":"[1]Data!G63","v":47.70992366412213},{"$f":"[1]Data!H63","v":46.09375},{"$f":"[1]Data!I63","v":47.709923664122137},{"$f":"[1]Data!C63","v":"2008-10-01"},{"$f":"[1]Data!R63","v":43.167669898769248},{"$f":"[1]Data!S63","v":44.439610836228553},{"$f":"[1]Data!T63","v":35.38226437235538},{"$f":"[1]Data!U63","v":45.631711665176582},{"$f":"[1]Data!V63","v":47.014645602062103},{"$f":"[1]Data!W63","v":47.354512953391293},{"$f":"[1]Data!C63","v":"2008-10-01"},{"$f":"[1]Data!K63","v":35},{"$f":"[1]Data!L63","v":38.70967741935484},{"$f":"[1]Data!Y63","v":36.066782146978305},{"$f":"[1]Data!Z63","v":38.660313716465168},{"$f":"[1]Data!C63","v":"2008-10-01"},{"$f":"[1]Data!M63","v":40.151515151515149},{"$f":"[1]Data!AA63","v":38.841841709780901},{"$f":"[1]Data!N63","v":52.290076335877863},{"$f":"[1]Data!AB63","v":53.043618231155428},{"$f":"[1]Data!O63","v":54.296875},{"$f":"[1]Data!AC63","v":53.915141500090513},{"$f":"[1]Data!P63","v":41.92307692307692},{"$f":"[1]Data!AD63","v":46.25349667264701}]
[null,{"$f":"[1]Data!C64","v":"2008-11-01"},{"$f":"[1]Data!D64","v":39.926673832923832},{"$f":"[1]Data!E64","v":39.732142857142861},{"$f":"[1]Data!F64","v":30},{"$f":"[1]Data!G64","v":41.891891891891888},{"$f":"[1]Data!H64","v":41.071428571428569},{"$f":"[1]Data!I64","v":35.454545454545453},{"$f":"[1]Data!C64","v":"2008-11-01"},{"$f":"[1]Data!R64","v":41.535973478209065},{"$f":"[1]Data!S64","v":41.350526181574814},{"$f":"[1]Data!T64","v":33.005137793661476},{"$f":"[1]Data!U64","v":42.649543455516209},{"$f":"[1]Data!V64","v":42.798195204620633},{"$f":"[1]Data!W64","v":36.528373770794246},{"$f":"[1]Data!C64","v":"2008-11-01"},{"$f":"[1]Data!K64","v":32.272727272727273},{"$f":"[1]Data!L64","v":33.018867924528301},{"$f":"[1]Data!Y64","v":34.151861132963177},{"$f":"[1]Data!Z64","v":36.048194762722304},{"$f":"[1]Data!C64","v":"2008-11-01"},{"$f":"[1]Data!M64","v":30.803571428571427},{"$f":"[1]Data!AA64","v":32.917551939171275},{"$f":"[1]Data!N64","v":41.81818181818182},{"$f":"[1]Data!AB64","v":43.979413443471849},{"$f":"[1]Data!O64","v":47.321428571428569},{"$f":"[1]Data!AC64","v":47.694443942008306},{"$f":"[1]Data!P64","v":35.585585585585591},{"$f":"[1]Data!AD64","v":40.977916094332258}]
[null,{"$f":"[1]Data!C65","v":"2008-12-01"},{"$f":"[1]Data!D65","v":38.972431077694232},{"$f":"[1]Data!E65","v":35.714285714285715},{"$f":"[1]Data!F65","v":33.333333333333329},{"$f":"[1]Data!G65","v":42.105263157894733},{"$f":"[1]Data!H65","v":37.719298245614034},{"$f":"[1]Data!I65","v":40.350877192982452},{"$f":"[1]Data!C65","v":"2008-12-01"},{"$f":"[1]Data!R65","v":40.940701805723897},{"$f":"[1]Data!S65","v":38.687164736035761},{"$f":"[1]Data!T65","v":35.402457281753762},{"$f":"[1]Data!U65","v":45.393607729313139},{"$f":"[1]Data!V65","v":38.701338100385776},{"$f":"[1]Data!W65","v":42.35748823731663},{"$f":"[1]Data!C65","v":"2008-12-01"},{"$f":"[1]Data!K65","v":33.928571428571431},{"$f":"[1]Data!L65","v":32.727272727272727},{"$f":"[1]Data!Y65","v":36.012246009510491},{"$f":"[1]Data!Z65","v":34.517171086399451},{"$f":"[1]Data!C65","v":"2008-12-01"},{"$f":"[1]Data!M65","v":31.578947368421051},{"$f":"[1]Data!AA65","v":33.29237994136831},{"$f":"[1]Data!N65","v":41.379310344827587},{"$f":"[1]Data!AB65","v":43.715207024327377},{"$f":"[1]Data!O65","v":47.321428571428569},{"$f":"[1]Data!AC65","v":50.243497649247828},{"$f":"[1]Data!P65","v":41.379310344827587},{"$f":"[1]Data!AD65","v":41.563576008598034}]
[null,{"$f":"[1]Data!C66","v":"2009-01-01"},{"$f":"[1]Data!D66","v":38.309563525159859},{"$f":"[1]Data!E66","v":36.36363636363636},{"$f":"[1]Data!F66","v":30.733944954128443},{"$f":"[1]Data!G66","v":40.825688073394495},{"$f":"[1]Data!H66","v":38.888888888888886},{"$f":"[1]Data!I66","v":39.999999999999993},{"$f":"[1]Data!C66","v":"2009-01-01"},{"$f":"[1]Data!R66","v":40.757785418278409},{"$f":"[1]Data!S66","v":38.385331843643243},{"$f":"[1]Data!T66","v":33.556787979952581},{"$f":"[1]Data!U66","v":44.451067518188765},{"$f":"[1]Data!V66","v":41.85443112121898},{"$f":"[1]Data!W66","v":40.739621084387792},{"$f":"[1]Data!C66","v":"2009-01-01"},{"$f":"[1]Data!K66","v":32.11009174311927},{"$f":"[1]Data!L66","v":33.018867924528301},{"$f":"[1]Data!Y66","v":35.244255112267034},{"$f":"[1]Data!Z66","v":33.945178060365272},{"$f":"[1]Data!C66","v":"2009-01-01"},{"$f":"[1]Data!M66","v":30.733944954128443},{"$f":"[1]Data!AA66","v":31.44506968641786},{"$f":"[1]Data!N66","v":39.090909090909093},{"$f":"[1]Data!AB66","v":40.489020295164636},{"$f":"[1]Data!O66","v":52.777777777777779},{"$f":"[1]Data!AC66","v":50.591936183584345},{"$f":"[1]Data!P66","v":41.666666666666671},{"$f":"[1]Data!AD66","v":42.203293780985021}]
[null,{"$f":"[1]Data!C67","v":"2009-02-01"},{"$f":"[1]Data!D67","v":35.927200135915733},{"$f":"[1]Data!E67","v":34.862385321100916},{"$f":"[1]Data!F67","v":30.73394495412844},{"$f":"[1]Data!G67","v":32.11009174311927},{"$f":"[1]Data!H67","v":36.697247706422026},{"$f":"[1]Data!I67","v":39.351851851851855},{"$f":"[1]Data!C67","v":"2009-02-01"},{"$f":"[1]Data!R67","v":36.797430504272512},{"$f":"[1]Data!S67","v":35.133500757413358},{"$f":"[1]Data!T67","v":31.863726354691231},{"$f":"[1]Data!U67","v":32.751900855713664},{"$f":"[1]Data!V67","v":38.41739976118857},{"$f":"[1]Data!W67","v":38.580527268092183},{"$f":"[1]Data!C67","v":"2009-02-01"},{"$f":"[1]Data!K67","v":31.651376146788994},{"$f":"[1]Data!L67","v":31.308411214953271},{"$f":"[1]Data!Y67","v":32.114460298259353},{"$f":"[1]Data!Z67","v":32.295699035584796},{"$f":"[1]Data!C67","v":"2009-02-01"},{"$f":"[1]Data!M67","v":29.357798165137616},{"$f":"[1]Data!AA67","v":29.337633692089344},{"$f":"[1]Data!N67","v":38.990825688073393},{"$f":"[1]Data!AB67","v":40.860026989589628},{"$f":"[1]Data!O67","v":53.24074074074074},{"$f":"[1]Data!AC67","v":48.848266973208972},{"$f":"[1]Data!P67","v":36.238532110091739},{"$f":"[1]Data!AD67","v":36.077349139685865}]
[null,{"$f":"[1]Data!C68","v":"2009-03-01"},{"$f":"[1]Data!D68","v":38.488937758230044},{"$f":"[1]Data!E68","v":36.991869918699187},{"$f":"[1]Data!F68","v":35.772357723577237},{"$f":"[1]Data!G68","v":33.196721311475414},{"$f":"[1]Data!H68","v":36.585365853658537},{"$f":"[1]Data!I68","v":36.178861788617887},{"$f":"[1]Data!C68","v":"2009-03-01"},{"$f":"[1]Data!R68","v":38.413526033407422},{"$f":"[1]Data!S68","v":36.228804985609436},{"$f":"[1]Data!T68","v":34.714165970617373},{"$f":"[1]Data!U68","v":34.034910981422712},{"$f":"[1]Data!V68","v":37.09598267363917},{"$f":"[1]Data!W68","v":34.293046015105695},{"$f":"[1]Data!C68","v":"2009-03-01"},{"$f":"[1]Data!K68","v":36.065573770491802},{"$f":"[1]Data!L68","v":34.782608695652172},{"$f":"[1]Data!Y68","v":36.490713310192241},{"$f":"[1]Data!Z68","v":34.014158495276632},{"$f":"[1]Data!C68","v":"2009-03-01"},{"$f":"[1]Data!M68","v":31.707317073170731},{"$f":"[1]Data!AA68","v":31.643836973644078},{"$f":"[1]Data!N68","v":32.520325203252035},{"$f":"[1]Data!AB68","v":32.360699762112503},{"$f":"[1]Data!O68","v":51.219512195121951},{"$f":"[1]Data!AC68","v":45.712304876571068},{"$f":"[1]Data!P68","v":41.803278688524586},{"$f":"[1]Data!AD68","v":41.439997503714366}]
[null,{"$f":"[1]Data!C69","v":"2009-04-01"},{"$f":"[1]Data!D69","v":41.846659743856009},{"$f":"[1]Data!E69","v":42.592592592592595},{"$f":"[1]Data!F69","v":39.81481481481481},{"$f":"[1]Data!G69","v":36.574074074074076},{"$f":"[1]Data!H69","v":38.785046728971963},{"$f":"[1]Data!I69","v":38.785046728971963},{"$f":"[1]Data!C69","v":"2009-04-01"},{"$f":"[1]Data!R69","v":39.60014892109578},{"$f":"[1]Data!S69","v":39.358268909997932},{"$f":"[1]Data!T69","v":35.10291527046185},{"$f":"[1]Data!U69","v":36.048111126979727},{"$f":"[1]Data!V69","v":37.621829035291455},{"$f":"[1]Data!W69","v":36.231894682319201},{"$f":"[1]Data!C69","v":"2009-04-01"},{"$f":"[1]Data!K69","v":41.203703703703702},{"$f":"[1]Data!L69","v":36.893203883495147},{"$f":"[1]Data!Y69","v":37.598645716896804},{"$f":"[1]Data!Z69","v":35.115957239811848},{"$f":"[1]Data!C69","v":"2009-04-01"},{"$f":"[1]Data!M69","v":33.018867924528301},{"$f":"[1]Data!AA69","v":31.065641109764886},{"$f":"[1]Data!N69","v":36.44859813084112},{"$f":"[1]Data!AB69","v":34.967989836002303},{"$f":"[1]Data!O69","v":43.518518518518519},{"$f":"[1]Data!AC69","v":41.922987735074386},{"$f":"[1]Data!P69","v":48.611111111111114},{"$f":"[1]Data!AD69","v":45.873527637774856}]
[null,{"$f":"[1]Data!C70","v":"2009-05-01"},{"$f":"[1]Data!D70","v":44.395850708924101},{"$f":"[1]Data!E70","v":45.909090909090907},{"$f":"[1]Data!F70","v":43.11926605504587},{"$f":"[1]Data!G70","v":39.908256880733944},{"$f":"[1]Data!H70","v":37.5},{"$f":"[1]Data!I70","v":36.238532110091739},{"$f":"[1]Data!C70","v":"2009-05-01"},{"$f":"[1]Data!R70","v":41.070056993252408},{"$f":"[1]Data!S70","v":40.816567784769006},{"$f":"[1]Data!T70","v":38.478635662813261},{"$f":"[1]Data!U70","v":38.096648014498257},{"$f":"[1]Data!V70","v":36.15923935014245},{"$f":"[1]Data!W70","v":37.208911572048372},{"$f":"[1]Data!C70","v":"2009-05-01"},{"$f":"[1]Data!K70","v":44.907407407407405},{"$f":"[1]Data!L70","v":37.864077669902912},{"$f":"[1]Data!Y70","v":40.549444572197025},{"$f":"[1]Data!Z70","v":35.62976356636478},{"$f":"[1]Data!C70","v":"2009-05-01"},{"$f":"[1]Data!M70","v":38.425925925925924},{"$f":"[1]Data!AA70","v":35.496040717075033},{"$f":"[1]Data!N70","v":42.129629629629626},{"$f":"[1]Data!AB70","v":40.267159987298839},{"$f":"[1]Data!O70","v":44.036697247706428},{"$f":"[1]Data!AC70","v":45.090936355067576},{"$f":"[1]Data!P70","v":48.611111111111114},{"$f":"[1]Data!AD70","v":46.919713963135059}]
[null,{"$f":"[1]Data!C71","v":"2009-06-01"},{"$f":"[1]Data!D71","v":51.663445017182134},{"$f":"[1]Data!E71","v":55.670103092783506},{"$f":"[1]Data!F71","v":54.639175257731964},{"$f":"[1]Data!G71","v":44.791666666666671},{"$f":"[1]Data!H71","v":43.75},{"$f":"[1]Data!I71","v":41.666666666666664},{"$f":"[1]Data!C71","v":"2009-06-01"},{"$f":"[1]Data!R71","v":47.47740762339923},{"$f":"[1]Data!S71","v":50.22601063716926},{"$f":"[1]Data!T71","v":48.038413463163259},{"$f":"[1]Data!U71","v":41.478136658352398},{"$f":"[1]Data!V71","v":41.756100642437367},{"$f":"[1]Data!W71","v":40.496615028781463},{"$f":"[1]Data!C71","v":"2009-06-01"},{"$f":"[1]Data!K71","v":52.604166666666664},{"$f":"[1]Data!L71","v":46.703296703296701},{"$f":"[1]Data!Y71","v":45.011081715355388},{"$f":"[1]Data!Z71","v":43.878124787354146},{"$f":"[1]Data!C71","v":"2009-06-01"},{"$f":"[1]Data!M71","v":45.876288659793815},{"$f":"[1]Data!AA71","v":42.193859177862059},{"$f":"[1]Data!N71","v":45.360824742268036},{"$f":"[1]Data!AB71","v":43.753316166711862},{"$f":"[1]Data!O71","v":40.625},{"$f":"[1]Data!AC71","v":40.569103399313825},{"$f":"[1]Data!P71","v":53.125},{"$f":"[1]Data!AD71","v":51.210708271192935}]
[null,{"$f":"[1]Data!C72","v":"2009-07-01"},{"$f":"[1]Data!D72","v":41.395604395604394},{"$f":"[1]Data!E72","v":34.615384615384613},{"$f":"[1]Data!F72","v":37.692307692307693},{"$f":"[1]Data!G72","v":37.5},{"$f":"[1]Data!H72","v":52.38095238095238},{"$f":"[1]Data!I72","v":39.230769230769234},{"$f":"[1]Data!C72","v":"2009-07-01"},{"$f":"[1]Data!R72","v":48.927616335905789},{"$f":"[1]Data!S72","v":50.701209251034712},{"$f":"[1]Data!T72","v":50.125132982903274},{"$f":"[1]Data!U72","v":41.075076396061704},{"$f":"[1]Data!V72","v":49.321216466737894},{"$f":"[1]Data!W72","v":43.984236209468939},{"$f":"[1]Data!C72","v":"2009-07-01"},{"$f":"[1]Data!K72","v":35.9375},{"$f":"[1]Data!L72","v":35.714285714285715},{"$f":"[1]Data!Y72","v":48.106933108257373},{"$f":"[1]Data!Z72","v":41.353355982837719},{"$f":"[1]Data!C72","v":"2009-07-01"},{"$f":"[1]Data!M72","v":29.230769230769234},{"$f":"[1]Data!AA72","v":40.650806025649395},{"$f":"[1]Data!N72","v":49.230769230769226},{"$f":"[1]Data!AB72","v":49.207490606799759},{"$f":"[1]Data!O72","v":47.65625},{"$f":"[1]Data!AC72","v":53.826673256013194},{"$f":"[1]Data!P72","v":56.25},{"$f":"[1]Data!AD72","v":51.375195768206744}]
[null,{"$f":"[1]Data!C73","v":"2009-08-01"},{"$f":"[1]Data!D73","v":47.768548275623743},{"$f":"[1]Data!E73","v":51.904761904761898},{"$f":"[1]Data!F73","v":44.339622641509436},{"$f":"[1]Data!G73","v":45.238095238095241},{"$f":"[1]Data!H73","v":44.811320754716981},{"$f":"[1]Data!I73","v":42.78846153846154},{"$f":"[1]Data!C73","v":"2009-08-01"},{"$f":"[1]Data!R73","v":44.591676400378923},{"$f":"[1]Data!S73","v":46.36189549129633},{"$f":"[1]Data!T73","v":40.348563991413208},{"$f":"[1]Data!U73","v":42.05300850714891},{"$f":"[1]Data!V73","v":43.835491144269767},{"$f":"[1]Data!W73","v":40.892920429393705},{"$f":"[1]Data!C73","v":"2009-08-01"},{"$f":"[1]Data!K73","v":46.601941747572816},{"$f":"[1]Data!L73","v":38.383838383838388},{"$f":"[1]Data!Y73","v":42.578918008761384},{"$f":"[1]Data!Z73","v":35.486264820595345},{"$f":"[1]Data!C73","v":"2009-08-01"},{"$f":"[1]Data!M73","v":45.283018867924532},{"$f":"[1]Data!AA73","v":40.784287959819714},{"$f":"[1]Data!N73","v":53.883495145631073},{"$f":"[1]Data!AB73","v":51.474617322582468},{"$f":"[1]Data!O73","v":44.761904761904759},{"$f":"[1]Data!AC73","v":46.750483400491497},{"$f":"[1]Data!P73","v":51.442307692307693},{"$f":"[1]Data!AD73","v":50.574237259818503}]
[null,{"$f":"[1]Data!C74","v":"2009-09-01"},{"$f":"[1]Data!D74","v":49.199823165340405},{"$f":"[1]Data!E74","v":50.862068965517238},{"$f":"[1]Data!F74","v":48.717948717948715},{"$f":"[1]Data!G74","v":41.025641025641022},{"$f":"[1]Data!H74","v":50},{"$f":"[1]Data!I74","v":38.362068965517246},{"$f":"[1]Data!C74","v":"2009-09-01"},{"$f":"[1]Data!R74","v":47.255093664171952},{"$f":"[1]Data!S74","v":47.728698561334035},{"$f":"[1]Data!T74","v":46.168602776483873},{"$f":"[1]Data!U74","v":39.13084761354181},{"$f":"[1]Data!V74","v":49.631173180453864},{"$f":"[1]Data!W74","v":37.985073088831605},{"$f":"[1]Data!C74","v":"2009-09-01"},{"$f":"[1]Data!K74","v":47.863247863247864},{"$f":"[1]Data!L74","v":42.792792792792795},{"$f":"[1]Data!Y74","v":45.276302924621568},{"$f":"[1]Data!Z74","v":40.513056509833596},{"$f":"[1]Data!C74","v":"2009-09-01"},{"$f":"[1]Data!M74","v":44.396551724137929},{"$f":"[1]Data!AA74","v":41.834018302046353},{"$f":"[1]Data!N74","v":55.603448275862064},{"$f":"[1]Data!AB74","v":54.447618974225975},{"$f":"[1]Data!O74","v":40.789473684210542},{"$f":"[1]Data!AC74","v":42.860297414361568},{"$f":"[1]Data!P74","v":52.564102564102569},{"$f":"[1]Data!AD74","v":53.199688221644877}]
[null,{"$f":"[1]Data!C75","v":"2009-10-01"},{"$f":"[1]Data!D75","v":45.252505946313292},{"$f":"[1]Data!E75","v":44.907407407407405},{"$f":"[1]Data!F75","v":39.908256880733944},{"$f":"[1]Data!G75","v":44.036697247706428},{"$f":"[1]Data!H75","v":46.330275229357795},{"$f":"[1]Data!I75","v":37.037037037037038},{"$f":"[1]Data!C75","v":"2009-10-01"},{"$f":"[1]Data!R75","v":46.099290827586984},{"$f":"[1]Data!S75","v":45.944778415379574},{"$f":"[1]Data!T75","v":42.511829194027079},{"$f":"[1]Data!U75","v":42.593531883394931},{"$f":"[1]Data!V75","v":47.060472269524169},{"$f":"[1]Data!W75","v":37.182297515736416},{"$f":"[1]Data!C75","v":"2009-10-01"},{"$f":"[1]Data!K75","v":42.523364485981304},{"$f":"[1]Data!L75","v":37.128712871287128},{"$f":"[1]Data!Y75","v":44.447462932211259},{"$f":"[1]Data!Z75","v":37.459915544929778},{"$f":"[1]Data!C75","v":"2009-10-01"},{"$f":"[1]Data!M75","v":37.61467889908257},{"$f":"[1]Data!AA75","v":37.094230375877082},{"$f":"[1]Data!N75","v":52.293577981651381},{"$f":"[1]Data!AB75","v":53.673694206059274},{"$f":"[1]Data!O75","v":45.327102803738313},{"$f":"[1]Data!AC75","v":45.301653504956313},{"$f":"[1]Data!P75","v":48.623853211009177},{"$f":"[1]Data!AD75","v":54.787763372246694}]
[null,{"$f":"[1]Data!C76","v":"2009-11-01"},{"$f":"[1]Data!D76","v":46.975572569322566},{"$f":"[1]Data!E76","v":45.982142857142861},{"$f":"[1]Data!F76","v":46.36363636363636},{"$f":"[1]Data!G76","v":43.303571428571431},{"$f":"[1]Data!H76","v":46.428571428571423},{"$f":"[1]Data!I76","v":40.540540540540533},{"$f":"[1]Data!C76","v":"2009-11-01"},{"$f":"[1]Data!R76","v":49.68251097696303},{"$f":"[1]Data!S76","v":48.31510335346178},{"$f":"[1]Data!T76","v":51.900260486446633},{"$f":"[1]Data!U76","v":44.550475374191755},{"$f":"[1]Data!V76","v":48.555065231115137},{"$f":"[1]Data!W76","v":41.59697866842027},{"$f":"[1]Data!C76","v":"2009-11-01"},{"$f":"[1]Data!K76","v":46.36363636363636},{"$f":"[1]Data!L76","v":39.622641509433961},{"$f":"[1]Data!Y76","v":49.617948200842797},{"$f":"[1]Data!Z76","v":43.584807977051817},{"$f":"[1]Data!C76","v":"2009-11-01"},{"$f":"[1]Data!M76","v":40},{"$f":"[1]Data!AA76","v":43.135643390340398},{"$f":"[1]Data!N76","v":53.63636363636364},{"$f":"[1]Data!AB76","v":56.357152690486124},{"$f":"[1]Data!O76","v":45.535714285714292},{"$f":"[1]Data!AC76","v":45.893554549944056},{"$f":"[1]Data!P76","v":48.660714285714292},{"$f":"[1]Data!AD76","v":56.217555516026593}]
[null,{"$f":"[1]Data!C77","v":"2009-12-01"},{"$f":"[1]Data!D77","v":47.981024631166591},{"$f":"[1]Data!E77","v":47.087378640776699},{"$f":"[1]Data!F77","v":47.115384615384613},{"$f":"[1]Data!G77","v":42.924528301886795},{"$f":"[1]Data!H77","v":48.584905660377359},{"$f":"[1]Data!I77","v":37.980769230769234},{"$f":"[1]Data!C77","v":"2009-12-01"},{"$f":"[1]Data!R77","v":50.879192949092214},{"$f":"[1]Data!S77","v":52.361565245277731},{"$f":"[1]Data!T77","v":50.554646206164811},{"$f":"[1]Data!U77","v":45.957998624452543},{"$f":"[1]Data!V77","v":49.801147143230743},{"$f":"[1]Data!W77","v":40.393640204517816},{"$f":"[1]Data!C77","v":"2009-12-01"},{"$f":"[1]Data!K77","v":45.67307692307692},{"$f":"[1]Data!L77","v":42.424242424242422},{"$f":"[1]Data!Y77","v":49.291035811714956},{"$f":"[1]Data!Z77","v":45.275874650975005},{"$f":"[1]Data!C77","v":"2009-12-01"},{"$f":"[1]Data!M77","v":43.75},{"$f":"[1]Data!AA77","v":47.138526363220763},{"$f":"[1]Data!N77","v":45.67307692307692},{"$f":"[1]Data!AB77","v":48.66939281677022},{"$f":"[1]Data!O77","v":36.19047619047619},{"$f":"[1]Data!AC77","v":38.713549978677328},{"$f":"[1]Data!P77","v":57.075471698113205},{"$f":"[1]Data!AD77","v":57.273257636745818}]
[null,{"$f":"[1]Data!C78","v":"2010-01-01"},{"$f":"[1]Data!D78","v":47.727164981036665},{"$f":"[1]Data!E78","v":50},{"$f":"[1]Data!F78","v":46.902654867256636},{"$f":"[1]Data!G78","v":41.592920353982301},{"$f":"[1]Data!H78","v":47.787610619469028},{"$f":"[1]Data!I78","v":43.303571428571431},{"$f":"[1]Data!C78","v":"2010-01-01"},{"$f":"[1]Data!R78","v":50.408160542470952},{"$f":"[1]Data!S78","v":52.28593119885889},{"$f":"[1]Data!T78","v":50.486201904529409},{"$f":"[1]Data!U78","v":45.201253619713093},{"$f":"[1]Data!V78","v":50.771601721681691},{"$f":"[1]Data!W78","v":44.651738107974666},{"$f":"[1]Data!C78","v":"2010-01-01"},{"$f":"[1]Data!K78","v":45.535714285714285},{"$f":"[1]Data!L78","v":42.38095238095238},{"$f":"[1]Data!Y78","v":49.376678631980603},{"$f":"[1]Data!Z78","v":43.742293093922278},{"$f":"[1]Data!C78","v":"2010-01-01"},{"$f":"[1]Data!M78","v":47.345132743362832},{"$f":"[1]Data!AA78","v":48.746626918867491},{"$f":"[1]Data!N78","v":53.571428571428569},{"$f":"[1]Data!AB78","v":55.253886362225217},{"$f":"[1]Data!O78","v":45.945945945945944},{"$f":"[1]Data!AC78","v":44.106891907779399},{"$f":"[1]Data!P78","v":55.752212389380531},{"$f":"[1]Data!AD78","v":56.555775084668248}]
[null,{"$f":"[1]Data!C79","v":"2010-02-01"},{"$f":"[1]Data!D79","v":48.180904118404122},{"$f":"[1]Data!E79","v":50.450450450450447},{"$f":"[1]Data!F79","v":45.49549549549549},{"$f":"[1]Data!G79","v":45.089285714285715},{"$f":"[1]Data!H79","v":50},{"$f":"[1]Data!I79","v":45.982142857142861},{"$f":"[1]Data!C79","v":"2010-02-01"},{"$f":"[1]Data!R79","v":49.189609774001298},{"$f":"[1]Data!S79","v":50.3694737518586},{"$f":"[1]Data!T79","v":46.788830336064002},{"$f":"[1]Data!U79","v":46.066635416422095},{"$f":"[1]Data!V79","v":52.26212203911831},{"$f":"[1]Data!W79","v":44.920531539347166},{"$f":"[1]Data!C79","v":"2010-02-01"},{"$f":"[1]Data!K79","v":48.198198198198199},{"$f":"[1]Data!L79","v":40.952380952380949},{"$f":"[1]Data!Y79","v":48.339267909325159},{"$f":"[1]Data!Z79","v":42.101686716076394},{"$f":"[1]Data!C79","v":"2010-02-01"},{"$f":"[1]Data!M79","v":46.36363636363636},{"$f":"[1]Data!AA79","v":46.085722488133896},{"$f":"[1]Data!N79","v":51.363636363636367},{"$f":"[1]Data!AB79","v":53.156911280019017},{"$f":"[1]Data!O79","v":50.446428571428569},{"$f":"[1]Data!AC79","v":46.274202269213013},{"$f":"[1]Data!P79","v":58.035714285714292},{"$f":"[1]Data!AD79","v":56.7433542489836}]
[null,{"$f":"[1]Data!C80","v":"2010-03-01"},{"$f":"[1]Data!D80","v":49.370799103808814},{"$f":"[1]Data!E80","v":50.961538461538467},{"$f":"[1]Data!F80","v":48.543689320388346},{"$f":"[1]Data!G80","v":44.230769230769234},{"$f":"[1]Data!H80","v":54.807692307692307},{"$f":"[1]Data!I80","v":50},{"$f":"[1]Data!C80","v":"2010-03-01"},{"$f":"[1]Data!R80","v":48.950369996168547},{"$f":"[1]Data!S80","v":49.398556699336403},{"$f":"[1]Data!T80","v":46.765008383547496},{"$f":"[1]Data!U80","v":45.273139778181303},{"$f":"[1]Data!V80","v":55.113178328880544},{"$f":"[1]Data!W80","v":47.503763986981447},{"$f":"[1]Data!C80","v":"2010-03-01"},{"$f":"[1]Data!K80","v":47.087378640776691},{"$f":"[1]Data!L80","v":45.408163265306122},{"$f":"[1]Data!Y80","v":47.320504939568821},{"$f":"[1]Data!Z80","v":43.667191618167585},{"$f":"[1]Data!C80","v":"2010-03-01"},{"$f":"[1]Data!M80","v":45.145631067961162},{"$f":"[1]Data!AA80","v":44.392043038594622},{"$f":"[1]Data!N80","v":59.708737864077676},{"$f":"[1]Data!AB80","v":58.517224004235807},{"$f":"[1]Data!O80","v":53.846153846153854},{"$f":"[1]Data!AC80","v":47.876243076408059},{"$f":"[1]Data!P80","v":62.019230769230766},{"$f":"[1]Data!AD80","v":60.670104969851408}]
[null,{"$f":"[1]Data!C81","v":"2010-04-01"},{"$f":"[1]Data!D81","v":54.880425880425882},{"$f":"[1]Data!E81","v":55.909090909090907},{"$f":"[1]Data!F81","v":57.407407407407405},{"$f":"[1]Data!G81","v":49.099099099099099},{"$f":"[1]Data!H81","v":60},{"$f":"[1]Data!I81","v":51.388888888888886},{"$f":"[1]Data!C81","v":"2010-04-01"},{"$f":"[1]Data!R81","v":51.876154715807715},{"$f":"[1]Data!S81","v":51.912636634199856},{"$f":"[1]Data!T81","v":50.517623795080745},{"$f":"[1]Data!U81","v":48.336759302739985},{"$f":"[1]Data!V81","v":58.675190243155768},{"$f":"[1]Data!W81","v":47.259219782878255},{"$f":"[1]Data!C81","v":"2010-04-01"},{"$f":"[1]Data!K81","v":54.629629629629626},{"$f":"[1]Data!L81","v":47.058823529411768},{"$f":"[1]Data!Y81","v":49.868270199481614},{"$f":"[1]Data!Z81","v":44.393777565766499},{"$f":"[1]Data!C81","v":"2010-04-01"},{"$f":"[1]Data!M81","v":52.293577981651381},{"$f":"[1]Data!AA81","v":48.544662344029007},{"$f":"[1]Data!N81","v":65.277777777777771},{"$f":"[1]Data!AB81","v":62.100136586928087},{"$f":"[1]Data!O81","v":53.211009174311933},{"$f":"[1]Data!AC81","v":50.816711431145173},{"$f":"[1]Data!P81","v":62.727272727272734},{"$f":"[1]Data!AD81","v":59.149380952637337}]
[null,{"$f":"[1]Data!C82","v":"2010-05-01"},{"$f":"[1]Data!D82","v":52.787483209008542},{"$f":"[1]Data!E82","v":55.55555555555555},{"$f":"[1]Data!F82","v":52.314814814814817},{"$f":"[1]Data!G82","v":46.788990825688074},{"$f":"[1]Data!H82","v":61.467889908256879},{"$f":"[1]Data!I82","v":53.738317757009341},{"$f":"[1]Data!C82","v":"2010-05-01"},{"$f":"[1]Data!R82","v":48.55668280769526},{"$f":"[1]Data!S82","v":49.039319182417529},{"$f":"[1]Data!T82","v":46.413691166623316},{"$f":"[1]Data!U82","v":44.343832671249835},{"$f":"[1]Data!V82","v":60.031849866866381},{"$f":"[1]Data!W82","v":55.007983521760409},{"$f":"[1]Data!C82","v":"2010-05-01"},{"$f":"[1]Data!K82","v":50.934579439252332},{"$f":"[1]Data!L82","v":49.019607843137251},{"$f":"[1]Data!Y82","v":45.818514249276276},{"$f":"[1]Data!Z82","v":45.546535486221245},{"$f":"[1]Data!C82","v":"2010-05-01"},{"$f":"[1]Data!M82","v":54.166666666666671},{"$f":"[1]Data!AA82","v":49.121667048169634},{"$f":"[1]Data!N82","v":66.972477064220186},{"$f":"[1]Data!AB82","v":63.668328718795891},{"$f":"[1]Data!O82","v":52.777777777777779},{"$f":"[1]Data!AC82","v":54.369621978633084},{"$f":"[1]Data!P82","v":62.037037037037038},{"$f":"[1]Data!AD82","v":59.966497224561813}]
[null,{"$f":"[1]Data!C83","v":"2010-06-01"},{"$f":"[1]Data!D83","v":56.8275271273558},{"$f":"[1]Data!E83","v":59.22330097087378},{"$f":"[1]Data!F83","v":60.784313725490193},{"$f":"[1]Data!G83","v":50.970873786407772},{"$f":"[1]Data!H83","v":55.339805825242721},{"$f":"[1]Data!I83","v":47.087378640776699},{"$f":"[1]Data!C83","v":"2010-06-01"},{"$f":"[1]Data!R83","v":52.122459614973025},{"$f":"[1]Data!S83","v":53.198396068727902},{"$f":"[1]Data!T83","v":53.359808486253968},{"$f":"[1]Data!U83","v":47.063017712890947},{"$f":"[1]Data!V83","v":52.831435521322973},{"$f":"[1]Data!W83","v":45.224008188617795},{"$f":"[1]Data!C83","v":"2010-06-01"},{"$f":"[1]Data!K83","v":61.881188118811885},{"$f":"[1]Data!L83","v":47.894736842105267},{"$f":"[1]Data!Y83","v":53.338174903145749},{"$f":"[1]Data!Z83","v":45.157885067734895},{"$f":"[1]Data!C83","v":"2010-06-01"},{"$f":"[1]Data!M83","v":53.883495145631066},{"$f":"[1]Data!AA83","v":49.744445387156873},{"$f":"[1]Data!N83","v":60.784313725490193},{"$f":"[1]Data!AB83","v":59.736929091835698},{"$f":"[1]Data!O83","v":46.568627450980387},{"$f":"[1]Data!AC83","v":46.807329924737537},{"$f":"[1]Data!P83","v":65.048543689320383},{"$f":"[1]Data!AD83","v":62.542070667000225}]
[null,{"$f":"[1]Data!C84","v":"2010-07-01"},{"$f":"[1]Data!D84","v":46.677978883861229},{"$f":"[1]Data!E84","v":41.346153846153847},{"$f":"[1]Data!F84","v":44.117647058823522},{"$f":"[1]Data!G84","v":42.156862745098039},{"$f":"[1]Data!H84","v":60.57692307692308},{"$f":"[1]Data!I84","v":44.117647058823529},{"$f":"[1]Data!C84","v":"2010-07-01"},{"$f":"[1]Data!R84","v":55.383555104763822},{"$f":"[1]Data!S84","v":60.287287975161114},{"$f":"[1]Data!T84","v":58.61026272708547},{"$f":"[1]Data!U84","v":45.444618280871957},{"$f":"[1]Data!V84","v":56.68064968153805},{"$f":"[1]Data!W84","v":48.623668155571927},{"$f":"[1]Data!C84","v":"2010-07-01"},{"$f":"[1]Data!K84","v":49},{"$f":"[1]Data!L84","v":42.708333333333329},{"$f":"[1]Data!Y84","v":64.095939515837514},{"$f":"[1]Data!Z84","v":49.375463366906693},{"$f":"[1]Data!C84","v":"2010-07-01"},{"$f":"[1]Data!M84","v":40.196078431372555},{"$f":"[1]Data!AA84","v":55.320460514339153},{"$f":"[1]Data!N84","v":61.538461538461533},{"$f":"[1]Data!AB84","v":62.178516121311752},{"$f":"[1]Data!O84","v":39.215686274509807},{"$f":"[1]Data!AC84","v":43.193881832760731},{"$f":"[1]Data!P84","v":67.64705882352942},{"$f":"[1]Data!AD84","v":62.217842796122788}]
[null,{"$f":"[1]Data!C85","v":"2010-08-01"},{"$f":"[1]Data!D85","v":54.983125649013495},{"$f":"[1]Data!E85","v":56.54205607476635},{"$f":"[1]Data!F85","v":55.140186915887853},{"$f":"[1]Data!G85","v":50.462962962962962},{"$f":"[1]Data!H85","v":59.259259259259252},{"$f":"[1]Data!I85","v":46.75925925925926},{"$f":"[1]Data!C85","v":"2010-08-01"},{"$f":"[1]Data!R85","v":51.67022210868592},{"$f":"[1]Data!S85","v":50.817353424492467},{"$f":"[1]Data!T85","v":50.442298705988954},{"$f":"[1]Data!U85","v":47.388522084113269},{"$f":"[1]Data!V85","v":58.601980463315293},{"$f":"[1]Data!W85","v":44.348073455538305},{"$f":"[1]Data!C85","v":"2010-08-01"},{"$f":"[1]Data!K85","v":52.857142857142854},{"$f":"[1]Data!L85","v":49.504950495049499},{"$f":"[1]Data!Y85","v":48.237158251383377},{"$f":"[1]Data!Z85","v":46.338401157662254},{"$f":"[1]Data!C85","v":"2010-08-01"},{"$f":"[1]Data!M85","v":49.532710280373834},{"$f":"[1]Data!AA85","v":44.832278280936961},{"$f":"[1]Data!N85","v":65.566037735849051},{"$f":"[1]Data!AB85","v":63.294225154435594},{"$f":"[1]Data!O85","v":41.588785046728972},{"$f":"[1]Data!AC85","v":43.517707392860423},{"$f":"[1]Data!P85","v":65.277777777777786},{"$f":"[1]Data!AD85","v":64.601236661209143}]
[null,{"$f":"[1]Data!C86","v":"2010-09-01"},{"$f":"[1]Data!D86","v":56.418273550349021},{"$f":"[1]Data!E86","v":59.523809523809518},{"$f":"[1]Data!F86","v":56.666666666666671},{"$f":"[1]Data!G86","v":52.857142857142861},{"$f":"[1]Data!H86","v":58.490566037735853},{"$f":"[1]Data!I86","v":48.07692307692308},{"$f":"[1]Data!C86","v":"2010-09-01"},{"$f":"[1]Data!R86","v":53.903980698064032},{"$f":"[1]Data!S86","v":55.303492721484176},{"$f":"[1]Data!T86","v":53.868807307971174},{"$f":"[1]Data!U86","v":50.496291161951298},{"$f":"[1]Data!V86","v":57.81339339967132},{"$f":"[1]Data!W86","v":48.538019170393213},{"$f":"[1]Data!C86","v":"2010-09-01"},{"$f":"[1]Data!K86","v":55.238095238095234},{"$f":"[1]Data!L86","v":50.510204081632651},{"$f":"[1]Data!Y86","v":52.714992510848489},{"$f":"[1]Data!Z86","v":48.045553999118518},{"$f":"[1]Data!C86","v":"2010-09-01"},{"$f":"[1]Data!M86","v":51.886792452830186},{"$f":"[1]Data!AA86","v":48.682366085300565},{"$f":"[1]Data!N86","v":66.826923076923066},{"$f":"[1]Data!AB86","v":65.702900619245469},{"$f":"[1]Data!O86","v":43.333333333333329},{"$f":"[1]Data!AC86","v":45.712588035298523},{"$f":"[1]Data!P86","v":62.857142857142861},{"$f":"[1]Data!AD86","v":64.282458035815921}]
[null,{"$f":"[1]Data!C87","v":"2010-10-01"},{"$f":"[1]Data!D87","v":55.41982376851233},{"$f":"[1]Data!E87","v":56.132075471698116},{"$f":"[1]Data!F87","v":56.018518518518519},{"$f":"[1]Data!G87","v":52.293577981651381},{"$f":"[1]Data!H87","v":59.259259259259267},{"$f":"[1]Data!I87","v":47.663551401869157},{"$f":"[1]Data!C87","v":"2010-10-01"},{"$f":"[1]Data!R87","v":57.177563823476483},{"$f":"[1]Data!S87","v":58.351973146176121},{"$f":"[1]Data!T87","v":60.584159261089169},{"$f":"[1]Data!U87","v":51.423646807124449},{"$f":"[1]Data!V87","v":60.093706357146203},{"$f":"[1]Data!W87","v":48.844625563911237},{"$f":"[1]Data!C87","v":"2010-10-01"},{"$f":"[1]Data!K87","v":55.092592592592595},{"$f":"[1]Data!L87","v":50},{"$f":"[1]Data!Y87","v":58.495452000727724},{"$f":"[1]Data!Z87","v":50.970340943518408},{"$f":"[1]Data!C87","v":"2010-10-01"},{"$f":"[1]Data!M87","v":53.211009174311933},{"$f":"[1]Data!AA87","v":54.085425935852285},{"$f":"[1]Data!N87","v":62.149532710280369},{"$f":"[1]Data!AB87","v":64.645689732676104},{"$f":"[1]Data!O87","v":43.457943925233643},{"$f":"[1]Data!AC87","v":43.872088990918051},{"$f":"[1]Data!P87","v":58.256880733944961},{"$f":"[1]Data!AD87","v":66.296525538903893}]
[null,{"$f":"[1]Data!C88","v":"2010-11-01"},{"$f":"[1]Data!D88","v":53.011937059142696},{"$f":"[1]Data!E88","v":54.736842105263158},{"$f":"[1]Data!F88","v":51.546391752577321},{"$f":"[1]Data!G88","v":51.546391752577321},{"$f":"[1]Data!H88","v":57.731958762886599},{"$f":"[1]Data!I88","v":51.05263157894737},{"$f":"[1]Data!C88","v":"2010-11-01"},{"$f":"[1]Data!R88","v":56.468976529438294},{"$f":"[1]Data!S88","v":57.897797136690947},{"$f":"[1]Data!T88","v":57.947586158181572},{"$f":"[1]Data!U88","v":53.754740535261639},{"$f":"[1]Data!V88","v":60.55121900534899},{"$f":"[1]Data!W88","v":52.233795600436004},{"$f":"[1]Data!C88","v":"2010-11-01"},{"$f":"[1]Data!K88","v":53.125},{"$f":"[1]Data!L88","v":45.555555555555557},{"$f":"[1]Data!Y88","v":57.160514516405932},{"$f":"[1]Data!Z88","v":50.161492841126048},{"$f":"[1]Data!C88","v":"2010-11-01"},{"$f":"[1]Data!M88","v":53.125},{"$f":"[1]Data!AA88","v":57.534189851403546},{"$f":"[1]Data!N88","v":58.16326530612244},{"$f":"[1]Data!AB88","v":60.734546801895881},{"$f":"[1]Data!O88","v":48.4375},{"$f":"[1]Data!AC88","v":48.883841392500827},{"$f":"[1]Data!P88","v":59.793814432989691},{"$f":"[1]Data!AD88","v":68.931958516937271}]
[null,{"$f":"[1]Data!C89","v":"2010-12-01"},{"$f":"[1]Data!D89","v":51.659291878890777},{"$f":"[1]Data!E89","v":48.958333333333329},{"$f":"[1]Data!F89","v":51.05263157894737},{"$f":"[1]Data!G89","v":51.041666666666664},{"$f":"[1]Data!H89","v":58.602150537634408},{"$f":"[1]Data!I89","v":48.94736842105263},{"$f":"[1]Data!C89","v":"2010-12-01"},{"$f":"[1]Data!R89","v":55.137957029673409},{"$f":"[1]Data!S89","v":55.571405466535175},{"$f":"[1]Data!T89","v":55.622883807676423},{"$f":"[1]Data!U89","v":54.113952757583782},{"$f":"[1]Data!V89","v":60.091446381739509},{"$f":"[1]Data!W89","v":52.78266988040987},{"$f":"[1]Data!C89","v":"2010-12-01"},{"$f":"[1]Data!K89","v":50.526315789473685},{"$f":"[1]Data!L89","v":49.438202247191008},{"$f":"[1]Data!Y89","v":55.60536852400282},{"$f":"[1]Data!Z89","v":53.21045061969339},{"$f":"[1]Data!C89","v":"2010-12-01"},{"$f":"[1]Data!M89","v":53.191489361702125},{"$f":"[1]Data!AA89","v":59.002022929271888},{"$f":"[1]Data!N89","v":62.631578947368425},{"$f":"[1]Data!AB89","v":66.186761560293647},{"$f":"[1]Data!O89","v":38.947368421052637},{"$f":"[1]Data!AC89","v":41.521938913807006},{"$f":"[1]Data!P89","v":70},{"$f":"[1]Data!AD89","v":70.280245614769072}]
[null,{"$f":"[1]Data!C90","v":"2011-01-01"},{"$f":"[1]Data!D90","v":51.862244897959187},{"$f":"[1]Data!E90","v":53.571428571428569},{"$f":"[1]Data!F90","v":51.530612244897952},{"$f":"[1]Data!G90","v":48.469387755102048},{"$f":"[1]Data!H90","v":55.102040816326529},{"$f":"[1]Data!I90","v":49.489795918367349},{"$f":"[1]Data!C90","v":"2011-01-01"},{"$f":"[1]Data!R90","v":54.022009028356024},{"$f":"[1]Data!S90","v":55.418302200812001},{"$f":"[1]Data!T90","v":54.145697016671491},{"$f":"[1]Data!U90","v":52.112819007921459},{"$f":"[1]Data!V90","v":57.644622840541935},{"$f":"[1]Data!W90","v":51.455328545140134},{"$f":"[1]Data!C90","v":"2011-01-01"},{"$f":"[1]Data!K90","v":51.020408163265301},{"$f":"[1]Data!L90","v":51.075268817204304},{"$f":"[1]Data!Y90","v":54.282236421062549},{"$f":"[1]Data!Z90","v":52.565202559230393},{"$f":"[1]Data!C90","v":"2011-01-01"},{"$f":"[1]Data!M90","v":50.515463917525771},{"$f":"[1]Data!AA90","v":51.767640939586492},{"$f":"[1]Data!N90","v":65.979381443298962},{"$f":"[1]Data!AB90","v":66.734593146817957},{"$f":"[1]Data!O90","v":53.608247422680407},{"$f":"[1]Data!AC90","v":51.805527613129271},{"$f":"[1]Data!P90","v":68.367346938775512},{"$f":"[1]Data!AD90","v":68.79899183696017}]
[null,{"$f":"[1]Data!C91","v":"2011-02-01"},{"$f":"[1]Data!D91","v":55.794372177612011},{"$f":"[1]Data!E91","v":58.064516129032263},{"$f":"[1]Data!F91","v":57.526881720430111},{"$f":"[1]Data!G91","v":54.838709677419352},{"$f":"[1]Data!H91","v":55.494505494505496},{"$f":"[1]Data!I91","v":52.717391304347828},{"$f":"[1]Data!C91","v":"2011-02-01"},{"$f":"[1]Data!R91","v":56.683166144321241},{"$f":"[1]Data!S91","v":57.359557885992942},{"$f":"[1]Data!T91","v":58.450238929930094},{"$f":"[1]Data!U91","v":56.25952134982294},{"$f":"[1]Data!V91","v":57.787113771979982},{"$f":"[1]Data!W91","v":51.11766341917609},{"$f":"[1]Data!C91","v":"2011-02-01"},{"$f":"[1]Data!K91","v":56.451612903225808},{"$f":"[1]Data!L91","v":54.597701149425291},{"$f":"[1]Data!Y91","v":55.725973925374817},{"$f":"[1]Data!Z91","v":55.784162194812637},{"$f":"[1]Data!C91","v":"2011-02-01"},{"$f":"[1]Data!M91","v":59.340659340659343},{"$f":"[1]Data!AA91","v":58.410563282849559},{"$f":"[1]Data!N91","v":66.129032258064512},{"$f":"[1]Data!AB91","v":67.467394553377915},{"$f":"[1]Data!O91","v":53.260869565217391},{"$f":"[1]Data!AC91","v":48.958305260025639},{"$f":"[1]Data!P91","v":74.72527472527473},{"$f":"[1]Data!AD91","v":71.704454623805475}]
[null,{"$f":"[1]Data!C92","v":"2011-03-01"},{"$f":"[1]Data!D92","v":55.015324023842069},{"$f":"[1]Data!E92","v":59.433962264150942},{"$f":"[1]Data!F92","v":56.730769230769234},{"$f":"[1]Data!G92","v":50.961538461538467},{"$f":"[1]Data!H92","v":58.737864077669911},{"$f":"[1]Data!I92","v":58.653846153846153},{"$f":"[1]Data!C92","v":"2011-03-01"},{"$f":"[1]Data!R92","v":53.922869345971066},{"$f":"[1]Data!S92","v":56.678723018352336},{"$f":"[1]Data!T92","v":54.043468314910093},{"$f":"[1]Data!U92","v":51.651287017222081},{"$f":"[1]Data!V92","v":58.57066215661375},{"$f":"[1]Data!W92","v":55.757086300265236},{"$f":"[1]Data!C92","v":"2011-03-01"},{"$f":"[1]Data!K92","v":54.761904761904759},{"$f":"[1]Data!L92","v":56.185567010309278},{"$f":"[1]Data!Y92","v":54.481465666639025},{"$f":"[1]Data!Z92","v":53.164371947898857},{"$f":"[1]Data!C92","v":"2011-03-01"},{"$f":"[1]Data!M92","v":58.490566037735846},{"$f":"[1]Data!AA92","v":56.363689682893259},{"$f":"[1]Data!N92","v":72.058823529411768},{"$f":"[1]Data!AB92","v":69.932159090321932},{"$f":"[1]Data!O92","v":57.766990291262132},{"$f":"[1]Data!AC92","v":51.37927954106739},{"$f":"[1]Data!P92","v":70.67307692307692},{"$f":"[1]Data!AD92","v":68.078691006750802}]
[null,{"$f":"[1]Data!C93","v":"2011-04-01"},{"$f":"[1]Data!D93","v":57.046425787679702},{"$f":"[1]Data!E93","v":58.988764044943821},{"$f":"[1]Data!F93","v":62.087912087912088},{"$f":"[1]Data!G93","v":54.838709677419359},{"$f":"[1]Data!H93","v":57.526881720430104},{"$f":"[1]Data!I93","v":59.239130434782609},{"$f":"[1]Data!C93","v":"2011-04-01"},{"$f":"[1]Data!R93","v":54.110779343345996},{"$f":"[1]Data!S93","v":55.104463032171559},{"$f":"[1]Data!T93","v":54.814331538799784},{"$f":"[1]Data!U93","v":53.830741665392488},{"$f":"[1]Data!V93","v":56.828773489704247},{"$f":"[1]Data!W93","v":54.00100232870971},{"$f":"[1]Data!C93","v":"2011-04-01"},{"$f":"[1]Data!K93","v":58.333333333333329},{"$f":"[1]Data!L93","v":54.022988505747129},{"$f":"[1]Data!Y93","v":52.994782639380468},{"$f":"[1]Data!Z93","v":50.616474793140362},{"$f":"[1]Data!C93","v":"2011-04-01"},{"$f":"[1]Data!M93","v":60.869565217391298},{"$f":"[1]Data!AA93","v":55.806755473374238},{"$f":"[1]Data!N93","v":69.318181818181827},{"$f":"[1]Data!AB93","v":65.636200205946992},{"$f":"[1]Data!O93","v":58.064516129032256},{"$f":"[1]Data!AC93","v":54.917931583993159},{"$f":"[1]Data!P93","v":71.505376344086017},{"$f":"[1]Data!AD93","v":67.951565975609938}]
[null,{"$f":"[1]Data!C94","v":"2011-05-01"},{"$f":"[1]Data!D94","v":60.377432743274326},{"$f":"[1]Data!E94","v":64.141414141414145},{"$f":"[1]Data!F94","v":62.376237623762378},{"$f":"[1]Data!G94","v":60.396039603960389},{"$f":"[1]Data!H94","v":57},{"$f":"[1]Data!I94","v":50},{"$f":"[1]Data!C94","v":"2011-05-01"},{"$f":"[1]Data!R94","v":55.667365104227407},{"$f":"[1]Data!S94","v":56.883366939314556},{"$f":"[1]Data!T94","v":55.335571228381902},{"$f":"[1]Data!U94","v":57.149210053324573},{"$f":"[1]Data!V94","v":56.394495661799425},{"$f":"[1]Data!W94","v":50.43164359050629},{"$f":"[1]Data!C94","v":"2011-05-01"},{"$f":"[1]Data!K94","v":61.616161616161619},{"$f":"[1]Data!L94","v":56.521739130434781},{"$f":"[1]Data!Y94","v":55.36079738955916},{"$f":"[1]Data!Z94","v":52.034391111531704},{"$f":"[1]Data!C94","v":"2011-05-01"},{"$f":"[1]Data!M94","v":57.070707070707073},{"$f":"[1]Data!AA94","v":50.978754363000348},{"$f":"[1]Data!N94","v":65.5},{"$f":"[1]Data!AB94","v":62.302665107065522},{"$f":"[1]Data!O94","v":49.009900990099013},{"$f":"[1]Data!AC94","v":50.53322244020201},{"$f":"[1]Data!P94","v":66.831683168316829},{"$f":"[1]Data!AD94","v":64.85972505544396}]
[null,{"$f":"[1]Data!C95","v":"2011-06-01"},{"$f":"[1]Data!D95","v":61.644928880643157},{"$f":"[1]Data!E95","v":65},{"$f":"[1]Data!F95","v":66.326530612244895},{"$f":"[1]Data!G95","v":60.5},{"$f":"[1]Data!H95","v":58},{"$f":"[1]Data!I95","v":53.030303030303031},{"$f":"[1]Data!C95","v":"2011-06-01"},{"$f":"[1]Data!R95","v":56.725577620393125},{"$f":"[1]Data!S95","v":58.535654753662804},{"$f":"[1]Data!T95","v":58.603862359979807},{"$f":"[1]Data!U95","v":56.070319277637687},{"$f":"[1]Data!V95","v":55.562882217178654},{"$f":"[1]Data!W95","v":50.379909641208556},{"$f":"[1]Data!C95","v":"2011-06-01"},{"$f":"[1]Data!K95","v":64},{"$f":"[1]Data!L95","v":55.978260869565219},{"$f":"[1]Data!Y95","v":56.272948769738257},{"$f":"[1]Data!Z95","v":53.118023486908612},{"$f":"[1]Data!C95","v":"2011-06-01"},{"$f":"[1]Data!M95","v":65.306122448979593},{"$f":"[1]Data!AA95","v":60.986430678317234},{"$f":"[1]Data!N95","v":63.131313131313135},{"$f":"[1]Data!AB95","v":63.545803489093139},{"$f":"[1]Data!O95","v":54.040404040404042},{"$f":"[1]Data!AC95","v":54.338187172199746},{"$f":"[1]Data!P95","v":71.5},{"$f":"[1]Data!AD95","v":69.137488397130781}]
[null,{"$f":"[1]Data!C96","v":"2011-07-01"},{"$f":"[1]Data!D96","v":48.824246453900713},{"$f":"[1]Data!E96","v":43.75},{"$f":"[1]Data!F96","v":42.708333333333329},{"$f":"[1]Data!G96","v":55.319148936170222},{"$f":"[1]Data!H96","v":59.375000000000007},{"$f":"[1]Data!I96","v":48.958333333333329},{"$f":"[1]Data!C96","v":"2011-07-01"},{"$f":"[1]Data!R96","v":58.011423344818624},{"$f":"[1]Data!S96","v":64.021493617201301},{"$f":"[1]Data!T96","v":57.46299610066675},{"$f":"[1]Data!U96","v":59.133795643635267},{"$f":"[1]Data!V96","v":55.390291480122258},{"$f":"[1]Data!W96","v":53.681517404271261},{"$f":"[1]Data!C96","v":"2011-07-01"},{"$f":"[1]Data!K96","v":43.61702127659575},{"$f":"[1]Data!L96","v":41.860465116279066},{"$f":"[1]Data!Y96","v":56.861140348458854},{"$f":"[1]Data!Z96","v":48.936448645212657},{"$f":"[1]Data!C96","v":"2011-07-01"},{"$f":"[1]Data!M96","v":40.625},{"$f":"[1]Data!AA96","v":56.161420016058109},{"$f":"[1]Data!N96","v":55.434782608695656},{"$f":"[1]Data!AB96","v":56.975027321310058},{"$f":"[1]Data!O96","v":52.083333333333336},{"$f":"[1]Data!AC96","v":56.87524833429201},{"$f":"[1]Data!P96","v":71.276595744680861},{"$f":"[1]Data!AD96","v":66.388774472930024}]
[null,{"$f":"[1]Data!C97","v":"2011-08-01"},{"$f":"[1]Data!D97","v":58.082150858849886},{"$f":"[1]Data!E97","v":62},{"$f":"[1]Data!F97","v":64.077669902912618},{"$f":"[1]Data!G97","v":54.807692307692314},{"$f":"[1]Data!H97","v":53.846153846153854},{"$f":"[1]Data!I97","v":56.796116504854375},{"$f":"[1]Data!C97","v":"2011-08-01"},{"$f":"[1]Data!R97","v":54.565070320337135},{"$f":"[1]Data!S97","v":55.715347822711585},{"$f":"[1]Data!T97","v":58.720230824732873},{"$f":"[1]Data!U97","v":51.968710394673664},{"$f":"[1]Data!V97","v":53.514881513769872},{"$f":"[1]Data!W97","v":54.008101887608433},{"$f":"[1]Data!C97","v":"2011-08-01"},{"$f":"[1]Data!K97","v":60.784313725490193},{"$f":"[1]Data!L97","v":51.546391752577321},{"$f":"[1]Data!Y97","v":55.125016874220819},{"$f":"[1]Data!Z97","v":48.699409968839532},{"$f":"[1]Data!C97","v":"2011-08-01"},{"$f":"[1]Data!M97","v":58.737864077669911},{"$f":"[1]Data!AA97","v":53.343104653989244},{"$f":"[1]Data!N97","v":57.352941176470587},{"$f":"[1]Data!AB97","v":56.073518939314582},{"$f":"[1]Data!O97","v":50.490196078431367},{"$f":"[1]Data!AC97","v":53.183640948726406},{"$f":"[1]Data!P97","v":62.980769230769234},{"$f":"[1]Data!AD97","v":62.393511895159108}]
[null,{"$f":"[1]Data!C98","v":"2011-09-01"},{"$f":"[1]Data!D98","v":57.523041640898782},{"$f":"[1]Data!E98","v":61.224489795918373},{"$f":"[1]Data!F98","v":61.111111111111114},{"$f":"[1]Data!G98","v":54.040404040404042},{"$f":"[1]Data!H98","v":53.5},{"$f":"[1]Data!I98","v":49.494949494949495},{"$f":"[1]Data!C98","v":"2011-09-01"},{"$f":"[1]Data!R98","v":54.816436926579023},{"$f":"[1]Data!S98","v":56.433723362636151},{"$f":"[1]Data!T98","v":58.565784177249981},{"$f":"[1]Data!U98","v":51.438551490741375},{"$f":"[1]Data!V98","v":52.854594003639853},{"$f":"[1]Data!W98","v":50.776285659492601},{"$f":"[1]Data!C98","v":"2011-09-01"},{"$f":"[1]Data!K98","v":59.793814432989691},{"$f":"[1]Data!L98","v":51.666666666666664},{"$f":"[1]Data!Y98","v":57.817711022648979},{"$f":"[1]Data!Z98","v":49.602453582364205},{"$f":"[1]Data!C98","v":"2011-09-01"},{"$f":"[1]Data!M98","v":55.55555555555555},{"$f":"[1]Data!AA98","v":52.008491142384578},{"$f":"[1]Data!N98","v":52.525252525252526},{"$f":"[1]Data!AB98","v":52.030024590203311},{"$f":"[1]Data!O98","v":47.5},{"$f":"[1]Data!AC98","v":49.76611930468335},{"$f":"[1]Data!P98","v":60.5},{"$f":"[1]Data!AD98","v":62.738133230690465}]
[null,{"$f":"[1]Data!C99","v":"2011-10-01"},{"$f":"[1]Data!D99","v":48.510652535841814},{"$f":"[1]Data!E99","v":49.494949494949495},{"$f":"[1]Data!F99","v":46.039603960396036},{"$f":"[1]Data!G99","v":49.019607843137258},{"$f":"[1]Data!H99","v":52.450980392156865},{"$f":"[1]Data!I99","v":53.465346534653463},{"$f":"[1]Data!C99","v":"2011-10-01"},{"$f":"[1]Data!R99","v":50.021264933938937},{"$f":"[1]Data!S99","v":51.748814095533767},{"$f":"[1]Data!T99","v":49.780347062766623},{"$f":"[1]Data!U99","v":48.938914411547998},{"$f":"[1]Data!V99","v":53.004014086680115},{"$f":"[1]Data!W99","v":55.884277040861043},{"$f":"[1]Data!C99","v":"2011-10-01"},{"$f":"[1]Data!K99","v":45.544554455445549},{"$f":"[1]Data!L99","v":44.021739130434781},{"$f":"[1]Data!Y99","v":48.452853977093064},{"$f":"[1]Data!Z99","v":45.036553800588749},{"$f":"[1]Data!C99","v":"2011-10-01"},{"$f":"[1]Data!M99","v":48.019801980198025},{"$f":"[1]Data!AA99","v":50.024487573278897},{"$f":"[1]Data!N99","v":51.470588235294116},{"$f":"[1]Data!AB99","v":53.833394329390273},{"$f":"[1]Data!O99","v":53.431372549019606},{"$f":"[1]Data!AC99","v":54.692142463301167},{"$f":"[1]Data!P99","v":50.490196078431374},{"$f":"[1]Data!AD99","v":57.453809419966696}]
[null,{"$f":"[1]Data!C100","v":"2011-11-01"},{"$f":"[1]Data!D100","v":46.588207447927623},{"$f":"[1]Data!E100","v":48.979591836734691},{"$f":"[1]Data!F100","v":43.814432989690715},{"$f":"[1]Data!G100","v":43.877551020408163},{"$f":"[1]Data!H100","v":48.469387755102041},{"$f":"[1]Data!I100","v":48.469387755102034},{"$f":"[1]Data!C100","v":"2011-11-01"},{"$f":"[1]Data!R100","v":49.602228249227885},{"$f":"[1]Data!S100","v":51.77302768773815},{"$f":"[1]Data!T100","v":49.092869786045625},{"$f":"[1]Data!U100","v":46.185044123685309},{"$f":"[1]Data!V100","v":50.653961181444814},{"$f":"[1]Data!W100","v":49.039926104741269},{"$f":"[1]Data!C100","v":"2011-11-01"},{"$f":"[1]Data!K100","v":46.428571428571431},{"$f":"[1]Data!L100","v":41.208791208791212},{"$f":"[1]Data!Y100","v":50.315467708932523},{"$f":"[1]Data!Z100","v":45.046196438413467},{"$f":"[1]Data!C100","v":"2011-11-01"},{"$f":"[1]Data!M100","v":45.91836734693878},{"$f":"[1]Data!AA100","v":49.214259662001631},{"$f":"[1]Data!N100","v":53.061224489795919},{"$f":"[1]Data!AB100","v":55.2572372988474},{"$f":"[1]Data!O100","v":50.510204081632651},{"$f":"[1]Data!AC100","v":50.562357069638843},{"$f":"[1]Data!P100","v":48.469387755102041},{"$f":"[1]Data!AD100","v":55.221797729572181}]
[null,{"$f":"[1]Data!C101","v":"2011-12-01"},{"$f":"[1]Data!D101","v":44.169417296699244},{"$f":"[1]Data!E101","v":43.75},{"$f":"[1]Data!F101","v":37.931034482758619},{"$f":"[1]Data!G101","v":43.75},{"$f":"[1]Data!H101","v":52.840909090909093},{"$f":"[1]Data!I101","v":48.235294117647058},{"$f":"[1]Data!C101","v":"2011-12-01"},{"$f":"[1]Data!R101","v":47.275784784805019},{"$f":"[1]Data!S101","v":50.452359900330705},{"$f":"[1]Data!T101","v":41.923049102766477},{"$f":"[1]Data!U101","v":45.918966574728358},{"$f":"[1]Data!V101","v":54.210639267371498},{"$f":"[1]Data!W101","v":52.296091261589986},{"$f":"[1]Data!C101","v":"2011-12-01"},{"$f":"[1]Data!K101","v":42.441860465116278},{"$f":"[1]Data!L101","v":33.132530120481931},{"$f":"[1]Data!Y101","v":47.193476420247968},{"$f":"[1]Data!Z101","v":35.989327287933726},{"$f":"[1]Data!C101","v":"2011-12-01"},{"$f":"[1]Data!M101","v":36.93181818181818},{"$f":"[1]Data!AA101","v":42.247707854514154},{"$f":"[1]Data!N101","v":51.136363636363633},{"$f":"[1]Data!AB101","v":52.737120149692885},{"$f":"[1]Data!O101","v":50},{"$f":"[1]Data!AC101","v":52.862428744095382},{"$f":"[1]Data!P101","v":50.56818181818182},{"$f":"[1]Data!AD101","v":50.832798938238824}]
[null,{"$f":"[1]Data!C102","v":"2012-01-01"},{"$f":"[1]Data!D102","v":51.73934272240605},{"$f":"[1]Data!E102","v":52.551020408163268},{"$f":"[1]Data!F102","v":53.571428571428569},{"$f":"[1]Data!G102","v":47.979797979797979},{"$f":"[1]Data!H102","v":52.551020408163268},{"$f":"[1]Data!I102","v":49.484536082474229},{"$f":"[1]Data!C102","v":"2012-01-01"},{"$f":"[1]Data!R102","v":53.197029298498535},{"$f":"[1]Data!S102","v":53.919542416175595},{"$f":"[1]Data!T102","v":55.083522722790057},{"$f":"[1]Data!U102","v":50.991035954340425},{"$f":"[1]Data!V102","v":54.298197883219316},{"$f":"[1]Data!W102","v":51.508499957333598},{"$f":"[1]Data!C102","v":"2012-01-01"},{"$f":"[1]Data!K102","v":49.484536082474222},{"$f":"[1]Data!L102","v":45.054945054945058},{"$f":"[1]Data!Y102","v":51.67145488808562},{"$f":"[1]Data!Z102","v":45.865561423439139},{"$f":"[1]Data!C102","v":"2012-01-01"},{"$f":"[1]Data!M102","v":48.4375},{"$f":"[1]Data!AA102","v":49.356895707379195},{"$f":"[1]Data!N102","v":55.050505050505052},{"$f":"[1]Data!AB102","v":54.244565207608957},{"$f":"[1]Data!O102","v":52.04081632653061},{"$f":"[1]Data!AC102","v":50.516565901356458},{"$f":"[1]Data!P102","v":63.63636363636364},{"$f":"[1]Data!AD102","v":63.168181328719108}]
[null,{"$f":"[1]Data!C103","v":"2012-02-01"},{"$f":"[1]Data!D103","v":54.481597139305769},{"$f":"[1]Data!E103","v":57.65306122448979},{"$f":"[1]Data!F103","v":58.585858585858588},{"$f":"[1]Data!G103","v":48},{"$f":"[1]Data!H103","v":54.950495049504951},{"$f":"[1]Data!I103","v":53.5},{"$f":"[1]Data!C103","v":"2012-02-01"},{"$f":"[1]Data!R103","v":54.977918699166949},{"$f":"[1]Data!S103","v":56.584223654550627},{"$f":"[1]Data!T103","v":58.446706149031669},{"$f":"[1]Data!U103","v":49.573820323184414},{"$f":"[1]Data!V103","v":57.028116502833981},{"$f":"[1]Data!W103","v":51.711305992421934},{"$f":"[1]Data!C103","v":"2012-02-01"},{"$f":"[1]Data!K103","v":58.080808080808076},{"$f":"[1]Data!L103","v":49.450549450549453},{"$f":"[1]Data!Y103","v":56.62237654260575},{"$f":"[1]Data!Z103","v":49.996902055875154},{"$f":"[1]Data!C103","v":"2012-02-01"},{"$f":"[1]Data!M103","v":55.940594059405939},{"$f":"[1]Data!AA103","v":54.543150754390695},{"$f":"[1]Data!N103","v":54.950495049504951},{"$f":"[1]Data!AB103","v":55.458438718288697},{"$f":"[1]Data!O103","v":55.940594059405939},{"$f":"[1]Data!AC103","v":51.662118875834935},{"$f":"[1]Data!P103","v":63.366336633663366},{"$f":"[1]Data!AD103","v":59.753551868033938}]
[null,{"$f":"[1]Data!C104","v":"2012-03-01"},{"$f":"[1]Data!D104","v":58.987997462210288},{"$f":"[1]Data!E104","v":59.444444444444443},{"$f":"[1]Data!F104","v":64.534883720930225},{"$f":"[1]Data!G104","v":57.777777777777771},{"$f":"[1]Data!H104","v":55.11363636363636},{"$f":"[1]Data!I104","v":50.561797752808992},{"$f":"[1]Data!C104","v":"2012-03-01"},{"$f":"[1]Data!R104","v":57.148001331122913},{"$f":"[1]Data!S104","v":55.762048363226931},{"$f":"[1]Data!T104","v":60.717845337790493},{"$f":"[1]Data!U104","v":57.797913361596933},{"$f":"[1]Data!V104","v":54.88500095128326},{"$f":"[1]Data!W104","v":48.00197176032836},{"$f":"[1]Data!C104","v":"2012-03-01"},{"$f":"[1]Data!K104","v":63.372093023255815},{"$f":"[1]Data!L104","v":53.125},{"$f":"[1]Data!Y104","v":61.936265013985256},{"$f":"[1]Data!Z104","v":49.782311007875506},{"$f":"[1]Data!C104","v":"2012-03-01"},{"$f":"[1]Data!M104","v":56.111111111111114},{"$f":"[1]Data!AA104","v":52.666757748014071},{"$f":"[1]Data!N104","v":56.17977528089888},{"$f":"[1]Data!AB104","v":53.918574384250988},{"$f":"[1]Data!O104","v":58.888888888888886},{"$f":"[1]Data!AC104","v":52.931863328997764},{"$f":"[1]Data!P104","v":65.934065934065927},{"$f":"[1]Data!AD104","v":63.190189864644999}]
[null,{"$f":"[1]Data!C105","v":"2012-04-01"},{"$f":"[1]Data!D105","v":54.937091893613641},{"$f":"[1]Data!E105","v":56.666666666666664},{"$f":"[1]Data!F105","v":60.989010989010993},{"$f":"[1]Data!G105","v":52.717391304347828},{"$f":"[1]Data!H105","v":50.549450549450547},{"$f":"[1]Data!I105","v":56.521739130434781},{"$f":"[1]Data!C105","v":"2012-04-01"},{"$f":"[1]Data!R105","v":52.311525320863041},{"$f":"[1]Data!S105","v":53.349183654541484},{"$f":"[1]Data!T105","v":54.164602292340447},{"$f":"[1]Data!U105","v":51.70744713938808},{"$f":"[1]Data!V105","v":50.33758258854526},{"$f":"[1]Data!W105","v":51.672780966338678},{"$f":"[1]Data!C105","v":"2012-04-01"},{"$f":"[1]Data!K105","v":59.890109890109898},{"$f":"[1]Data!L105","v":53.012048192771083},{"$f":"[1]Data!Y105","v":54.104892662465254},{"$f":"[1]Data!Z105","v":49.571933086353695},{"$f":"[1]Data!C105","v":"2012-04-01"},{"$f":"[1]Data!M105","v":57.608695652173914},{"$f":"[1]Data!AA105","v":52.726457464739617},{"$f":"[1]Data!N105","v":58.888888888888893},{"$f":"[1]Data!AB105","v":56.204921240818543},{"$f":"[1]Data!O105","v":49.456521739130437},{"$f":"[1]Data!AC105","v":46.641375166935887},{"$f":"[1]Data!P105","v":61.41304347826086},{"$f":"[1]Data!AD105","v":58.745344339661919}]
[null,{"$f":"[1]Data!C106","v":"2012-05-01"},{"$f":"[1]Data!D106","v":57.838235294117652},{"$f":"[1]Data!E106","v":61.428571428571431},{"$f":"[1]Data!F106","v":64.705882352941174},{"$f":"[1]Data!G106","v":54.285714285714292},{"$f":"[1]Data!H106","v":48.571428571428569},{"$f":"[1]Data!I106","v":50.735294117647058},{"$f":"[1]Data!C106","v":"2012-05-01"},{"$f":"[1]Data!R106","v":53.499988403657341},{"$f":"[1]Data!S106","v":54.895559233893259},{"$f":"[1]Data!T106","v":57.608487414125214},{"$f":"[1]Data!U106","v":51.28520595511857},{"$f":"[1]Data!V106","v":48.661976555991771},{"$f":"[1]Data!W106","v":50.6278530347602},{"$f":"[1]Data!C106","v":"2012-05-01"},{"$f":"[1]Data!K106","v":61.764705882352942},{"$f":"[1]Data!L106","v":56.25},{"$f":"[1]Data!Y106","v":55.660350046627649},{"$f":"[1]Data!Z106","v":51.69068426083652},{"$f":"[1]Data!C106","v":"2012-05-01"},{"$f":"[1]Data!M106","v":58.695652173913047},{"$f":"[1]Data!AA106","v":52.379700882103819},{"$f":"[1]Data!N106","v":56.521739130434781},{"$f":"[1]Data!AB106","v":54.556576928008027},{"$f":"[1]Data!O106","v":48.550724637681157},{"$f":"[1]Data!AC106","v":49.971090116247744},{"$f":"[1]Data!P106","v":65.714285714285708},{"$f":"[1]Data!AD106","v":64.355559817373788}]
[null,{"$f":"[1]Data!C107","v":"2012-06-01"},{"$f":"[1]Data!D107","v":50.429007774898182},{"$f":"[1]Data!E107","v":55.405405405405403},{"$f":"[1]Data!F107","v":49.315068493150683},{"$f":"[1]Data!G107","v":47.260273972602739},{"$f":"[1]Data!H107","v":52.027027027027025},{"$f":"[1]Data!I107","v":54.729729729729733},{"$f":"[1]Data!C107","v":"2012-06-01"},{"$f":"[1]Data!R107","v":47.128453285250629},{"$f":"[1]Data!S107","v":50.480770446728364},{"$f":"[1]Data!T107","v":44.422170181413634},{"$f":"[1]Data!U107","v":44.356185848859418},{"$f":"[1]Data!V107","v":49.939762814527384},{"$f":"[1]Data!W107","v":51.805919728065355},{"$f":"[1]Data!C107","v":"2012-06-01"},{"$f":"[1]Data!K107","v":52.739726027397253},{"$f":"[1]Data!L107","v":41.911764705882348},{"$f":"[1]Data!Y107","v":47.7872879726485},{"$f":"[1]Data!Z107","v":39.974292565838141},{"$f":"[1]Data!C107","v":"2012-06-01"},{"$f":"[1]Data!M107","v":46.621621621621628},{"$f":"[1]Data!AA107","v":43.932659878414128},{"$f":"[1]Data!N107","v":48.648648648648646},{"$f":"[1]Data!AB107","v":49.538777166914208},{"$f":"[1]Data!O107","v":47.297297297297298},{"$f":"[1]Data!AC107","v":47.531292074536658},{"$f":"[1]Data!P107","v":56.081081081081081},{"$f":"[1]Data!AD107","v":54.734554301448462}]
[null,{"$f":"[1]Data!C108","v":"2012-07-01"},{"$f":"[1]Data!D108","v":42.33562367864694},{"$f":"[1]Data!E108","v":32.222222222222221},{"$f":"[1]Data!F108","v":35.227272727272727},{"$f":"[1]Data!G108","v":52.222222222222221},{"$f":"[1]Data!H108","v":56.666666666666664},{"$f":"[1]Data!I108","v":52.325581395348834},{"$f":"[1]Data!C108","v":"2012-07-01"},{"$f":"[1]Data!R108","v":49.578803311356026},{"$f":"[1]Data!S108","v":47.296485603690662},{"$f":"[1]Data!T108","v":48.250988658826856},{"$f":"[1]Data!U108","v":55.519214807970357},{"$f":"[1]Data!V108","v":52.694365539186251},{"$f":"[1]Data!W108","v":57.286124796867014},{"$f":"[1]Data!C108","v":"2012-07-01"},{"$f":"[1]Data!K108","v":38.63636363636364},{"$f":"[1]Data!L108","v":37.804878048780488},{"$f":"[1]Data!Y108","v":50.769771903900562},{"$f":"[1]Data!Z108","v":44.975474170242528},{"$f":"[1]Data!C108","v":"2012-07-01"},{"$f":"[1]Data!M108","v":32.222222222222221},{"$f":"[1]Data!AA108","v":44.973537018443984},{"$f":"[1]Data!N108","v":44.444444444444443},{"$f":"[1]Data!AB108","v":46.323120365529171},{"$f":"[1]Data!O108","v":46.666666666666671},{"$f":"[1]Data!AC108","v":50.89545200550355},{"$f":"[1]Data!P108","v":75.555555555555543},{"$f":"[1]Data!AD108","v":71.645184481248805}]
[null,{"$f":"[1]Data!C109","v":"2012-08-01"},{"$f":"[1]Data!D109","v":52.931034482758619},{"$f":"[1]Data!E109","v":53.333333333333329},{"$f":"[1]Data!F109","v":55},{"$f":"[1]Data!G109","v":50.833333333333329},{"$f":"[1]Data!H109","v":50},{"$f":"[1]Data!I109","v":45.689655172413794},{"$f":"[1]Data!C109","v":"2012-08-01"},{"$f":"[1]Data!R109","v":49.793853980902099},{"$f":"[1]Data!S109","v":47.637420519648941},{"$f":"[1]Data!T109","v":50.433576218122738},{"$f":"[1]Data!U109","v":48.384366802893886},{"$f":"[1]Data!V109","v":49.579150895699023},{"$f":"[1]Data!W109","v":43.593200093805962},{"$f":"[1]Data!C109","v":"2012-08-01"},{"$f":"[1]Data!K109","v":57.627118644067792},{"$f":"[1]Data!L109","v":46.491228070175438},{"$f":"[1]Data!Y109","v":51.98875061258434},{"$f":"[1]Data!Z109","v":44.262413055544855},{"$f":"[1]Data!C109","v":"2012-08-01"},{"$f":"[1]Data!M109","v":48.305084745762713},{"$f":"[1]Data!AA109","v":43.969699219539805},{"$f":"[1]Data!N109","v":49.166666666666664},{"$f":"[1]Data!AB109","v":48.665993764381099},{"$f":"[1]Data!O109","v":45},{"$f":"[1]Data!AC109","v":47.360404788859249},{"$f":"[1]Data!P109","v":55.833333333333329},{"$f":"[1]Data!AD109","v":55.285774937211656}]
[null,{"$f":"[1]Data!C110","v":"2012-09-01"},{"$f":"[1]Data!D110","v":52.931057373162631},{"$f":"[1]Data!E110","v":54.054054054054056},{"$f":"[1]Data!F110","v":50.666666666666671},{"$f":"[1]Data!G110","v":53.94736842105263},{"$f":"[1]Data!H110","v":52.631578947368418},{"$f":"[1]Data!I110","v":44.666666666666671},{"$f":"[1]Data!C110","v":"2012-09-01"},{"$f":"[1]Data!R110","v":50.379221246833836},{"$f":"[1]Data!S110","v":49.500231495516452},{"$f":"[1]Data!T110","v":48.482827333849244},{"$f":"[1]Data!U110","v":51.129485366429378},{"$f":"[1]Data!V110","v":52.086205967909251},{"$f":"[1]Data!W110","v":45.795127956723192},{"$f":"[1]Data!C110","v":"2012-09-01"},{"$f":"[1]Data!K110","v":48.666666666666664},{"$f":"[1]Data!L110","v":45.833333333333329},{"$f":"[1]Data!Y110","v":46.986899534892764},{"$f":"[1]Data!Z110","v":44.295760086263051},{"$f":"[1]Data!C110","v":"2012-09-01"},{"$f":"[1]Data!M110","v":50.666666666666671},{"$f":"[1]Data!AA110","v":46.99006813680392},{"$f":"[1]Data!N110","v":50.666666666666664},{"$f":"[1]Data!AB110","v":50.676915685424099},{"$f":"[1]Data!O110","v":47.972972972972968},{"$f":"[1]Data!AC110","v":49.597999121596892},{"$f":"[1]Data!P110","v":54},{"$f":"[1]Data!AD110","v":56.296102482816828}]
[null,{"$f":"[1]Data!C111","v":"2012-10-01"},{"$f":"[1]Data!D111","v":48.393522275115103},{"$f":"[1]Data!E111","v":46.202531645569621},{"$f":"[1]Data!F111","v":46.25},{"$f":"[1]Data!G111","v":49.382716049382715},{"$f":"[1]Data!H111","v":49.358974358974351},{"$f":"[1]Data!I111","v":43.125},{"$f":"[1]Data!C111","v":"2012-10-01"},{"$f":"[1]Data!R111","v":49.804362400026193},{"$f":"[1]Data!S111","v":48.258559627785466},{"$f":"[1]Data!T111","v":49.64051350792564},{"$f":"[1]Data!U111","v":49.638250416480005},{"$f":"[1]Data!V111","v":49.814733071480759},{"$f":"[1]Data!W111","v":45.522916033159802},{"$f":"[1]Data!C111","v":"2012-10-01"},{"$f":"[1]Data!K111","v":47.5},{"$f":"[1]Data!L111","v":42.763157894736835},{"$f":"[1]Data!Y111","v":50.436978694412275},{"$f":"[1]Data!Z111","v":43.776665308237533},{"$f":"[1]Data!C111","v":"2012-10-01"},{"$f":"[1]Data!M111","v":39.506172839506171},{"$f":"[1]Data!AA111","v":41.516283723361362},{"$f":"[1]Data!N111","v":48.101265822784811},{"$f":"[1]Data!AB111","v":50.445133323205724},{"$f":"[1]Data!O111","v":43.75},{"$f":"[1]Data!AC111","v":45.200492803444767},{"$f":"[1]Data!P111","v":50.617283950617278},{"$f":"[1]Data!AD111","v":56.766236750329355}]
[null,{"$f":"[1]Data!C112","v":"2012-11-01"},{"$f":"[1]Data!D112","v":47.110057211683227},{"$f":"[1]Data!E112","v":46.341463414634148},{"$f":"[1]Data!F112","v":43.209876543209873},{"$f":"[1]Data!G112","v":50},{"$f":"[1]Data!H112","v":50},{"$f":"[1]Data!I112","v":49.382716049382715},{"$f":"[1]Data!C112","v":"2012-11-01"},{"$f":"[1]Data!R112","v":50.112800257947995},{"$f":"[1]Data!S112","v":48.971475973696535},{"$f":"[1]Data!T112","v":48.03922655099332},{"$f":"[1]Data!U112","v":53.178114887817756},{"$f":"[1]Data!V112","v":52.092711768117212},{"$f":"[1]Data!W112","v":49.913664435552647},{"$f":"[1]Data!C112","v":"2012-11-01"},{"$f":"[1]Data!K112","v":39.375},{"$f":"[1]Data!L112","v":47.468354430379748},{"$f":"[1]Data!Y112","v":43.049285995117991},{"$f":"[1]Data!Z112","v":51.195288266898267},{"$f":"[1]Data!C112","v":"2012-11-01"},{"$f":"[1]Data!M112","v":42.5},{"$f":"[1]Data!AA112","v":45.198687750914104},{"$f":"[1]Data!N112","v":50},{"$f":"[1]Data!AB112","v":52.014840130324444},{"$f":"[1]Data!O112","v":47.530864197530867},{"$f":"[1]Data!AC112","v":47.179127002438385},{"$f":"[1]Data!P112","v":54.268292682926827},{"$f":"[1]Data!AD112","v":61.09631387867276}]
[null,{"$f":"[1]Data!C113","v":"2012-12-01"},{"$f":"[1]Data!D113","v":47.823672022000288},{"$f":"[1]Data!E113","v":42.553191489361701},{"$f":"[1]Data!F113","v":45.833333333333336},{"$f":"[1]Data!G113","v":52.040816326530617},{"$f":"[1]Data!H113","v":47.95918367346939},{"$f":"[1]Data!I113","v":41.666666666666664},{"$f":"[1]Data!C113","v":"2012-12-01"},{"$f":"[1]Data!R113","v":51.755000452818301},{"$f":"[1]Data!S113","v":49.615974461415689},{"$f":"[1]Data!T113","v":51.931137611929771},{"$f":"[1]Data!U113","v":54.589858678791174},{"$f":"[1]Data!V113","v":49.174167537885538},{"$f":"[1]Data!W113","v":45.224313125556165},{"$f":"[1]Data!C113","v":"2012-12-01"},{"$f":"[1]Data!K113","v":45.833333333333336},{"$f":"[1]Data!L113","v":36.666666666666664},{"$f":"[1]Data!Y113","v":51.605965861119508},{"$f":"[1]Data!Z113","v":40.027061412204979},{"$f":"[1]Data!C113","v":"2012-12-01"},{"$f":"[1]Data!M113","v":34.693877551020407},{"$f":"[1]Data!AA113","v":41.095064637891802},{"$f":"[1]Data!N113","v":46.874999999999993},{"$f":"[1]Data!AB113","v":46.842359408442285},{"$f":"[1]Data!O113","v":38.775510204081627},{"$f":"[1]Data!AC113","v":40.50146370526744},{"$f":"[1]Data!P113","v":63.265306122448976},{"$f":"[1]Data!AD113","v":63.821203330249467}]
[null,{"$f":"[1]Data!C114","v":"2013-01-01"},{"$f":"[1]Data!D114","v":49.620221327967798},{"$f":"[1]Data!E114","v":48.591549295774641},{"$f":"[1]Data!F114","v":48.571428571428569},{"$f":"[1]Data!G114","v":47.183098591549296},{"$f":"[1]Data!H114","v":50.714285714285708},{"$f":"[1]Data!I114","v":41.428571428571431},{"$f":"[1]Data!C114","v":"2013-01-01"},{"$f":"[1]Data!R114","v":50.386137545516078},{"$f":"[1]Data!S114","v":49.586798695686227},{"$f":"[1]Data!T114","v":48.780000575380974},{"$f":"[1]Data!U114","v":49.182386655804741},{"$f":"[1]Data!V114","v":52.056153558274659},{"$f":"[1]Data!W114","v":42.894626659219149},{"$f":"[1]Data!C114","v":"2013-01-01"},{"$f":"[1]Data!K114","v":50},{"$f":"[1]Data!L114","v":40.909090909090907},{"$f":"[1]Data!Y114","v":51.306017209767965},{"$f":"[1]Data!Z114","v":40.940310410758975},{"$f":"[1]Data!C114","v":"2013-01-01"},{"$f":"[1]Data!M114","v":45.138888888888886},{"$f":"[1]Data!AA114","v":45.556880286573239},{"$f":"[1]Data!N114","v":50.714285714285708},{"$f":"[1]Data!AB114","v":48.639327909159235},{"$f":"[1]Data!O114","v":45.833333333333336},{"$f":"[1]Data!AC114","v":44.730645572494332},{"$f":"[1]Data!P114","v":62.142857142857146},{"$f":"[1]Data!AD114","v":60.715165707236409}]
[null,{"$f":"[1]Data!C115","v":"2013-02-01"},{"$f":"[1]Data!D115","v":48.314822169835494},{"$f":"[1]Data!E115","v":48.101265822784811},{"$f":"[1]Data!F115","v":45.512820512820511},{"$f":"[1]Data!G115","v":49.375},{"$f":"[1]Data!H115","v":51.315789473684212},{"$f":"[1]Data!I115","v":49.367088607594937},{"$f":"[1]Data!C115","v":"2013-02-01"},{"$f":"[1]Data!R115","v":48.59826150916512},{"$f":"[1]Data!S115","v":46.745753228378206},{"$f":"[1]Data!T115","v":44.710804585863592},{"$f":"[1]Data!U115","v":51.306813350857851},{"$f":"[1]Data!V115","v":53.136908383984853},{"$f":"[1]Data!W115","v":47.333171014578099},{"$f":"[1]Data!C115","v":"2013-02-01"},{"$f":"[1]Data!K115","v":48.717948717948715},{"$f":"[1]Data!L115","v":36.986301369863014},{"$f":"[1]Data!Y115","v":47.108025479299208},{"$f":"[1]Data!Z115","v":37.189380364486297},{"$f":"[1]Data!C115","v":"2013-02-01"},{"$f":"[1]Data!M115","v":42.948717948717949},{"$f":"[1]Data!AA115","v":41.606276774109183},{"$f":"[1]Data!N115","v":48.734177215189874},{"$f":"[1]Data!AB115","v":48.777625904071115},{"$f":"[1]Data!O115","v":56.25},{"$f":"[1]Data!AC115","v":52.19825895440141},{"$f":"[1]Data!P115","v":65.189873417721515},{"$f":"[1]Data!AD115","v":61.105919834655602}]
[null,{"$f":"[1]Data!C116","v":"2013-03-01"},{"$f":"[1]Data!D116","v":52.374574829931973},{"$f":"[1]Data!E116","v":54.08163265306122},{"$f":"[1]Data!F116","v":50},{"$f":"[1]Data!G116","v":55.208333333333336},{"$f":"[1]Data!H116","v":50.000000000000007},{"$f":"[1]Data!I116","v":46.875000000000007},{"$f":"[1]Data!C116","v":"2013-03-01"},{"$f":"[1]Data!R116","v":50.469460911423845},{"$f":"[1]Data!S116","v":50.343198011153362},{"$f":"[1]Data!T116","v":46.489028612736803},{"$f":"[1]Data!U116","v":54.558504220382261},{"$f":"[1]Data!V116","v":49.871293825801587},{"$f":"[1]Data!W116","v":44.554420931322255},{"$f":"[1]Data!C116","v":"2013-03-01"},{"$f":"[1]Data!K116","v":50},{"$f":"[1]Data!L116","v":47.826086956521742},{"$f":"[1]Data!Y116","v":48.255256744047259},{"$f":"[1]Data!Z116","v":44.816243309791673},{"$f":"[1]Data!C116","v":"2013-03-01"},{"$f":"[1]Data!M116","v":50},{"$f":"[1]Data!AA116","v":46.015683342207844},{"$f":"[1]Data!N116","v":52.04081632653061},{"$f":"[1]Data!AB116","v":50.205521734621463},{"$f":"[1]Data!O116","v":48.958333333333336},{"$f":"[1]Data!AC116","v":44.51647305798268},{"$f":"[1]Data!P116","v":63.265306122448976},{"$f":"[1]Data!AD116","v":60.585354778045691}]
[null,{"$f":"[1]Data!C117","v":"2013-04-01"},{"$f":"[1]Data!D117","v":51.217988533205919},{"$f":"[1]Data!E117","v":50},{"$f":"[1]Data!F117","v":53.333333333333329},{"$f":"[1]Data!G117","v":52.747252747252745},{"$f":"[1]Data!H117","v":51.086956521739125},{"$f":"[1]Data!I117","v":54.945054945054949},{"$f":"[1]Data!C117","v":"2013-04-01"},{"$f":"[1]Data!R117","v":48.994747591621007},{"$f":"[1]Data!S117","v":47.193924081029586},{"$f":"[1]Data!T117","v":47.533107372000956},{"$f":"[1]Data!U117","v":51.838338308515389},{"$f":"[1]Data!V117","v":51.229684763634417},{"$f":"[1]Data!W117","v":51.157860164849204},{"$f":"[1]Data!C117","v":"2013-04-01"},{"$f":"[1]Data!K117","v":52.247191011235955},{"$f":"[1]Data!L117","v":48.148148148148152},{"$f":"[1]Data!Y117","v":46.404775210679745},{"$f":"[1]Data!Z117","v":45.141131388209232},{"$f":"[1]Data!C117","v":"2013-04-01"},{"$f":"[1]Data!M117","v":51.64835164835165},{"$f":"[1]Data!AA117","v":47.443209616042488},{"$f":"[1]Data!N117","v":46.153846153846153},{"$f":"[1]Data!AB117","v":44.405128761962658},{"$f":"[1]Data!O117","v":52.747252747252752},{"$f":"[1]Data!AC117","v":50.152152464517734},{"$f":"[1]Data!P117","v":64.130434782608688},{"$f":"[1]Data!AD117","v":61.765469589450525}]
[null,{"$f":"[1]Data!C118","v":"2013-05-01"},{"$f":"[1]Data!D118","v":57.115668614086331},{"$f":"[1]Data!E118","v":62.179487179487168},{"$f":"[1]Data!F118","v":60.75949367088608},{"$f":"[1]Data!G118","v":54.375},{"$f":"[1]Data!H118","v":49.358974358974351},{"$f":"[1]Data!I118","v":49.358974358974358},{"$f":"[1]Data!C118","v":"2013-05-01"},{"$f":"[1]Data!R118","v":53.108349992217939},{"$f":"[1]Data!S118","v":56.070742040864154},{"$f":"[1]Data!T118","v":54.114475475697539},{"$f":"[1]Data!U118","v":51.403417804404704},{"$f":"[1]Data!V118","v":49.818083896465282},{"$f":"[1]Data!W118","v":48.970743060580844},{"$f":"[1]Data!C118","v":"2013-05-01"},{"$f":"[1]Data!K118","v":61.688311688311686},{"$f":"[1]Data!L118","v":48.648648648648646},{"$f":"[1]Data!Y118","v":55.59350230364408},{"$f":"[1]Data!Z118","v":44.767356880271755},{"$f":"[1]Data!C118","v":"2013-05-01"},{"$f":"[1]Data!M118","v":58.333333333333336},{"$f":"[1]Data!AA118","v":51.978512241761891},{"$f":"[1]Data!N118","v":52.597402597402599},{"$f":"[1]Data!AB118","v":51.60465290651377},{"$f":"[1]Data!O118","v":48.75},{"$f":"[1]Data!AC118","v":50.266413237938423},{"$f":"[1]Data!P118","v":65.822784810126592},{"$f":"[1]Data!AD118","v":64.79780552360485}]
[null,{"$f":"[1]Data!C119","v":"2013-06-01"},{"$f":"[1]Data!D119","v":50.212337108756543},{"$f":"[1]Data!E119","v":51.449275362318843},{"$f":"[1]Data!F119","v":47.10144927536232},{"$f":"[1]Data!G119","v":51.470588235294116},{"$f":"[1]Data!H119","v":54.285714285714285},{"$f":"[1]Data!I119","v":52.173913043478258},{"$f":"[1]Data!C119","v":"2013-06-01"},{"$f":"[1]Data!R119","v":47.611769109277787},{"$f":"[1]Data!S119","v":47.62732080566456},{"$f":"[1]Data!T119","v":43.414151645737682},{"$f":"[1]Data!U119","v":49.002772722558966},{"$f":"[1]Data!V119","v":52.098858739253586},{"$f":"[1]Data!W119","v":49.346899412594894},{"$f":"[1]Data!C119","v":"2013-06-01"},{"$f":"[1]Data!K119","v":47.826086956521742},{"$f":"[1]Data!L119","v":44.696969696969688},{"$f":"[1]Data!Y119","v":44.61968448254445},{"$f":"[1]Data!Z119","v":42.734203475173587},{"$f":"[1]Data!C119","v":"2013-06-01"},{"$f":"[1]Data!M119","v":49.253731343283576},{"$f":"[1]Data!AA119","v":46.998095189625538},{"$f":"[1]Data!N119","v":48.550724637681157},{"$f":"[1]Data!AB119","v":49.767654556351935},{"$f":"[1]Data!O119","v":50},{"$f":"[1]Data!AC119","v":50.27877984305038},{"$f":"[1]Data!P119","v":55.882352941176471},{"$f":"[1]Data!AD119","v":55.351992531939906}]
[null,{"$f":"[1]Data!C120","v":"2013-07-01"},{"$f":"[1]Data!D120","v":43.074695121951223},{"$f":"[1]Data!E120","v":36.25},{"$f":"[1]Data!F120","v":36.25},{"$f":"[1]Data!G120","v":43.902439024390247},{"$f":"[1]Data!H120","v":54.878048780487802},{"$f":"[1]Data!I120","v":38.75},{"$f":"[1]Data!C120","v":"2013-07-01"},{"$f":"[1]Data!R120","v":51.153664079663486},{"$f":"[1]Data!S120","v":53.230143551663197},{"$f":"[1]Data!T120","v":50.463424863743938},{"$f":"[1]Data!U120","v":46.557909140177415},{"$f":"[1]Data!V120","v":50.866740941826905},{"$f":"[1]Data!W120","v":42.344922366850128},{"$f":"[1]Data!C120","v":"2013-07-01"},{"$f":"[1]Data!K120","v":38.46153846153846},{"$f":"[1]Data!L120","v":31.578947368421051},{"$f":"[1]Data!Y120","v":51.588129175959338},{"$f":"[1]Data!Z120","v":37.937755735945139},{"$f":"[1]Data!C120","v":"2013-07-01"},{"$f":"[1]Data!M120","v":32.89473684210526},{"$f":"[1]Data!AA120","v":46.129013578465944},{"$f":"[1]Data!N120","v":51.25},{"$f":"[1]Data!AB120","v":53.715064339332109},{"$f":"[1]Data!O120","v":40.243902439024389},{"$f":"[1]Data!AC120","v":44.062084215010508},{"$f":"[1]Data!P120","v":60.975609756097555},{"$f":"[1]Data!AD120","v":58.573966551639394}]
[null,{"$f":"[1]Data!C121","v":"2013-08-01"},{"$f":"[1]Data!D121","v":56.761663783724316},{"$f":"[1]Data!E121","v":62.716763005780344},{"$f":"[1]Data!F121","v":58.571428571428569},{"$f":"[1]Data!G121","v":53.428571428571431},{"$f":"[1]Data!H121","v":53.197674418604656},{"$f":"[1]Data!I121","v":51.543209876543216},{"$f":"[1]Data!C121","v":"2013-08-01"},{"$f":"[1]Data!R121","v":53.31912199819395},{"$f":"[1]Data!S121","v":55.863822983347795},{"$f":"[1]Data!T121","v":54.20909507528291},{"$f":"[1]Data!U121","v":50.86135459085834},{"$f":"[1]Data!V121","v":52.474321041250427},{"$f":"[1]Data!W121","v":49.529813445871113},{"$f":"[1]Data!C121","v":"2013-08-01"},{"$f":"[1]Data!K121","v":57.396449704142015},{"$f":"[1]Data!L121","v":51.910828025477706},{"$f":"[1]Data!Y121","v":51.874227875152265},{"$f":"[1]Data!Z121","v":49.818309616338411},{"$f":"[1]Data!C121","v":"2013-08-01"},{"$f":"[1]Data!M121","v":59.659090909090907},{"$f":"[1]Data!AA121","v":54.586787772850471},{"$f":"[1]Data!N121","v":56.213017751479292},{"$f":"[1]Data!AB121","v":56.123143877720985},{"$f":"[1]Data!O121","v":46.913580246913583},{"$f":"[1]Data!AC121","v":49.087997248986781},{"$f":"[1]Data!P121","v":67.329545454545453},{"$f":"[1]Data!AD121","v":66.584681153709994}]
[null,{"$f":"[1]Data!C122","v":"2013-09-01"},{"$f":"[1]Data!D122","v":55.322622368452421},{"$f":"[1]Data!E122","v":59.090909090909093},{"$f":"[1]Data!F122","v":55.69105691056911},{"$f":"[1]Data!G122","v":54.065040650406502},{"$f":"[1]Data!H122","v":52.419354838709673},{"$f":"[1]Data!I122","v":48.333333333333336},{"$f":"[1]Data!C122","v":"2013-09-01"},{"$f":"[1]Data!R122","v":52.544559797069248},{"$f":"[1]Data!S122","v":53.869956386117998},{"$f":"[1]Data!T122","v":53.08431626227776},{"$f":"[1]Data!U122","v":51.171739966094471},{"$f":"[1]Data!V122","v":52.087924232973826},{"$f":"[1]Data!W122","v":48.957608063085544},{"$f":"[1]Data!C122","v":"2013-09-01"},{"$f":"[1]Data!K122","v":55.172413793103445},{"$f":"[1]Data!L122","v":49.557522123893804},{"$f":"[1]Data!Y122","v":53.155154375182768},{"$f":"[1]Data!Z122","v":48.251599979166834},{"$f":"[1]Data!C122","v":"2013-09-01"},{"$f":"[1]Data!M122","v":54.918032786885249},{"$f":"[1]Data!AA122","v":50.461212939250565},{"$f":"[1]Data!N122","v":57.142857142857139},{"$f":"[1]Data!AB122","v":57.372829843593607},{"$f":"[1]Data!O122","v":49.180327868852459},{"$f":"[1]Data!AC122","v":49.533722302217313},{"$f":"[1]Data!P122","v":62.301587301587304},{"$f":"[1]Data!AD122","v":65.064722512231299}]
[null,{"$f":"[1]Data!C123","v":"2013-10-01"},{"$f":"[1]Data!D123","v":52.350163205778188},{"$f":"[1]Data!E123","v":51.680672268907564},{"$f":"[1]Data!F123","v":52.52100840336135},{"$f":"[1]Data!G123","v":50.826446280991739},{"$f":"[1]Data!H123","v":51.680672268907564},{"$f":"[1]Data!I123","v":42.436974789915965},{"$f":"[1]Data!C123","v":"2013-10-01"},{"$f":"[1]Data!R123","v":53.528164957948704},{"$f":"[1]Data!S123","v":53.323298547298748},{"$f":"[1]Data!T123","v":55.520177858778013},{"$f":"[1]Data!U123","v":51.095040741033174},{"$f":"[1]Data!V123","v":52.05020662828273},{"$f":"[1]Data!W123","v":44.852521789584294},{"$f":"[1]Data!C123","v":"2013-10-01"},{"$f":"[1]Data!K123","v":50.427350427350426},{"$f":"[1]Data!L123","v":50},{"$f":"[1]Data!Y123","v":52.773366041451396},{"$f":"[1]Data!Z123","v":50.944115600756632},{"$f":"[1]Data!C123","v":"2013-10-01"},{"$f":"[1]Data!M123","v":48.333333333333336},{"$f":"[1]Data!AA123","v":50.390385357989416},{"$f":"[1]Data!N123","v":53.418803418803421},{"$f":"[1]Data!AB123","v":56.130661838842499},{"$f":"[1]Data!O123","v":48.75},{"$f":"[1]Data!AC123","v":50.736268058071587},{"$f":"[1]Data!P123","v":60.833333333333336},{"$f":"[1]Data!AD123","v":67.096025167425395}]
[null,{"$f":"[1]Data!C124","v":"2013-11-01"},{"$f":"[1]Data!D124","v":50.66748451862356},{"$f":"[1]Data!E124","v":51.879699248120296},{"$f":"[1]Data!F124","v":52.255639097744357},{"$f":"[1]Data!G124","v":45.895522388059703},{"$f":"[1]Data!H124","v":49.248120300751879},{"$f":"[1]Data!I124","v":45.454545454545453},{"$f":"[1]Data!C124","v":"2013-11-01"},{"$f":"[1]Data!R124","v":53.928423686422448},{"$f":"[1]Data!S124","v":54.941997721899412},{"$f":"[1]Data!T124","v":57.592926157344181},{"$f":"[1]Data!U124","v":49.139928477708324},{"$f":"[1]Data!V124","v":51.017271288094541},{"$f":"[1]Data!W124","v":45.655299800115081},{"$f":"[1]Data!C124","v":"2013-11-01"},{"$f":"[1]Data!K124","v":50},{"$f":"[1]Data!L124","v":47.154471544715449},{"$f":"[1]Data!Y124","v":55.472134766082931},{"$f":"[1]Data!Z124","v":49.95208845444057},{"$f":"[1]Data!C124","v":"2013-11-01"},{"$f":"[1]Data!M124","v":46.666666666666671},{"$f":"[1]Data!AA124","v":49.145667883396797},{"$f":"[1]Data!N124","v":53.787878787878796},{"$f":"[1]Data!AB124","v":55.855450104973087},{"$f":"[1]Data!O124","v":47.727272727272734},{"$f":"[1]Data!AC124","v":46.849899003739594},{"$f":"[1]Data!P124","v":57.777777777777786},{"$f":"[1]Data!AD124","v":64.160130545178717}]
[null,{"$f":"[1]Data!C125","v":"2013-12-01"},{"$f":"[1]Data!D125","v":47.699365096418262},{"$f":"[1]Data!E125","v":45.588235294117652},{"$f":"[1]Data!F125","v":45.049504950495049},{"$f":"[1]Data!G125","v":48.03921568627451},{"$f":"[1]Data!H125","v":50},{"$f":"[1]Data!I125","v":43.203883495145632},{"$f":"[1]Data!C125","v":"2013-12-01"},{"$f":"[1]Data!R125","v":52.025497135846379},{"$f":"[1]Data!S125","v":53.449197360889521},{"$f":"[1]Data!T125","v":51.920257543208557},{"$f":"[1]Data!U125","v":50.321630071644911},{"$f":"[1]Data!V125","v":51.315360933248641},{"$f":"[1]Data!W125","v":46.74509621654849},{"$f":"[1]Data!C125","v":"2013-12-01"},{"$f":"[1]Data!K125","v":45.049504950495049},{"$f":"[1]Data!L125","v":46.842105263157897},{"$f":"[1]Data!Y125","v":50.812392247801419},{"$f":"[1]Data!Z125","v":51.426485620350256},{"$f":"[1]Data!C125","v":"2013-12-01"},{"$f":"[1]Data!M125","v":41.747572815533985},{"$f":"[1]Data!AA125","v":50.793177965455101},{"$f":"[1]Data!N125","v":61.881188118811878},{"$f":"[1]Data!AB125","v":60.455950258037269},{"$f":"[1]Data!O125","v":50},{"$f":"[1]Data!AC125","v":51.886874811726997},{"$f":"[1]Data!P125","v":58.65384615384616},{"$f":"[1]Data!AD125","v":59.082462266665232}]
[null,{"$f":"[1]Data!C126","v":"2014-01-01"},{"$f":"[1]Data!D126","v":51.502872224809806},{"$f":"[1]Data!E126","v":50},{"$f":"[1]Data!F126","v":53.097345132743364},{"$f":"[1]Data!G126","v":50.877192982456137},{"$f":"[1]Data!H126","v":50.884955752212392},{"$f":"[1]Data!I126","v":47.345132743362832},{"$f":"[1]Data!C126","v":"2014-01-01"},{"$f":"[1]Data!R126","v":51.821860269489356},{"$f":"[1]Data!S126","v":50.756880759287014},{"$f":"[1]Data!T126","v":52.415832723429205},{"$f":"[1]Data!U126","v":52.267164613614298},{"$f":"[1]Data!V126","v":52.098448583835648},{"$f":"[1]Data!W126","v":48.603099476593684},{"$f":"[1]Data!C126","v":"2014-01-01"},{"$f":"[1]Data!K126","v":50},{"$f":"[1]Data!L126","v":53.301886792452827},{"$f":"[1]Data!Y126","v":50.391339709881457},{"$f":"[1]Data!Z126","v":52.619816596498531},{"$f":"[1]Data!C126","v":"2014-01-01"},{"$f":"[1]Data!M126","v":53.603603603603602},{"$f":"[1]Data!AA126","v":53.74524550853031},{"$f":"[1]Data!N126","v":61.926605504587158},{"$f":"[1]Data!AB126","v":58.196528865640865},{"$f":"[1]Data!O126","v":51.327433628318587},{"$f":"[1]Data!AC126","v":50.140683485252154},{"$f":"[1]Data!P126","v":64.912280701754383},{"$f":"[1]Data!AD126","v":62.601068480509227}]
[null,{"$f":"[1]Data!C127","v":"2014-02-01"},{"$f":"[1]Data!D127","v":51.258267161932828},{"$f":"[1]Data!E127","v":54.583333333333329},{"$f":"[1]Data!F127","v":53.846153846153854},{"$f":"[1]Data!G127","v":44.26229508196721},{"$f":"[1]Data!H127","v":50.420168067226889},{"$f":"[1]Data!I127","v":49.568965517241381},{"$f":"[1]Data!C127","v":"2014-02-01"},{"$f":"[1]Data!R127","v":51.329017466582819},{"$f":"[1]Data!S127","v":52.883026904167018},{"$f":"[1]Data!T127","v":52.660161336381854},{"$f":"[1]Data!U127","v":46.186905445441532},{"$f":"[1]Data!V127","v":52.171169957501142},{"$f":"[1]Data!W127","v":47.528442430869674},{"$f":"[1]Data!C127","v":"2014-02-01"},{"$f":"[1]Data!K127","v":53.04347826086957},{"$f":"[1]Data!L127","v":47.787610619469021},{"$f":"[1]Data!Y127","v":51.291509232265796},{"$f":"[1]Data!Z127","v":48.008142439173973},{"$f":"[1]Data!C127","v":"2014-02-01"},{"$f":"[1]Data!M127","v":52.892561983471069},{"$f":"[1]Data!AA127","v":51.45094343751795},{"$f":"[1]Data!N127","v":56.410256410256409},{"$f":"[1]Data!AB127","v":56.080875567700673},{"$f":"[1]Data!O127","v":51.666666666666671},{"$f":"[1]Data!AC127","v":48.35745173117563},{"$f":"[1]Data!P127","v":65.702479338842977},{"$f":"[1]Data!AD127","v":61.896863301015607}]
[null,{"$f":"[1]Data!C128","v":"2014-03-01"},{"$f":"[1]Data!D128","v":54.582662570404509},{"$f":"[1]Data!E128","v":57.539682539682545},{"$f":"[1]Data!F128","v":58.064516129032256},{"$f":"[1]Data!G128","v":49.596774193548384},{"$f":"[1]Data!H128","v":53.2},{"$f":"[1]Data!I128","v":51.20967741935484},{"$f":"[1]Data!C128","v":"2014-03-01"},{"$f":"[1]Data!R128","v":52.320769523288732},{"$f":"[1]Data!S128","v":53.452021590485415},{"$f":"[1]Data!T128","v":53.559560617922813},{"$f":"[1]Data!U128","v":48.609504593460677},{"$f":"[1]Data!V128","v":53.667392384860726},{"$f":"[1]Data!W128","v":48.821138361307035},{"$f":"[1]Data!C128","v":"2014-03-01"},{"$f":"[1]Data!K128","v":54.435483870967744},{"$f":"[1]Data!L128","v":51.293103448275858},{"$f":"[1]Data!Y128","v":52.175507984475715},{"$f":"[1]Data!Z128","v":48.190352282310748},{"$f":"[1]Data!C128","v":"2014-03-01"},{"$f":"[1]Data!M128","v":56.854838709677416},{"$f":"[1]Data!AA128","v":51.711213098419684},{"$f":"[1]Data!N128","v":53.688524590163937},{"$f":"[1]Data!AB128","v":52.234053834504358},{"$f":"[1]Data!O128","v":52.016129032258064},{"$f":"[1]Data!AC128","v":48.256104931960643},{"$f":"[1]Data!P128","v":62.195121951219512},{"$f":"[1]Data!AD128","v":60.068736512865485}]
[null,{"$f":"[1]Data!C129","v":"2014-04-01"},{"$f":"[1]Data!D129","v":54.493282641366967},{"$f":"[1]Data!E129","v":58.474576271186436},{"$f":"[1]Data!F129","v":58.620689655172413},{"$f":"[1]Data!G129","v":46.521739130434781},{"$f":"[1]Data!H129","v":51.739130434782609},{"$f":"[1]Data!I129","v":47.767857142857139},{"$f":"[1]Data!C129","v":"2014-04-01"},{"$f":"[1]Data!R129","v":51.908671397225199},{"$f":"[1]Data!S129","v":55.273527012546204},{"$f":"[1]Data!T129","v":52.310459737426001},{"$f":"[1]Data!U129","v":45.7783567352866},{"$f":"[1]Data!V129","v":52.130283378248237},{"$f":"[1]Data!W129","v":45.780621309337072},{"$f":"[1]Data!C129","v":"2014-04-01"},{"$f":"[1]Data!K129","v":58.260869565217391},{"$f":"[1]Data!L129","v":50.917431192660551},{"$f":"[1]Data!Y129","v":51.178173703440827},{"$f":"[1]Data!Z129","v":47.975460000656703},{"$f":"[1]Data!C129","v":"2014-04-01"},{"$f":"[1]Data!M129","v":55.172413793103445},{"$f":"[1]Data!AA129","v":51.375480805167165},{"$f":"[1]Data!N129","v":53.982300884955755},{"$f":"[1]Data!AB129","v":52.523277133425388},{"$f":"[1]Data!O129","v":49.137931034482754},{"$f":"[1]Data!AC129","v":47.075688829548497},{"$f":"[1]Data!P129","v":59.82905982905983},{"$f":"[1]Data!AD129","v":57.556745477829374}]
[null,{"$f":"[1]Data!C130","v":"2014-05-01"},{"$f":"[1]Data!D130","v":53.978401218998563},{"$f":"[1]Data!E130","v":56.25},{"$f":"[1]Data!F130","v":57.727272727272727},{"$f":"[1]Data!G130","v":48.230088495575217},{"$f":"[1]Data!H130","v":52.702702702702695},{"$f":"[1]Data!I130","v":49.537037037037038},{"$f":"[1]Data!C130","v":"2014-05-01"},{"$f":"[1]Data!R130","v":50.377386861042545},{"$f":"[1]Data!S130","v":50.952149676879991},{"$f":"[1]Data!T130","v":51.423204634067993},{"$f":"[1]Data!U130","v":45.798961873184261},{"$f":"[1]Data!V130","v":53.202086352655684},{"$f":"[1]Data!W130","v":49.277172759330576},{"$f":"[1]Data!C130","v":"2014-05-01"},{"$f":"[1]Data!K130","v":55.454545454545453},{"$f":"[1]Data!L130","v":52.857142857142861},{"$f":"[1]Data!Y130","v":50.057584887052556},{"$f":"[1]Data!Z130","v":48.921729258949107},{"$f":"[1]Data!C130","v":"2014-05-01"},{"$f":"[1]Data!M130","v":53.669724770642205},{"$f":"[1]Data!AA130","v":47.837646831828636},{"$f":"[1]Data!N130","v":50},{"$f":"[1]Data!AB130","v":50.053224987770271},{"$f":"[1]Data!O130","v":43.805309734513273},{"$f":"[1]Data!AC130","v":45.122311687795609},{"$f":"[1]Data!P130","v":60.176991150442475},{"$f":"[1]Data!AD130","v":59.523903339071914}]
[null,{"$f":"[1]Data!C131","v":"2014-06-01"},{"$f":"[1]Data!D131","v":53.175250515767758},{"$f":"[1]Data!E131","v":56.25},{"$f":"[1]Data!F131","v":54.166666666666671},{"$f":"[1]Data!G131","v":50.854700854700852},{"$f":"[1]Data!H131","v":50.416666666666664},{"$f":"[1]Data!I131","v":48.706896551724142},{"$f":"[1]Data!C131","v":"2014-06-01"},{"$f":"[1]Data!R131","v":50.816877287261384},{"$f":"[1]Data!S131","v":52.680179386812846},{"$f":"[1]Data!T131","v":50.863908631359863},{"$f":"[1]Data!U131","v":48.822227241034156},{"$f":"[1]Data!V131","v":48.248461560378928},{"$f":"[1]Data!W131","v":46.14054831113458},{"$f":"[1]Data!C131","v":"2014-06-01"},{"$f":"[1]Data!K131","v":52.542372881355938},{"$f":"[1]Data!L131","v":50.884955752212392},{"$f":"[1]Data!Y131","v":49.800260975488904},{"$f":"[1]Data!Z131","v":48.693325016550254},{"$f":"[1]Data!C131","v":"2014-06-01"},{"$f":"[1]Data!M131","v":52.916666666666671},{"$f":"[1]Data!AA131","v":50.527230901377401},{"$f":"[1]Data!N131","v":52.916666666666664},{"$f":"[1]Data!AB131","v":54.38537339942949},{"$f":"[1]Data!O131","v":45.299145299145295},{"$f":"[1]Data!AC131","v":45.688554915239138},{"$f":"[1]Data!P131","v":62.083333333333336},{"$f":"[1]Data!AD131","v":62.350740031951418}]
[null,{"$f":"[1]Data!C132","v":"2014-07-01"},{"$f":"[1]Data!D132","v":43.739316685004511},{"$f":"[1]Data!E132","v":35.91549295774648},{"$f":"[1]Data!F132","v":36.301369863013697},{"$f":"[1]Data!G132","v":47.297297297297298},{"$f":"[1]Data!H132","v":56.164383561643831},{"$f":"[1]Data!I132","v":40.140845070422536},{"$f":"[1]Data!C132","v":"2014-07-01"},{"$f":"[1]Data!R132","v":51.805363963994282},{"$f":"[1]Data!S132","v":52.413974411734408},{"$f":"[1]Data!T132","v":50.754941213324194},{"$f":"[1]Data!U132","v":50.218609642844463},{"$f":"[1]Data!V132","v":51.868336629589692},{"$f":"[1]Data!W132","v":43.48584425943929},{"$f":"[1]Data!C132","v":"2014-07-01"},{"$f":"[1]Data!K132","v":32.87671232876712},{"$f":"[1]Data!L132","v":38.028169014084511},{"$f":"[1]Data!Y132","v":44.823630809664508},{"$f":"[1]Data!Z132","v":45.557709024542923},{"$f":"[1]Data!C132","v":"2014-07-01"},{"$f":"[1]Data!M132","v":28.767123287671232},{"$f":"[1]Data!AA132","v":40.029811571835246},{"$f":"[1]Data!N132","v":56.164383561643838},{"$f":"[1]Data!AB132","v":58.667406941061046},{"$f":"[1]Data!O132","v":39.041095890410958},{"$f":"[1]Data!AC132","v":43.06530439421401},{"$f":"[1]Data!P132","v":68.243243243243242},{"$f":"[1]Data!AD132","v":66.120756453580398}]
[null,{"$f":"[1]Data!C133","v":"2014-08-01"},{"$f":"[1]Data!D133","v":56.701824885481727},{"$f":"[1]Data!E133","v":62.068965517241381},{"$f":"[1]Data!F133","v":56.578947368421055},{"$f":"[1]Data!G133","v":54.700854700854698},{"$f":"[1]Data!H133","v":54.237288135593218},{"$f":"[1]Data!I133","v":48.648648648648646},{"$f":"[1]Data!C133","v":"2014-08-01"},{"$f":"[1]Data!R133","v":53.546804606857023},{"$f":"[1]Data!S133","v":55.514363997957808},{"$f":"[1]Data!T133","v":53.18078578873267},{"$f":"[1]Data!U133","v":52.058380000845119},{"$f":"[1]Data!V133","v":53.124791302125971},{"$f":"[1]Data!W133","v":46.664168247401555},{"$f":"[1]Data!C133","v":"2014-08-01"},{"$f":"[1]Data!K133","v":55.652173913043484},{"$f":"[1]Data!L133","v":50.934579439252332},{"$f":"[1]Data!Y133","v":50.933142969967925},{"$f":"[1]Data!Z133","v":49.162733047551285},{"$f":"[1]Data!C133","v":"2014-08-01"},{"$f":"[1]Data!M133","v":58.974358974358978},{"$f":"[1]Data!AA133","v":54.236477312687626},{"$f":"[1]Data!N133","v":54.424778761061951},{"$f":"[1]Data!AB133","v":54.39720549561936},{"$f":"[1]Data!O133","v":45.217391304347828},{"$f":"[1]Data!AC133","v":46.554616318362243},{"$f":"[1]Data!P133","v":62.820512820512832},{"$f":"[1]Data!AD133","v":62.189227430391817}]
[null,{"$f":"[1]Data!C134","v":"2014-09-01"},{"$f":"[1]Data!D134","v":52.831851971557853},{"$f":"[1]Data!E134","v":55.882352941176464},{"$f":"[1]Data!F134","v":51.428571428571431},{"$f":"[1]Data!G134","v":50},{"$f":"[1]Data!H134","v":53.333333333333329},{"$f":"[1]Data!I134","v":45.673076923076927},{"$f":"[1]Data!C134","v":"2014-09-01"},{"$f":"[1]Data!R134","v":50.222608050613033},{"$f":"[1]Data!S134","v":50.886416856629523},{"$f":"[1]Data!T134","v":48.689174704150552},{"$f":"[1]Data!U134","v":47.449770167507822},{"$f":"[1]Data!V134","v":53.118041910515409},{"$f":"[1]Data!W134","v":45.63408894868391},{"$f":"[1]Data!C134","v":"2014-09-01"},{"$f":"[1]Data!K134","v":48.019801980198018},{"$f":"[1]Data!L134","v":49.489795918367349},{"$f":"[1]Data!Y134","v":45.819444846506464},{"$f":"[1]Data!Z134","v":48.674506867920421},{"$f":"[1]Data!C134","v":"2014-09-01"},{"$f":"[1]Data!M134","v":54.32692307692308},{"$f":"[1]Data!AA134","v":49.804132795240619},{"$f":"[1]Data!N134","v":51.442307692307693},{"$f":"[1]Data!AB134","v":51.434770990353506},{"$f":"[1]Data!O134","v":46.078431372549019},{"$f":"[1]Data!AC134","v":45.47158287815855},{"$f":"[1]Data!P134","v":54.285714285714278},{"$f":"[1]Data!AD134","v":56.336607813429318}]
[null,{"$f":"[1]Data!C135","v":"2014-10-01"},{"$f":"[1]Data!D135","v":50.084593499731106},{"$f":"[1]Data!E135","v":50.892857142857139},{"$f":"[1]Data!F135","v":47.272727272727273},{"$f":"[1]Data!G135","v":47.297297297297298},{"$f":"[1]Data!H135","v":54.464285714285715},{"$f":"[1]Data!I135","v":44.4954128440367},{"$f":"[1]Data!C135","v":"2014-10-01"},{"$f":"[1]Data!R135","v":50.833161927531819},{"$f":"[1]Data!S135","v":51.937629575408955},{"$f":"[1]Data!T135","v":49.449029662129107},{"$f":"[1]Data!U135","v":47.412779552132108},{"$f":"[1]Data!V135","v":54.827102680289627},{"$f":"[1]Data!W135","v":46.925756774290143},{"$f":"[1]Data!C135","v":"2014-10-01"},{"$f":"[1]Data!K135","v":46.330275229357795},{"$f":"[1]Data!L135","v":46.601941747572816},{"$f":"[1]Data!Y135","v":47.898707696846294},{"$f":"[1]Data!Z135","v":47.237301117374408},{"$f":"[1]Data!C135","v":"2014-10-01"},{"$f":"[1]Data!M135","v":49.115044247787608},{"$f":"[1]Data!AA135","v":50.452653802758455},{"$f":"[1]Data!N135","v":53.240740740740733},{"$f":"[1]Data!AB135","v":56.009901007547363},{"$f":"[1]Data!O135","v":46.296296296296291},{"$f":"[1]Data!AC135","v":48.197752043290244},{"$f":"[1]Data!P135","v":52.702702702702702},{"$f":"[1]Data!AD135","v":57.066805542227875}]
[null,{"$f":"[1]Data!C136","v":"2014-11-01"},{"$f":"[1]Data!D136","v":48.932529804240332},{"$f":"[1]Data!E136","v":48.684210526315788},{"$f":"[1]Data!F136","v":46.491228070175438},{"$f":"[1]Data!G136","v":49.549549549549546},{"$f":"[1]Data!H136","v":51.801801801801801},{"$f":"[1]Data!I136","v":48.660714285714278},{"$f":"[1]Data!C136","v":"2014-11-01"},{"$f":"[1]Data!R136","v":51.828309899591964},{"$f":"[1]Data!S136","v":51.736765503686897},{"$f":"[1]Data!T136","v":50.368964453454971},{"$f":"[1]Data!U136","v":53.208019612424742},{"$f":"[1]Data!V136","v":53.498054951741338},{"$f":"[1]Data!W136","v":48.828829776123982},{"$f":"[1]Data!C136","v":"2014-11-01"},{"$f":"[1]Data!K136","v":41.517857142857139},{"$f":"[1]Data!L136","v":48.557692307692307},{"$f":"[1]Data!Y136","v":46.378534722982934},{"$f":"[1]Data!Z136","v":50.583608451712735},{"$f":"[1]Data!C136","v":"2014-11-01"},{"$f":"[1]Data!M136","v":49.561403508771932},{"$f":"[1]Data!AA136","v":52.076232988761241},{"$f":"[1]Data!N136","v":50.442477876106196},{"$f":"[1]Data!AB136","v":52.47730700413144},{"$f":"[1]Data!O136","v":51.801801801801801},{"$f":"[1]Data!AC136","v":50.402475237240054},{"$f":"[1]Data!P136","v":52.678571428571431},{"$f":"[1]Data!AD136","v":58.101669108907842}]
[null,{"$f":"[1]Data!C137","v":"2014-12-01"},{"$f":"[1]Data!D137","v":46.520291220758637},{"$f":"[1]Data!E137","v":43.61702127659575},{"$f":"[1]Data!F137","v":44.210526315789473},{"$f":"[1]Data!G137","v":43.298969072164951},{"$f":"[1]Data!H137","v":53.092783505154642},{"$f":"[1]Data!I137","v":42.708333333333329},{"$f":"[1]Data!C137","v":"2014-12-01"},{"$f":"[1]Data!R137","v":50.93199157699005},{"$f":"[1]Data!S137","v":51.138568757788896},{"$f":"[1]Data!T137","v":51.698394644230191},{"$f":"[1]Data!U137","v":45.347621895861792},{"$f":"[1]Data!V137","v":54.559512961013084},{"$f":"[1]Data!W137","v":46.156203290505488},{"$f":"[1]Data!C137","v":"2014-12-01"},{"$f":"[1]Data!K137","v":43.61702127659575},{"$f":"[1]Data!L137","v":42.777777777777779},{"$f":"[1]Data!Y137","v":49.239290959734838},{"$f":"[1]Data!Z137","v":46.894941671940217},{"$f":"[1]Data!C137","v":"2014-12-01"},{"$f":"[1]Data!M137","v":40.721649484536087},{"$f":"[1]Data!AA137","v":50.200032296655834},{"$f":"[1]Data!N137","v":60.309278350515463},{"$f":"[1]Data!AB137","v":58.194603084221647},{"$f":"[1]Data!O137","v":45.789473684210527},{"$f":"[1]Data!AC137","v":47.349684288937439},{"$f":"[1]Data!P137","v":56.25},{"$f":"[1]Data!AD137","v":56.68586910788904}]
[null,{"$f":"[1]Data!C138","v":"2015-01-01"},{"$f":"[1]Data!D138","v":51.303014858060735},{"$f":"[1]Data!E138","v":53.181818181818187},{"$f":"[1]Data!F138","v":54.128440366972484},{"$f":"[1]Data!G138","v":44.036697247706421},{"$f":"[1]Data!H138","v":50.917431192660551},{"$f":"[1]Data!I138","v":46.759259259259267},{"$f":"[1]Data!C138","v":"2015-01-01"},{"$f":"[1]Data!R138","v":51.24305547438022},{"$f":"[1]Data!S138","v":53.5427947254354},{"$f":"[1]Data!T138","v":52.819452056797644},{"$f":"[1]Data!U138","v":44.460896977515119},{"$f":"[1]Data!V138","v":52.277102960113069},{"$f":"[1]Data!W138","v":47.222236635379062},{"$f":"[1]Data!C138","v":"2015-01-01"},{"$f":"[1]Data!K138","v":48.584905660377359},{"$f":"[1]Data!L138","v":53.921568627450981},{"$f":"[1]Data!Y138","v":48.239389479826905},{"$f":"[1]Data!Z138","v":52.707663623472527},{"$f":"[1]Data!C138","v":"2015-01-01"},{"$f":"[1]Data!M138","v":47.68518518518519},{"$f":"[1]Data!AA138","v":47.386411192520626},{"$f":"[1]Data!N138","v":67.61904761904762},{"$f":"[1]Data!AB138","v":62.670548462907036},{"$f":"[1]Data!O138","v":49.090909090909093},{"$f":"[1]Data!AC138","v":47.93657783993028},{"$f":"[1]Data!P138","v":58.636363636363633},{"$f":"[1]Data!AD138","v":55.898768748385471}]
[null,{"$f":"[1]Data!C139","v":"2015-02-01"},{"$f":"[1]Data!D139","v":51.366331987340388},{"$f":"[1]Data!E139","v":52.450980392156865},{"$f":"[1]Data!F139","v":56.5},{"$f":"[1]Data!G139","v":43.5},{"$f":"[1]Data!H139","v":48.98989898989899},{"$f":"[1]Data!I139","v":47.448979591836732},{"$f":"[1]Data!C139","v":"2015-02-01"},{"$f":"[1]Data!R139","v":51.427347795479378},{"$f":"[1]Data!S139","v":50.683480976345521},{"$f":"[1]Data!T139","v":55.393220687752731},{"$f":"[1]Data!U139","v":45.438920849546719},{"$f":"[1]Data!V139","v":50.754841219694491},{"$f":"[1]Data!W139","v":45.624990077963382},{"$f":"[1]Data!C139","v":"2015-02-01"},{"$f":"[1]Data!K139","v":51.020408163265301},{"$f":"[1]Data!L139","v":47.826086956521742},{"$f":"[1]Data!Y139","v":49.414732229151809},{"$f":"[1]Data!Z139","v":48.269782617063115},{"$f":"[1]Data!C139","v":"2015-02-01"},{"$f":"[1]Data!M139","v":52.525252525252526},{"$f":"[1]Data!AA139","v":51.465125297549314},{"$f":"[1]Data!N139","v":53.960396039603964},{"$f":"[1]Data!AB139","v":53.383120173290855},{"$f":"[1]Data!O139","v":53.535353535353536},{"$f":"[1]Data!AC139","v":50.679650726308651},{"$f":"[1]Data!P139","v":59},{"$f":"[1]Data!AD139","v":56.128615068160606}]
[null,{"$f":"[1]Data!C140","v":"2015-03-01"},{"$f":"[1]Data!D140","v":50.44782161403915},{"$f":"[1]Data!E140","v":53.092783505154642},{"$f":"[1]Data!F140","v":54.123711340206185},{"$f":"[1]Data!G140","v":44.387755102040813},{"$f":"[1]Data!H140","v":48.484848484848484},{"$f":"[1]Data!I140","v":52.127659574468083},{"$f":"[1]Data!C140","v":"2015-03-01"},{"$f":"[1]Data!R140","v":48.53885006522281},{"$f":"[1]Data!S140","v":49.734067041604447},{"$f":"[1]Data!T140","v":49.932079563275984},{"$f":"[1]Data!U140","v":43.517619539319469},{"$f":"[1]Data!V140","v":49.396429685997866},{"$f":"[1]Data!W140","v":49.872789249246651},{"$f":"[1]Data!C140","v":"2015-03-01"},{"$f":"[1]Data!K140","v":50.520833333333329},{"$f":"[1]Data!L140","v":47.19101123595506},{"$f":"[1]Data!Y140","v":48.512759160114044},{"$f":"[1]Data!Z140","v":44.668721693629479},{"$f":"[1]Data!C140","v":"2015-03-01"},{"$f":"[1]Data!M140","v":53.191489361702125},{"$f":"[1]Data!AA140","v":48.507489442643724},{"$f":"[1]Data!N140","v":57.978723404255319},{"$f":"[1]Data!AB140","v":57.497277237105877},{"$f":"[1]Data!O140","v":53.645833333333336},{"$f":"[1]Data!AC140","v":50.70297558963366},{"$f":"[1]Data!P140","v":55.154639175257728},{"$f":"[1]Data!AD140","v":53.589745226064146}]
[null,{"$f":"[1]Data!C141","v":"2015-04-01"},{"$f":"[1]Data!D141","v":54.375704877740773},{"$f":"[1]Data!E141","v":58.910891089108915},{"$f":"[1]Data!F141","v":56.5},{"$f":"[1]Data!G141","v":49.029126213592235},{"$f":"[1]Data!H141","v":50},{"$f":"[1]Data!I141","v":46.078431372549019},{"$f":"[1]Data!C141","v":"2015-04-01"},{"$f":"[1]Data!R141","v":51.633207977467734},{"$f":"[1]Data!S141","v":55.289380131336365},{"$f":"[1]Data!T141","v":50.458617705810923},{"$f":"[1]Data!U141","v":48.195559591824797},{"$f":"[1]Data!V141","v":50.467874842348884},{"$f":"[1]Data!W141","v":45.36015511826929},{"$f":"[1]Data!C141","v":"2015-04-01"},{"$f":"[1]Data!K141","v":56},{"$f":"[1]Data!L141","v":47.340425531914896},{"$f":"[1]Data!Y141","v":48.816594506306409},{"$f":"[1]Data!Z141","v":44.857880918599157},{"$f":"[1]Data!C141","v":"2015-04-01"},{"$f":"[1]Data!M141","v":45.5},{"$f":"[1]Data!AA141","v":42.745462704064622},{"$f":"[1]Data!N141","v":53.465346534653463},{"$f":"[1]Data!AB141","v":52.113112327032951},{"$f":"[1]Data!O141","v":49.029126213592228},{"$f":"[1]Data!AC141","v":47.155003891616481},{"$f":"[1]Data!P141","v":57.28155339805825},{"$f":"[1]Data!AD141","v":55.146605595965838}]
[null,{"$f":"[1]Data!C142","v":"2015-05-01"},{"$f":"[1]Data!D142","v":50.390395232786531},{"$f":"[1]Data!E142","v":52.747252747252745},{"$f":"[1]Data!F142","v":50.543478260869563},{"$f":"[1]Data!G142","v":46.703296703296701},{"$f":"[1]Data!H142","v":48.369565217391312},{"$f":"[1]Data!I142","v":45.55555555555555},{"$f":"[1]Data!C142","v":"2015-05-01"},{"$f":"[1]Data!R142","v":47.22066313535089},{"$f":"[1]Data!S142","v":47.977115044685462},{"$f":"[1]Data!T142","v":45.084181206950831},{"$f":"[1]Data!U142","v":44.888433216697265},{"$f":"[1]Data!V142","v":48.396752854669018},{"$f":"[1]Data!W142","v":45.360695594455315},{"$f":"[1]Data!C142","v":"2015-05-01"},{"$f":"[1]Data!K142","v":48.333333333333329},{"$f":"[1]Data!L142","v":45.930232558139537},{"$f":"[1]Data!Y142","v":43.76881254782645},{"$f":"[1]Data!Z142","v":42.730264100336221},{"$f":"[1]Data!C142","v":"2015-05-01"},{"$f":"[1]Data!M142","v":45.555555555555557},{"$f":"[1]Data!AA142","v":40.609662622159561},{"$f":"[1]Data!N142","v":51.111111111111114},{"$f":"[1]Data!AB142","v":51.97395715402719},{"$f":"[1]Data!O142","v":49.44444444444445},{"$f":"[1]Data!AC142","v":50.954963852369772},{"$f":"[1]Data!P142","v":50.543478260869563},{"$f":"[1]Data!AD142","v":50.235615533767394}]
[null,{"$f":"[1]Data!C143","v":"2015-06-01"},{"$f":"[1]Data!D143","v":47.846835703978563},{"$f":"[1]Data!E143","v":48.484848484848484},{"$f":"[1]Data!F143","v":44.387755102040813},{"$f":"[1]Data!G143","v":42.929292929292927},{"$f":"[1]Data!H143","v":52.020202020202021},{"$f":"[1]Data!I143","v":39.795918367346935},{"$f":"[1]Data!C143","v":"2015-06-01"},{"$f":"[1]Data!R143","v":45.870624757848219},{"$f":"[1]Data!S143","v":45.650548327471192},{"$f":"[1]Data!T143","v":41.862233551483982},{"$f":"[1]Data!U143","v":41.122675390713049},{"$f":"[1]Data!V143","v":49.853894129664099},{"$f":"[1]Data!W143","v":38.033015870569919},{"$f":"[1]Data!C143","v":"2015-06-01"},{"$f":"[1]Data!K143","v":45.454545454545453},{"$f":"[1]Data!L143","v":46.774193548387103},{"$f":"[1]Data!Y143","v":43.361130037980182},{"$f":"[1]Data!Z143","v":44.594319205678396},{"$f":"[1]Data!C143","v":"2015-06-01"},{"$f":"[1]Data!M143","v":46.938775510204081},{"$f":"[1]Data!AA143","v":44.571900906740176},{"$f":"[1]Data!N143","v":55.050505050505052},{"$f":"[1]Data!AB143","v":56.544887137857621},{"$f":"[1]Data!O143","v":42.424242424242422},{"$f":"[1]Data!AC143","v":42.917983285758424},{"$f":"[1]Data!P143","v":50.510204081632651},{"$f":"[1]Data!AD143","v":51.165362158603067}]
[null,{"$f":"[1]Data!C144","v":"2015-07-01"},{"$f":"[1]Data!D144","v":37.776274651274647},{"$f":"[1]Data!E144","v":28.18181818181818},{"$f":"[1]Data!F144","v":33.035714285714285},{"$f":"[1]Data!G144","v":39.285714285714285},{"$f":"[1]Data!H144","v":50},{"$f":"[1]Data!I144","v":45.370370370370367},{"$f":"[1]Data!C144","v":"2015-07-01"},{"$f":"[1]Data!R144","v":44.3953086731685},{"$f":"[1]Data!S144","v":40.840428568355939},{"$f":"[1]Data!T144","v":45.953363219773131},{"$f":"[1]Data!U144","v":41.861343887385033},{"$f":"[1]Data!V144","v":46.092553255371222},{"$f":"[1]Data!W144","v":48.869592006351127},{"$f":"[1]Data!C144","v":"2015-07-01"},{"$f":"[1]Data!K144","v":31.81818181818182},{"$f":"[1]Data!L144","v":41.176470588235297},{"$f":"[1]Data!Y144","v":44.004254342442174},{"$f":"[1]Data!Z144","v":48.822892291356439},{"$f":"[1]Data!C144","v":"2015-07-01"},{"$f":"[1]Data!M144","v":31.81818181818182},{"$f":"[1]Data!AA144","v":43.657894185402427},{"$f":"[1]Data!N144","v":50.925925925925924},{"$f":"[1]Data!AB144","v":52.670929974443368},{"$f":"[1]Data!O144","v":45.454545454545453},{"$f":"[1]Data!AC144","v":50.718912764508353},{"$f":"[1]Data!P144","v":50.892857142857139},{"$f":"[1]Data!AD144","v":49.38805158545312}]
[null,{"$f":"[1]Data!C145","v":"2015-08-01"},{"$f":"[1]Data!D145","v":47.860325318246119},{"$f":"[1]Data!E145","v":52.40384615384616},{"$f":"[1]Data!F145","v":45.714285714285715},{"$f":"[1]Data!G145","v":40.384615384615387},{"$f":"[1]Data!H145","v":50.480769230769226},{"$f":"[1]Data!I145","v":46.039603960396036},{"$f":"[1]Data!C145","v":"2015-08-01"},{"$f":"[1]Data!R145","v":45.60522002408532},{"$f":"[1]Data!S145","v":47.287093066050993},{"$f":"[1]Data!T145","v":43.771167842195268},{"$f":"[1]Data!U145","v":38.33483763328308},{"$f":"[1]Data!V145","v":49.252057155665334},{"$f":"[1]Data!W145","v":44.026796950924258},{"$f":"[1]Data!C145","v":"2015-08-01"},{"$f":"[1]Data!K145","v":46.63461538461538},{"$f":"[1]Data!L145","v":44.949494949494948},{"$f":"[1]Data!Y145","v":43.116820584432254},{"$f":"[1]Data!Z145","v":43.57638837951238},{"$f":"[1]Data!C145","v":"2015-08-01"},{"$f":"[1]Data!M145","v":43.627450980392155},{"$f":"[1]Data!AA145","v":40.424095101080738},{"$f":"[1]Data!N145","v":53.571428571428577},{"$f":"[1]Data!AB145","v":53.466432047439916},{"$f":"[1]Data!O145","v":48.543689320388353},{"$f":"[1]Data!AC145","v":49.100083329701498},{"$f":"[1]Data!P145","v":49.519230769230774},{"$f":"[1]Data!AD145","v":48.919458916488011}]
[null,{"$f":"[1]Data!C146","v":"2015-09-01"},{"$f":"[1]Data!D146","v":50.14885716223548},{"$f":"[1]Data!E146","v":53.125},{"$f":"[1]Data!F146","v":52.105263157894733},{"$f":"[1]Data!G146","v":45.876288659793808},{"$f":"[1]Data!H146","v":47.422680412371136},{"$f":"[1]Data!I146","v":50.526315789473685},{"$f":"[1]Data!C146","v":"2015-09-01"},{"$f":"[1]Data!R146","v":47.734837100650282},{"$f":"[1]Data!S146","v":48.529465196957908},{"$f":"[1]Data!T146","v":49.20776868085909},{"$f":"[1]Data!U146","v":43.794079454072104},{"$f":"[1]Data!V146","v":47.325482509818706},{"$f":"[1]Data!W146","v":50.174980701341426},{"$f":"[1]Data!C146","v":"2015-09-01"},{"$f":"[1]Data!K146","v":51.578947368421048},{"$f":"[1]Data!L146","v":45.454545454545453},{"$f":"[1]Data!Y146","v":49.011365159828841},{"$f":"[1]Data!Z146","v":45.101729702988642},{"$f":"[1]Data!C146","v":"2015-09-01"},{"$f":"[1]Data!M146","v":50},{"$f":"[1]Data!AA146","v":46.330111059851319},{"$f":"[1]Data!N146","v":55.851063829787236},{"$f":"[1]Data!AB146","v":55.608380670113782},{"$f":"[1]Data!O146","v":51.063829787234042},{"$f":"[1]Data!AC146","v":49.557549829284405},{"$f":"[1]Data!P146","v":51.5625},{"$f":"[1]Data!AD146","v":53.295027863431038}]
[null,{"$f":"[1]Data!C147","v":"2015-10-01"},{"$f":"[1]Data!D147","v":48.259291081266426},{"$f":"[1]Data!E147","v":50.561797752808985},{"$f":"[1]Data!F147","v":47.701149425287362},{"$f":"[1]Data!G147","v":43.82022471910112},{"$f":"[1]Data!H147","v":47.159090909090907},{"$f":"[1]Data!I147","v":45.294117647058826},{"$f":"[1]Data!C147","v":"2015-10-01"},{"$f":"[1]Data!R147","v":48.730002850947166},{"$f":"[1]Data!S147","v":51.16868937155963},{"$f":"[1]Data!T147","v":49.364311156497216},{"$f":"[1]Data!U147","v":43.828258912945714},{"$f":"[1]Data!V147","v":47.388142821291531},{"$f":"[1]Data!W147","v":47.453360446747794},{"$f":"[1]Data!C147","v":"2015-10-01"},{"$f":"[1]Data!K147","v":45.238095238095241},{"$f":"[1]Data!L147","v":46.296296296296298},{"$f":"[1]Data!Y147","v":45.940201619898382},{"$f":"[1]Data!Z147","v":46.940169591722913},{"$f":"[1]Data!C147","v":"2015-10-01"},{"$f":"[1]Data!M147","v":46.511627906976742},{"$f":"[1]Data!AA147","v":47.161781865464242},{"$f":"[1]Data!N147","v":49.431818181818187},{"$f":"[1]Data!AB147","v":52.019223212081549},{"$f":"[1]Data!O147","v":42.941176470588232},{"$f":"[1]Data!AC147","v":44.594786306142595},{"$f":"[1]Data!P147","v":51.13636363636364},{"$f":"[1]Data!AD147","v":55.104489508921667}]
[null,{"$f":"[1]Data!C148","v":"2015-11-01"},{"$f":"[1]Data!D148","v":46.477607944083275},{"$f":"[1]Data!E148","v":47.826086956521735},{"$f":"[1]Data!F148","v":45.604395604395606},{"$f":"[1]Data!G148","v":41.208791208791212},{"$f":"[1]Data!H148","v":47.282608695652179},{"$f":"[1]Data!I148","v":44.943820224719104},{"$f":"[1]Data!C148","v":"2015-11-01"},{"$f":"[1]Data!R148","v":49.118100196248498},{"$f":"[1]Data!S148","v":51.130421359461408},{"$f":"[1]Data!T148","v":48.796410033667648},{"$f":"[1]Data!U148","v":44.30052397323324},{"$f":"[1]Data!V148","v":48.717938314482574},{"$f":"[1]Data!W148","v":44.712236955361881},{"$f":"[1]Data!C148","v":"2015-11-01"},{"$f":"[1]Data!K148","v":42.222222222222214},{"$f":"[1]Data!L148","v":44.642857142857146},{"$f":"[1]Data!Y148","v":47.474004884682913},{"$f":"[1]Data!Z148","v":45.896435631344019},{"$f":"[1]Data!C148","v":"2015-11-01"},{"$f":"[1]Data!M148","v":43.888888888888886},{"$f":"[1]Data!AA148","v":45.851030187524394},{"$f":"[1]Data!N148","v":51.149425287356323},{"$f":"[1]Data!AB148","v":53.308728981392385},{"$f":"[1]Data!O148","v":48.901098901098905},{"$f":"[1]Data!AC148","v":47.023598861047347},{"$f":"[1]Data!P148","v":53.260869565217391},{"$f":"[1]Data!AD148","v":58.615963626919793}]
[null,{"$f":"[1]Data!C149","v":"2015-12-01"},{"$f":"[1]Data!D149","v":42.926076555023926},{"$f":"[1]Data!E149","v":43},{"$f":"[1]Data!F149","v":39.393939393939391},{"$f":"[1]Data!G149","v":41.5},{"$f":"[1]Data!H149","v":46},{"$f":"[1]Data!I149","v":48.421052631578945},{"$f":"[1]Data!C149","v":"2015-12-01"},{"$f":"[1]Data!R149","v":47.099423946804976},{"$f":"[1]Data!S149","v":50.365972306718014},{"$f":"[1]Data!T149","v":46.33745618537133},{"$f":"[1]Data!U149","v":43.603158539040805},{"$f":"[1]Data!V149","v":47.169646422411112},{"$f":"[1]Data!W149","v":51.893846566557528},{"$f":"[1]Data!C149","v":"2015-12-01"},{"$f":"[1]Data!K149","v":41.75257731958763},{"$f":"[1]Data!L149","v":45.604395604395606},{"$f":"[1]Data!Y149","v":47.0267885629072},{"$f":"[1]Data!Z149","v":49.989748366521773},{"$f":"[1]Data!C149","v":"2015-12-01"},{"$f":"[1]Data!M149","v":36.224489795918366},{"$f":"[1]Data!AA149","v":44.337394156097425},{"$f":"[1]Data!N149","v":55.670103092783506},{"$f":"[1]Data!AB149","v":53.903306267109912},{"$f":"[1]Data!O149","v":45.959595959595958},{"$f":"[1]Data!AC149","v":47.720580101125456},{"$f":"[1]Data!P149","v":51.5},{"$f":"[1]Data!AD149","v":51.650640395974946}]
[null,{"$f":"[1]Data!C150","v":"2016-01-01"},{"$f":"[1]Data!D150","v":49.782685261241788},{"$f":"[1]Data!E150","v":48.94736842105263},{"$f":"[1]Data!F150","v":53.723404255319146},{"$f":"[1]Data!G150","v":45.161290322580648},{"$f":"[1]Data!H150","v":46.774193548387096},{"$f":"[1]Data!I150","v":46.195652173913047},{"$f":"[1]Data!C150","v":"2016-01-01"},{"$f":"[1]Data!R150","v":49.402705352974053},{"$f":"[1]Data!S150","v":48.490956930630155},{"$f":"[1]Data!T150","v":52.102314840740725},{"$f":"[1]Data!U150","v":45.082336688917735},{"$f":"[1]Data!V150","v":48.319095054803441},{"$f":"[1]Data!W150","v":46.150599279097669},{"$f":"[1]Data!C150","v":"2016-01-01"},{"$f":"[1]Data!K150","v":50},{"$f":"[1]Data!L150","v":50.588235294117645},{"$f":"[1]Data!Y150","v":49.083539002182604},{"$f":"[1]Data!Z150","v":49.360514177742793},{"$f":"[1]Data!C150","v":"2016-01-01"},{"$f":"[1]Data!M150","v":47.8494623655914},{"$f":"[1]Data!AA150","v":47.55873387180317},{"$f":"[1]Data!N150","v":51.612903225806448},{"$f":"[1]Data!AB150","v":47.453008745895481},{"$f":"[1]Data!O150","v":47.252747252747255},{"$f":"[1]Data!AC150","v":45.972650967387295},{"$f":"[1]Data!P150","v":56.315789473684205},{"$f":"[1]Data!AD150","v":53.295990218091262}]
[null,{"$f":"[1]Data!C151","v":"2016-02-01"},{"$f":"[1]Data!D151","v":49.159346066924257},{"$f":"[1]Data!E151","v":52.906976744186046},{"$f":"[1]Data!F151","v":50},{"$f":"[1]Data!G151","v":44.31818181818182},{"$f":"[1]Data!H151","v":47.126436781609193},{"$f":"[1]Data!I151","v":50},{"$f":"[1]Data!C151","v":"2016-02-01"},{"$f":"[1]Data!R151","v":49.145398947421732},{"$f":"[1]Data!S151","v":51.188568528187332},{"$f":"[1]Data!T151","v":49.084815697572601},{"$f":"[1]Data!U151","v":45.874284883137932},{"$f":"[1]Data!V151","v":48.762330370408939},{"$f":"[1]Data!W151","v":48.663944260858109},{"$f":"[1]Data!C151","v":"2016-02-01"},{"$f":"[1]Data!K151","v":46.551724137931032},{"$f":"[1]Data!L151","v":48.192771084337352},{"$f":"[1]Data!Y151","v":45.013711774615686},{"$f":"[1]Data!Z151","v":48.430861544327172},{"$f":"[1]Data!C151","v":"2016-02-01"},{"$f":"[1]Data!M151","v":45.454545454545453},{"$f":"[1]Data!AA151","v":44.576175854800283},{"$f":"[1]Data!N151","v":52.906976744186039},{"$f":"[1]Data!AB151","v":52.006864264051011},{"$f":"[1]Data!O151","v":47.159090909090907},{"$f":"[1]Data!AC151","v":45.302353301149715},{"$f":"[1]Data!P151","v":53.977272727272734},{"$f":"[1]Data!AD151","v":51.623274245135647}]
[null,{"$f":"[1]Data!C152","v":"2016-03-01"},{"$f":"[1]Data!D152","v":50.248042758205358},{"$f":"[1]Data!E152","v":50.617283950617278},{"$f":"[1]Data!F152","v":54.938271604938265},{"$f":"[1]Data!G152","v":41.358024691358025},{"$f":"[1]Data!H152","v":49.390243902439025},{"$f":"[1]Data!I152","v":45.679012345679013},{"$f":"[1]Data!C152","v":"2016-03-01"},{"$f":"[1]Data!R152","v":48.606065706230176},{"$f":"[1]Data!S152","v":47.736266388375626},{"$f":"[1]Data!T152","v":50.97686255613408},{"$f":"[1]Data!U152","v":40.67935980086898},{"$f":"[1]Data!V152","v":50.861859224582481},{"$f":"[1]Data!W152","v":43.862105015651146},{"$f":"[1]Data!C152","v":"2016-03-01"},{"$f":"[1]Data!K152","v":49.375},{"$f":"[1]Data!L152","v":47.260273972602739},{"$f":"[1]Data!Y152","v":47.640501021253201},{"$f":"[1]Data!Z152","v":44.945434922087912},{"$f":"[1]Data!C152","v":"2016-03-01"},{"$f":"[1]Data!M152","v":51.851851851851848},{"$f":"[1]Data!AA152","v":47.745407490142519},{"$f":"[1]Data!N152","v":51.25},{"$f":"[1]Data!AB152","v":51.463130966109972},{"$f":"[1]Data!O152","v":44.444444444444443},{"$f":"[1]Data!AC152","v":42.841216058483838},{"$f":"[1]Data!P152","v":55.487804878048777},{"$f":"[1]Data!AD152","v":54.142610628276458}]
[null,{"$f":"[1]Data!C153","v":"2016-04-01"},{"$f":"[1]Data!D153","v":53.237781694748612},{"$f":"[1]Data!E153","v":53.333333333333329},{"$f":"[1]Data!F153","v":58.152173913043484},{"$f":"[1]Data!G153","v":45.054945054945051},{"$f":"[1]Data!H153","v":51.075268817204304},{"$f":"[1]Data!I153","v":42.134831460674164},{"$f":"[1]Data!C153","v":"2016-04-01"},{"$f":"[1]Data!R153","v":50.436336194375073},{"$f":"[1]Data!S153","v":49.873196443624217},{"$f":"[1]Data!T153","v":52.104439308989726},{"$f":"[1]Data!U153","v":44.120684365206408},{"$f":"[1]Data!V153","v":51.54350770352012},{"$f":"[1]Data!W153","v":42.189577377971972},{"$f":"[1]Data!C153","v":"2016-04-01"},{"$f":"[1]Data!K153","v":60.112359550561806},{"$f":"[1]Data!L153","v":51.23456790123457},{"$f":"[1]Data!Y153","v":52.66421903173665},{"$f":"[1]Data!Z153","v":48.843235950650509},{"$f":"[1]Data!C153","v":"2016-04-01"},{"$f":"[1]Data!M153","v":52.747252747252745},{"$f":"[1]Data!AA153","v":49.891702982222093},{"$f":"[1]Data!N153","v":56.593406593406598},{"$f":"[1]Data!AB153","v":55.093202321593964},{"$f":"[1]Data!O153","v":48.924731182795696},{"$f":"[1]Data!AC153","v":47.040709431899401},{"$f":"[1]Data!P153","v":56.989247311827953},{"$f":"[1]Data!AD153","v":54.706992715990253}]
[null,{"$f":"[1]Data!C154","v":"2016-05-01"},{"$f":"[1]Data!D154","v":56.745528831329018},{"$f":"[1]Data!E154","v":56.521739130434781},{"$f":"[1]Data!F154","v":63.586956521739133},{"$f":"[1]Data!G154","v":49.468085106382979},{"$f":"[1]Data!H154","v":53.191489361702125},{"$f":"[1]Data!I154","v":43.333333333333336},{"$f":"[1]Data!C154","v":"2016-05-01"},{"$f":"[1]Data!R154","v":53.008210183115452},{"$f":"[1]Data!S154","v":51.135666825709102},{"$f":"[1]Data!T154","v":56.743444038720277},{"$f":"[1]Data!U154","v":48.054491251471525},{"$f":"[1]Data!V154","v":52.693224866605149},{"$f":"[1]Data!W154","v":43.136217152129795},{"$f":"[1]Data!C154","v":"2016-05-01"},{"$f":"[1]Data!K154","v":57.526881720430111},{"$f":"[1]Data!L154","v":56.172839506172835},{"$f":"[1]Data!Y154","v":52.108309556994037},{"$f":"[1]Data!Z154","v":52.547482312518632},{"$f":"[1]Data!C154","v":"2016-05-01"},{"$f":"[1]Data!M154","v":62.234042553191486},{"$f":"[1]Data!AA154","v":55.577283851399734},{"$f":"[1]Data!N154","v":55.434782608695642},{"$f":"[1]Data!AB154","v":57.027757154766661},{"$f":"[1]Data!O154","v":43.406593406593402},{"$f":"[1]Data!AC154","v":44.652055238661838},{"$f":"[1]Data!P154","v":60.638297872340431},{"$f":"[1]Data!AD154","v":60.623105273219373}]
[null,{"$f":"[1]Data!C155","v":"2016-06-01"},{"$f":"[1]Data!D155","v":55.936139164615078},{"$f":"[1]Data!E155","v":57.075471698113205},{"$f":"[1]Data!F155","v":61.53846153846154},{"$f":"[1]Data!G155","v":49.523809523809526},{"$f":"[1]Data!H155","v":56.310679611650485},{"$f":"[1]Data!I155","v":51.456310679611647},{"$f":"[1]Data!C155","v":"2016-06-01"},{"$f":"[1]Data!R155","v":53.545164648883741},{"$f":"[1]Data!S155","v":54.007566710126909},{"$f":"[1]Data!T155","v":58.228664608246291},{"$f":"[1]Data!U155","v":47.241985589704846},{"$f":"[1]Data!V155","v":54.212070516573014},{"$f":"[1]Data!W155","v":50.055341065487951},{"$f":"[1]Data!C155","v":"2016-06-01"},{"$f":"[1]Data!K155","v":57.692307692307693},{"$f":"[1]Data!L155","v":55.851063829787236},{"$f":"[1]Data!Y155","v":55.374643655674241},{"$f":"[1]Data!Z155","v":53.06822603754668},{"$f":"[1]Data!C155","v":"2016-06-01"},{"$f":"[1]Data!M155","v":54.807692307692307},{"$f":"[1]Data!AA155","v":51.483038925036489},{"$f":"[1]Data!N155","v":52.40384615384616},{"$f":"[1]Data!AB155","v":53.655687172895206},{"$f":"[1]Data!O155","v":47.549019607843142},{"$f":"[1]Data!AC155","v":48.374816351356714},{"$f":"[1]Data!P155","v":56.666666666666664},{"$f":"[1]Data!AD155","v":57.748635576998517}]
[null,{"$f":"[1]Data!C156","v":"2016-07-01"},{"$f":"[1]Data!D156","v":45.823244552058114},{"$f":"[1]Data!E156","v":38.983050847457626},{"$f":"[1]Data!F156","v":41.071428571428569},{"$f":"[1]Data!G156","v":46.610169491525426},{"$f":"[1]Data!H156","v":59.322033898305087},{"$f":"[1]Data!I156","v":44.642857142857139},{"$f":"[1]Data!C156","v":"2016-07-01"},{"$f":"[1]Data!R156","v":54.513559140993948},{"$f":"[1]Data!S156","v":56.383224401258829},{"$f":"[1]Data!T156","v":56.641187165943009},{"$f":"[1]Data!U156","v":49.950087999141559},{"$f":"[1]Data!V156","v":54.639694870481662},{"$f":"[1]Data!W156","v":47.60574939504226},{"$f":"[1]Data!C156","v":"2016-07-01"},{"$f":"[1]Data!K156","v":38.596491228070171},{"$f":"[1]Data!L156","v":45.283018867924525},{"$f":"[1]Data!Y156","v":53.751623986728397},{"$f":"[1]Data!Z156","v":53.11889992339691},{"$f":"[1]Data!C156","v":"2016-07-01"},{"$f":"[1]Data!M156","v":41.228070175438596},{"$f":"[1]Data!AA156","v":55.982764810346104},{"$f":"[1]Data!N156","v":53.508771929824562},{"$f":"[1]Data!AB156","v":55.020020261538576},{"$f":"[1]Data!O156","v":48.214285714285715},{"$f":"[1]Data!AC156","v":53.841835573597663},{"$f":"[1]Data!P156","v":61.206896551724135},{"$f":"[1]Data!AD156","v":59.428492224489567}]
[null,{"$f":"[1]Data!C157","v":"2016-08-01"},{"$f":"[1]Data!D157","v":53.700085910652916},{"$f":"[1]Data!E157","v":55.5},{"$f":"[1]Data!F157","v":54.639175257731964},{"$f":"[1]Data!G157","v":50.5},{"$f":"[1]Data!H157","v":54.545454545454547},{"$f":"[1]Data!I157","v":48.484848484848484},{"$f":"[1]Data!C157","v":"2016-08-01"},{"$f":"[1]Data!R157","v":51.45771196798615},{"$f":"[1]Data!S157","v":50.530529961149483},{"$f":"[1]Data!T157","v":52.882144155969847},{"$f":"[1]Data!U157","v":48.047426325695689},{"$f":"[1]Data!V157","v":53.06961479071731},{"$f":"[1]Data!W157","v":46.094912528389166},{"$f":"[1]Data!C157","v":"2016-08-01"},{"$f":"[1]Data!K157","v":53.092783505154635},{"$f":"[1]Data!L157","v":48.901098901098898},{"$f":"[1]Data!Y157","v":49.421705768772057},{"$f":"[1]Data!Z157","v":47.496414457242423},{"$f":"[1]Data!C157","v":"2016-08-01"},{"$f":"[1]Data!M157","v":55},{"$f":"[1]Data!AA157","v":51.369760879164943},{"$f":"[1]Data!N157","v":53.608247422680414},{"$f":"[1]Data!AB157","v":53.364431299603211},{"$f":"[1]Data!O157","v":45.959595959595958},{"$f":"[1]Data!AC157","v":45.639574491545403},{"$f":"[1]Data!P157","v":60.5},{"$f":"[1]Data!AD157","v":59.852152555416417}]
[null,{"$f":"[1]Data!C158","v":"2016-09-01"},{"$f":"[1]Data!D158","v":56.23700031852205},{"$f":"[1]Data!E158","v":61.666666666666671},{"$f":"[1]Data!F158","v":58.791208791208788},{"$f":"[1]Data!G158","v":50.54347826086957},{"$f":"[1]Data!H158","v":52.717391304347828},{"$f":"[1]Data!I158","v":48.333333333333336},{"$f":"[1]Data!C158","v":"2016-09-01"},{"$f":"[1]Data!R158","v":53.493733185030102},{"$f":"[1]Data!S158","v":56.677192225849936},{"$f":"[1]Data!T158","v":55.11521895104822},{"$f":"[1]Data!U158","v":48.443019279561888},{"$f":"[1]Data!V158","v":52.618654906742989},{"$f":"[1]Data!W158","v":47.915326486706775},{"$f":"[1]Data!C158","v":"2016-09-01"},{"$f":"[1]Data!K158","v":55.68181818181818},{"$f":"[1]Data!L158","v":50.617283950617278},{"$f":"[1]Data!Y158","v":52.423217263214198},{"$f":"[1]Data!Z158","v":50.483497356149734},{"$f":"[1]Data!C158","v":"2016-09-01"},{"$f":"[1]Data!M158","v":55.978260869565219},{"$f":"[1]Data!AA158","v":52.557630271818418},{"$f":"[1]Data!N158","v":53.932584269662925},{"$f":"[1]Data!AB158","v":53.434204669736602},{"$f":"[1]Data!O158","v":51.086956521739133},{"$f":"[1]Data!AC158","v":49.219351173777198},{"$f":"[1]Data!P158","v":58.695652173913047},{"$f":"[1]Data!AD158","v":60.167338534498981}]
[null,{"$f":"[1]Data!C159","v":"2016-10-01"},{"$f":"[1]Data!D159","v":52.770176169806142},{"$f":"[1]Data!E159","v":53.260869565217391},{"$f":"[1]Data!F159","v":53.804347826086953},{"$f":"[1]Data!G159","v":50},{"$f":"[1]Data!H159","v":52.127659574468083},{"$f":"[1]Data!I159","v":45.054945054945051},{"$f":"[1]Data!C159","v":"2016-10-01"},{"$f":"[1]Data!R159","v":53.274038686504859},{"$f":"[1]Data!S159","v":53.782990134777414},{"$f":"[1]Data!T159","v":55.48443230689135},{"$f":"[1]Data!U159","v":49.969896091400706},{"$f":"[1]Data!V159","v":52.344675778751267},{"$f":"[1]Data!W159","v":46.627191243497279},{"$f":"[1]Data!C159","v":"2016-10-01"},{"$f":"[1]Data!K159","v":52.747252747252745},{"$f":"[1]Data!L159","v":49.382716049382708},{"$f":"[1]Data!Y159","v":53.100700739895778},{"$f":"[1]Data!Z159","v":50.266234919384253},{"$f":"[1]Data!C159","v":"2016-10-01"},{"$f":"[1]Data!M159","v":52.1505376344086},{"$f":"[1]Data!AA159","v":52.441118437690456},{"$f":"[1]Data!N159","v":50},{"$f":"[1]Data!AB159","v":52.559856641363453},{"$f":"[1]Data!O159","v":45.108695652173914},{"$f":"[1]Data!AC159","v":46.54099485260577},{"$f":"[1]Data!P159","v":56.451612903225808},{"$f":"[1]Data!AD159","v":60.86700329047197}]
[null,{"$f":"[1]Data!C160","v":"2016-11-01"},{"$f":"[1]Data!D160","v":45.593483863738236},{"$f":"[1]Data!E160","v":45.360824742268044},{"$f":"[1]Data!F160","v":43.298969072164944},{"$f":"[1]Data!G160","v":43.75},{"$f":"[1]Data!H160","v":47.916666666666671},{"$f":"[1]Data!I160","v":46.739130434782609},{"$f":"[1]Data!C160","v":"2016-11-01"},{"$f":"[1]Data!R160","v":48.145877693560138},{"$f":"[1]Data!S160","v":48.671804899514754},{"$f":"[1]Data!T160","v":46.061598331891894},{"$f":"[1]Data!U160","v":46.961690574812785},{"$f":"[1]Data!V160","v":49.382391968335888},{"$f":"[1]Data!W160","v":46.402499410990536},{"$f":"[1]Data!C160","v":"2016-11-01"},{"$f":"[1]Data!K160","v":42.708333333333343},{"$f":"[1]Data!L160","v":47.727272727272727},{"$f":"[1]Data!Y160","v":47.923864581115417},{"$f":"[1]Data!Z160","v":48.864080533400973},{"$f":"[1]Data!C160","v":"2016-11-01"},{"$f":"[1]Data!M160","v":42.631578947368425},{"$f":"[1]Data!AA160","v":44.508363058904642},{"$f":"[1]Data!N160","v":54.210526315789465},{"$f":"[1]Data!AB160","v":56.425286705559387},{"$f":"[1]Data!O160","v":48.936170212765958},{"$f":"[1]Data!AC160","v":46.981093563717174},{"$f":"[1]Data!P160","v":55.154639175257728},{"$f":"[1]Data!AD160","v":60.947772276965637}]
[null,{"$f":"[1]Data!C161","v":"2016-12-01"},{"$f":"[1]Data!D161","v":47.640160183066357},{"$f":"[1]Data!E161","v":44.565217391304344},{"$f":"[1]Data!F161","v":45.108695652173914},{"$f":"[1]Data!G161","v":47.368421052631575},{"$f":"[1]Data!H161","v":52.631578947368418},{"$f":"[1]Data!I161","v":44.021739130434781},{"$f":"[1]Data!C161","v":"2016-12-01"},{"$f":"[1]Data!R161","v":52.40699160940953},{"$f":"[1]Data!S161","v":52.144869954373839},{"$f":"[1]Data!T161","v":53.13790767149306},{"$f":"[1]Data!U161","v":50.093843656380869},{"$f":"[1]Data!V161","v":53.865219480064326},{"$f":"[1]Data!W161","v":46.691498339176718},{"$f":"[1]Data!C161","v":"2016-12-01"},{"$f":"[1]Data!K161","v":44.021739130434781},{"$f":"[1]Data!L161","v":44.117647058823529},{"$f":"[1]Data!Y161","v":49.571457950950155},{"$f":"[1]Data!Z161","v":48.17322359404028},{"$f":"[1]Data!C161","v":"2016-12-01"},{"$f":"[1]Data!M161","v":40.957446808510639},{"$f":"[1]Data!AA161","v":49.384334972378909},{"$f":"[1]Data!N161","v":55.376344086021504},{"$f":"[1]Data!AB161","v":54.301109654779893},{"$f":"[1]Data!O161","v":45.108695652173914},{"$f":"[1]Data!AC161","v":46.982908096231967},{"$f":"[1]Data!P161","v":64.361702127659584},{"$f":"[1]Data!AD161","v":64.430816826212819}]
[null,{"$f":"[1]Data!C162","v":"2017-01-01"},{"$f":"[1]Data!D162","v":51.724069762333606},{"$f":"[1]Data!E162","v":51.94174757281553},{"$f":"[1]Data!F162","v":51.94174757281553},{"$f":"[1]Data!G162","v":51.442307692307693},{"$f":"[1]Data!H162","v":51.470588235294116},{"$f":"[1]Data!I162","v":48.529411764705877},{"$f":"[1]Data!C162","v":"2017-01-01"},{"$f":"[1]Data!R162","v":51.061525069770475},{"$f":"[1]Data!S162","v":50.60917791045609},{"$f":"[1]Data!T162","v":50.157505383062613},{"$f":"[1]Data!U162","v":50.84637841169009},{"$f":"[1]Data!V162","v":53.41525085137188},{"$f":"[1]Data!W162","v":48.195843328061287},{"$f":"[1]Data!C162","v":"2017-01-01"},{"$f":"[1]Data!K162","v":50.990099009900987},{"$f":"[1]Data!L162","v":47.368421052631575},{"$f":"[1]Data!Y162","v":49.643352138407053},{"$f":"[1]Data!Z162","v":46.346250562812443},{"$f":"[1]Data!C162","v":"2017-01-01"},{"$f":"[1]Data!M162","v":49.019607843137251},{"$f":"[1]Data!AA162","v":48.652519889391677},{"$f":"[1]Data!N162","v":62.745098039215684},{"$f":"[1]Data!AB162","v":57.612122412943009},{"$f":"[1]Data!O162","v":50},{"$f":"[1]Data!AC162","v":48.511104372984875},{"$f":"[1]Data!P162","v":64.42307692307692},{"$f":"[1]Data!AD162","v":60.632952743390994}]
[null,{"$f":"[1]Data!C163","v":"2017-02-01"},{"$f":"[1]Data!D163","v":53.601572632608566},{"$f":"[1]Data!E163","v":56.395348837209298},{"$f":"[1]Data!F163","v":54.216867469879517},{"$f":"[1]Data!G163","v":48.275862068965516},{"$f":"[1]Data!H163","v":55.232558139534888},{"$f":"[1]Data!I163","v":47.023809523809526},{"$f":"[1]Data!C163","v":"2017-02-01"},{"$f":"[1]Data!R163","v":53.466753016150989},{"$f":"[1]Data!S163","v":54.548278418882148},{"$f":"[1]Data!T163","v":53.40950887956533},{"$f":"[1]Data!U163","v":49.395176138301203},{"$f":"[1]Data!V163","v":56.966689557401274},{"$f":"[1]Data!W163","v":46.172079137095807},{"$f":"[1]Data!C163","v":"2017-02-01"},{"$f":"[1]Data!K163","v":54.705882352941174},{"$f":"[1]Data!L163","v":50.649350649350652},{"$f":"[1]Data!Y163","v":52.831288800648487},{"$f":"[1]Data!Z163","v":50.643911942269582},{"$f":"[1]Data!C163","v":"2017-02-01"},{"$f":"[1]Data!M163","v":51.764705882352942},{"$f":"[1]Data!AA163","v":50.751537534254169},{"$f":"[1]Data!N163","v":60.365853658536594},{"$f":"[1]Data!AB163","v":58.924135601858502},{"$f":"[1]Data!O163","v":47.61904761904762},{"$f":"[1]Data!AC163","v":46.26545532528754},{"$f":"[1]Data!P163","v":62.068965517241381},{"$f":"[1]Data!AD163","v":59.456217750703914}]
[null,{"$f":"[1]Data!C164","v":"2017-03-01"},{"$f":"[1]Data!D164","v":57.346805895445534},{"$f":"[1]Data!E164","v":61.224489795918359},{"$f":"[1]Data!F164","v":62.755102040816332},{"$f":"[1]Data!G164","v":53.092783505154635},{"$f":"[1]Data!H164","v":52.04081632653061},{"$f":"[1]Data!I164","v":52.10526315789474},{"$f":"[1]Data!C164","v":"2017-03-01"},{"$f":"[1]Data!R164","v":55.612407467722299},{"$f":"[1]Data!S164","v":58.201579394429416},{"$f":"[1]Data!T164","v":58.649304460408317},{"$f":"[1]Data!U164","v":52.41223612416416},{"$f":"[1]Data!V164","v":53.770131402739139},{"$f":"[1]Data!W164","v":50.807456542512462},{"$f":"[1]Data!C164","v":"2017-03-01"},{"$f":"[1]Data!K164","v":60.526315789473685},{"$f":"[1]Data!L164","v":56.111111111111114},{"$f":"[1]Data!Y164","v":58.760944557164478},{"$f":"[1]Data!Z164","v":53.492540818303254},{"$f":"[1]Data!C164","v":"2017-03-01"},{"$f":"[1]Data!M164","v":62.5},{"$f":"[1]Data!AA164","v":58.353727591468136},{"$f":"[1]Data!N164","v":62.886597938144327},{"$f":"[1]Data!AB164","v":63.971508116504125},{"$f":"[1]Data!O164","v":54.736842105263165},{"$f":"[1]Data!AC164","v":53.487297983857772},{"$f":"[1]Data!P164","v":63.775510204081634},{"$f":"[1]Data!AD164","v":62.062827477270872}]
[null,{"$f":"[1]Data!C165","v":"2017-04-01"},{"$f":"[1]Data!D165","v":57.790810244554415},{"$f":"[1]Data!E165","v":58.51063829787234},{"$f":"[1]Data!F165","v":62.105263157894733},{"$f":"[1]Data!G165","v":55.319148936170215},{"$f":"[1]Data!H165","v":54.3010752688172},{"$f":"[1]Data!I165","v":46.774193548387096},{"$f":"[1]Data!C165","v":"2017-04-01"},{"$f":"[1]Data!R165","v":54.78051920661634},{"$f":"[1]Data!S165","v":54.48869852054046},{"$f":"[1]Data!T165","v":56.078446467336512},{"$f":"[1]Data!U165","v":54.091371862399086},{"$f":"[1]Data!V165","v":54.84294003898718},{"$f":"[1]Data!W165","v":47.09904742047619},{"$f":"[1]Data!C165","v":"2017-04-01"},{"$f":"[1]Data!K165","v":57.142857142857146},{"$f":"[1]Data!L165","v":55.232558139534881},{"$f":"[1]Data!Y165","v":50.556018357131421},{"$f":"[1]Data!Z165","v":52.790491068347862},{"$f":"[1]Data!C165","v":"2017-04-01"},{"$f":"[1]Data!M165","v":55.851063829787236},{"$f":"[1]Data!AA165","v":52.685867105003986},{"$f":"[1]Data!N165","v":61.413043478260867},{"$f":"[1]Data!AB165","v":59.383868883523107},{"$f":"[1]Data!O165","v":50},{"$f":"[1]Data!AC165","v":48.090882321768873},{"$f":"[1]Data!P165","v":67.89473684210526},{"$f":"[1]Data!AD165","v":65.270425548070463}]
[null,{"$f":"[1]Data!C166","v":"2017-05-01"},{"$f":"[1]Data!D166","v":58.662985922768954},{"$f":"[1]Data!E166","v":62.921348314606746},{"$f":"[1]Data!F166","v":63.218390804597703},{"$f":"[1]Data!G166","v":50.574712643678161},{"$f":"[1]Data!H166","v":57.865168539325843},{"$f":"[1]Data!I166","v":48.275862068965516},{"$f":"[1]Data!C166","v":"2017-05-01"},{"$f":"[1]Data!R166","v":54.556127353542017},{"$f":"[1]Data!S166","v":56.363665190155693},{"$f":"[1]Data!T166","v":56.027099634182157},{"$f":"[1]Data!U166","v":49.477397584480279},{"$f":"[1]Data!V166","v":56.930037778374718},{"$f":"[1]Data!W166","v":47.77904017903824},{"$f":"[1]Data!C166","v":"2017-05-01"},{"$f":"[1]Data!K166","v":59.302325581395351},{"$f":"[1]Data!L166","v":56.790123456790113},{"$f":"[1]Data!Y166","v":53.477677794310935},{"$f":"[1]Data!Z166","v":53.148985973912922},{"$f":"[1]Data!C166","v":"2017-05-01"},{"$f":"[1]Data!M166","v":59.659090909090907},{"$f":"[1]Data!AA166","v":52.913709588490121},{"$f":"[1]Data!N166","v":55.68181818181818},{"$f":"[1]Data!AB166","v":57.273185793557097},{"$f":"[1]Data!O166","v":46.590909090909093},{"$f":"[1]Data!AC166","v":47.925829269209721},{"$f":"[1]Data!P166","v":62.359550561797761},{"$f":"[1]Data!AD166","v":62.310857442432038}]
[null,{"$f":"[1]Data!C167","v":"2017-06-01"},{"$f":"[1]Data!D167","v":58.688605209935879},{"$f":"[1]Data!E167","v":60.843373493975903},{"$f":"[1]Data!F167","v":61.585365853658537},{"$f":"[1]Data!G167","v":56.470588235294116},{"$f":"[1]Data!H167","v":57.64705882352942},{"$f":"[1]Data!I167","v":49.390243902439025},{"$f":"[1]Data!C167","v":"2017-06-01"},{"$f":"[1]Data!R167","v":56.161881104679523},{"$f":"[1]Data!S167","v":57.791847192606191},{"$f":"[1]Data!T167","v":58.212341728399259},{"$f":"[1]Data!U167","v":53.594814220210175},{"$f":"[1]Data!V167","v":55.960528566481031},{"$f":"[1]Data!W167","v":48.628253410059877},{"$f":"[1]Data!C167","v":"2017-06-01"},{"$f":"[1]Data!K167","v":56.626506024096386},{"$f":"[1]Data!L167","v":56.329113924050638},{"$f":"[1]Data!Y167","v":54.825093409429236},{"$f":"[1]Data!Z167","v":53.45217089784262},{"$f":"[1]Data!C167","v":"2017-06-01"},{"$f":"[1]Data!M167","v":61.445783132530124},{"$f":"[1]Data!AA167","v":57.690274781759342},{"$f":"[1]Data!N167","v":55.357142857142861},{"$f":"[1]Data!AB167","v":56.711323901857064},{"$f":"[1]Data!O167","v":45.180722891566262},{"$f":"[1]Data!AC167","v":46.28099832973578},{"$f":"[1]Data!P167","v":60.843373493975903},{"$f":"[1]Data!AD167","v":62.328766151669605}]
[null,{"$f":"[1]Data!C168","v":"2017-07-01"},{"$f":"[1]Data!D168","v":50.003770739064855},{"$f":"[1]Data!E168","v":43.269230769230766},{"$f":"[1]Data!F168","v":50},{"$f":"[1]Data!G168","v":48.07692307692308},{"$f":"[1]Data!H168","v":62.5},{"$f":"[1]Data!I168","v":48.03921568627451},{"$f":"[1]Data!C168","v":"2017-07-01"},{"$f":"[1]Data!R168","v":60.120327475610807},{"$f":"[1]Data!S168","v":62.644629751583764},{"$f":"[1]Data!T168","v":68.611140984394538},{"$f":"[1]Data!U168","v":51.738141165949777},{"$f":"[1]Data!V168","v":57.453687858679267},{"$f":"[1]Data!W168","v":50.898536695953446},{"$f":"[1]Data!C168","v":"2017-07-01"},{"$f":"[1]Data!K168","v":44.117647058823536},{"$f":"[1]Data!L168","v":54.08163265306122},{"$f":"[1]Data!Y168","v":61.572209296238249},{"$f":"[1]Data!Z168","v":62.99315955272121},{"$f":"[1]Data!C168","v":"2017-07-01"},{"$f":"[1]Data!M168","v":43.269230769230774},{"$f":"[1]Data!AA168","v":58.54922955731972},{"$f":"[1]Data!N168","v":57.692307692307693},{"$f":"[1]Data!AB168","v":59.024685573950514},{"$f":"[1]Data!O168","v":41},{"$f":"[1]Data!AC168","v":45.55629063117167},{"$f":"[1]Data!P168","v":72.115384615384613},{"$f":"[1]Data!AD168","v":69.968230621121876}]
[null,{"$f":"[1]Data!C169","v":"2017-08-01"},{"$f":"[1]Data!D169","v":57.123781028368796},{"$f":"[1]Data!E169","v":60.9375},{"$f":"[1]Data!F169","v":59.895833333333336},{"$f":"[1]Data!G169","v":53.645833333333336},{"$f":"[1]Data!H169","v":58.51063829787234},{"$f":"[1]Data!I169","v":55.851063829787236},{"$f":"[1]Data!C169","v":"2017-08-01"},{"$f":"[1]Data!R169","v":54.967410425913016},{"$f":"[1]Data!S169","v":55.972297875739223},{"$f":"[1]Data!T169","v":58.216063527231434},{"$f":"[1]Data!U169","v":51.150494870306005},{"$f":"[1]Data!V169","v":57.019012542415759},{"$f":"[1]Data!W169","v":52.734339566147845},{"$f":"[1]Data!C169","v":"2017-08-01"},{"$f":"[1]Data!K169","v":57.446808510638299},{"$f":"[1]Data!L169","v":57.47126436781609},{"$f":"[1]Data!Y169","v":53.439632892194091},{"$f":"[1]Data!Z169","v":55.884801974143421},{"$f":"[1]Data!C169","v":"2017-08-01"},{"$f":"[1]Data!M169","v":60.937499999999993},{"$f":"[1]Data!AA169","v":57.189417546923082},{"$f":"[1]Data!N169","v":60.638297872340424},{"$f":"[1]Data!AB169","v":60.338468562853116},{"$f":"[1]Data!O169","v":50},{"$f":"[1]Data!AC169","v":49.004262675520742},{"$f":"[1]Data!P169","v":64.736842105263165},{"$f":"[1]Data!AD169","v":64.013028432068069}]
[null,{"$f":"[1]Data!C170","v":"2017-09-01"},{"$f":"[1]Data!D170","v":54.90717615717616},{"$f":"[1]Data!E170","v":54.545454545454547},{"$f":"[1]Data!F170","v":55.194805194805198},{"$f":"[1]Data!G170","v":54.487179487179489},{"$f":"[1]Data!H170","v":58.333333333333336},{"$f":"[1]Data!I170","v":49.350649350649348},{"$f":"[1]Data!C170","v":"2017-09-01"},{"$f":"[1]Data!R170","v":52.383582354182273},{"$f":"[1]Data!S170","v":50.375734045192189},{"$f":"[1]Data!T170","v":51.676525943335122},{"$f":"[1]Data!U170","v":52.435885459473461},{"$f":"[1]Data!V170","v":58.056644677181666},{"$f":"[1]Data!W170","v":49.089827335882546},{"$f":"[1]Data!C170","v":"2017-09-01"},{"$f":"[1]Data!K170","v":48},{"$f":"[1]Data!L170","v":54.225352112676056},{"$f":"[1]Data!Y170","v":45.125266578242126},{"$f":"[1]Data!Z170","v":54.154260002870899},{"$f":"[1]Data!C170","v":"2017-09-01"},{"$f":"[1]Data!M170","v":53.94736842105263},{"$f":"[1]Data!AA170","v":51.287577990339216},{"$f":"[1]Data!N170","v":61.84210526315789},{"$f":"[1]Data!AB170","v":61.149578612815731},{"$f":"[1]Data!O170","v":48.07692307692308},{"$f":"[1]Data!AC170","v":45.98830812036973},{"$f":"[1]Data!P170","v":65.384615384615387},{"$f":"[1]Data!AD170","v":66.825274084500649}]
[null,{"$f":"[1]Data!C171","v":"2017-10-01"},{"$f":"[1]Data!D171","v":53.856416789961102},{"$f":"[1]Data!E171","v":57.051282051282058},{"$f":"[1]Data!F171","v":53.846153846153847},{"$f":"[1]Data!G171","v":52.5},{"$f":"[1]Data!H171","v":53.797468354430379},{"$f":"[1]Data!I171","v":51.298701298701303},{"$f":"[1]Data!C171","v":"2017-10-01"},{"$f":"[1]Data!R171","v":54.414430028252703},{"$f":"[1]Data!S171","v":57.805190436636835},{"$f":"[1]Data!T171","v":55.424621900261592},{"$f":"[1]Data!U171","v":52.530010617637984},{"$f":"[1]Data!V171","v":54.024243343815719},{"$f":"[1]Data!W171","v":52.738927760849421},{"$f":"[1]Data!C171","v":"2017-10-01"},{"$f":"[1]Data!K171","v":47.435897435897438},{"$f":"[1]Data!L171","v":54.861111111111114},{"$f":"[1]Data!Y171","v":47.333954815198631},{"$f":"[1]Data!Z171","v":56.172964605625509},{"$f":"[1]Data!C171","v":"2017-10-01"},{"$f":"[1]Data!M171","v":55.769230769230766},{"$f":"[1]Data!AA171","v":56.107916282532678},{"$f":"[1]Data!N171","v":61.392405063291136},{"$f":"[1]Data!AB171","v":64.508456720505023},{"$f":"[1]Data!O171","v":48.701298701298697},{"$f":"[1]Data!AC171","v":49.902760200723478},{"$f":"[1]Data!P171","v":61.25},{"$f":"[1]Data!AD171","v":66.67661489183196}]
[null,{"$f":"[1]Data!C172","v":"2017-11-01"},{"$f":"[1]Data!D172","v":54.40480169952189},{"$f":"[1]Data!E172","v":55.128205128205124},{"$f":"[1]Data!F172","v":55.844155844155843},{"$f":"[1]Data!G172","v":53.125},{"$f":"[1]Data!H172","v":57.594936708860764},{"$f":"[1]Data!I172","v":53.94736842105263},{"$f":"[1]Data!C172","v":"2017-11-01"},{"$f":"[1]Data!R172","v":57.676256894459343},{"$f":"[1]Data!S172","v":59.483455418847008},{"$f":"[1]Data!T172","v":59.421480734466677},{"$f":"[1]Data!U172","v":57.020256516352198},{"$f":"[1]Data!V172","v":59.373908730029811},{"$f":"[1]Data!W172","v":53.311887933673276},{"$f":"[1]Data!C172","v":"2017-11-01"},{"$f":"[1]Data!K172","v":49.34210526315789},{"$f":"[1]Data!L172","v":56.338028169014081},{"$f":"[1]Data!Y172","v":55.294497574442971},{"$f":"[1]Data!Z172","v":57.624585056496535},{"$f":"[1]Data!C172","v":"2017-11-01"},{"$f":"[1]Data!M172","v":55.063291139240505},{"$f":"[1]Data!AA172","v":57.42068005861239},{"$f":"[1]Data!N172","v":57.894736842105267},{"$f":"[1]Data!AB172","v":59.818399771953992},{"$f":"[1]Data!O172","v":51.92307692307692},{"$f":"[1]Data!AC172","v":49.966313927069578},{"$f":"[1]Data!P172","v":58.860759493670884},{"$f":"[1]Data!AD172","v":65.27193296919485}]
[null,{"$f":"[1]Data!C173","v":"2017-12-01"},{"$f":"[1]Data!D173","v":52.375},{"$f":"[1]Data!E173","v":50},{"$f":"[1]Data!F173","v":50.599999999999994},{"$f":"[1]Data!G173","v":53.150000000000006},{"$f":"[1]Data!H173","v":58.7},{"$f":"[1]Data!I173","v":47.4},{"$f":"[1]Data!C173","v":"2017-12-01"},{"$f":"[1]Data!R173","v":57.614275599125826},{"$f":"[1]Data!S173","v":58.318139517962649},{"$f":"[1]Data!T173","v":59.11169672320905},{"$f":"[1]Data!U173","v":56.438798718631993},{"$f":"[1]Data!V173","v":59.966404798897955},{"$f":"[1]Data!W173","v":49.814887608886451},{"$f":"[1]Data!C173","v":"2017-12-01"},{"$f":"[1]Data!K173","v":49.4},{"$f":"[1]Data!L173","v":49.349999999999994},{"$f":"[1]Data!Y173","v":55.481697503556312},{"$f":"[1]Data!Z173","v":53.919542805242649},{"$f":"[1]Data!C173","v":"2017-12-01"},{"$f":"[1]Data!M173","v":48.2},{"$f":"[1]Data!AA173","v":57.101292753229302},{"$f":"[1]Data!N173","v":61.9},{"$f":"[1]Data!AB173","v":61.903945133363422},{"$f":"[1]Data!O173","v":44.9},{"$f":"[1]Data!AC173","v":47.027987682981681},{"$f":"[1]Data!P173","v":68.5},{"$f":"[1]Data!AD173","v":68.148362279627491}]
[null,{"$f":"[1]Data!C174","v":"2018-01-01"},{"$f":"[1]Data!D174","v":58.39658063081437},{"$f":"[1]Data!E174","v":64.367816091954026},{"$f":"[1]Data!F174","v":59.195402298850567},{"$f":"[1]Data!G174","v":55.487804878048777},{"$f":"[1]Data!H174","v":59.036144578313255},{"$f":"[1]Data!I174","v":54.069767441860463},{"$f":"[1]Data!C174","v":"2018-01-01"},{"$f":"[1]Data!R174","v":57.345063388109828},{"$f":"[1]Data!S174","v":61.756224162592211},{"$f":"[1]Data!T174","v":57.141608586384336},{"$f":"[1]Data!U174","v":54.667812729981478},{"$f":"[1]Data!V174","v":61.41401815070261},{"$f":"[1]Data!W174","v":53.821404970552109},{"$f":"[1]Data!C174","v":"2018-01-01"},{"$f":"[1]Data!K174","v":57.647058823529413},{"$f":"[1]Data!L174","v":54.545454545454547},{"$f":"[1]Data!Y174","v":55.839409873839571},{"$f":"[1]Data!Z174","v":53.697962296603627},{"$f":"[1]Data!C174","v":"2018-01-01"},{"$f":"[1]Data!M174","v":59.411764705882348},{"$f":"[1]Data!AA174","v":58.901709916557387},{"$f":"[1]Data!N174","v":69.540229885057471},{"$f":"[1]Data!AB174","v":63.889740726679634},{"$f":"[1]Data!O174","v":50},{"$f":"[1]Data!AC174","v":48.435060873557127},{"$f":"[1]Data!P174","v":74.698795180722897},{"$f":"[1]Data!AD174","v":70.180514164056987}]
[null,{"$f":"[1]Data!C175","v":"2018-02-01"},{"$f":"[1]Data!D175","v":56.871694375053835},{"$f":"[1]Data!E175","v":60},{"$f":"[1]Data!F175","v":57.89473684210526},{"$f":"[1]Data!G175","v":53.846153846153847},{"$f":"[1]Data!H175","v":60},{"$f":"[1]Data!I175","v":52.659574468085104},{"$f":"[1]Data!C175","v":"2018-02-01"},{"$f":"[1]Data!R175","v":56.685357724695244},{"$f":"[1]Data!S175","v":58.257765158833948},{"$f":"[1]Data!T175","v":57.329008923477687},{"$f":"[1]Data!U175","v":54.581359320678331},{"$f":"[1]Data!V175","v":61.496061311550655},{"$f":"[1]Data!W175","v":52.184673029248131},{"$f":"[1]Data!C175","v":"2018-02-01"},{"$f":"[1]Data!K175","v":57.978723404255319},{"$f":"[1]Data!L175","v":52.941176470588232},{"$f":"[1]Data!Y175","v":55.800008512291711},{"$f":"[1]Data!Z175","v":52.582090422622294},{"$f":"[1]Data!C175","v":"2018-02-01"},{"$f":"[1]Data!M175","v":59.677419354838705},{"$f":"[1]Data!AA175","v":58.438307834129851},{"$f":"[1]Data!N175","v":65.263157894736835},{"$f":"[1]Data!AB175","v":63.233239812806062},{"$f":"[1]Data!O175","v":51.136363636363633},{"$f":"[1]Data!AC175","v":50.101367847184193},{"$f":"[1]Data!P175","v":73.8888888888889},{"$f":"[1]Data!AD175","v":70.691470448419139}]
[null,{"$f":"[1]Data!C176","v":"2018-03-01"},{"$f":"[1]Data!D176","v":55.983375040388502},{"$f":"[1]Data!E176","v":58.333333333333329},{"$f":"[1]Data!F176","v":56.451612903225801},{"$f":"[1]Data!G176","v":53.409090909090907},{"$f":"[1]Data!H176","v":59.638554216867469},{"$f":"[1]Data!I176","v":51.630434782608688},{"$f":"[1]Data!C176","v":"2018-03-01"},{"$f":"[1]Data!R176","v":54.38579022587308},{"$f":"[1]Data!S176","v":55.326117129256112},{"$f":"[1]Data!T176","v":52.916885698526002},{"$f":"[1]Data!U176","v":52.535720881523957},{"$f":"[1]Data!V176","v":61.816314826266719},{"$f":"[1]Data!W176","v":51.003961662435401},{"$f":"[1]Data!C176","v":"2018-03-01"},{"$f":"[1]Data!K176","v":54.787234042553195},{"$f":"[1]Data!L176","v":54.651162790697668},{"$f":"[1]Data!Y176","v":53.26978775536228},{"$f":"[1]Data!Z176","v":51.884225408310442},{"$f":"[1]Data!C176","v":"2018-03-01"},{"$f":"[1]Data!M176","v":53.804347826086953},{"$f":"[1]Data!AA176","v":50.805084987360388},{"$f":"[1]Data!N176","v":58.241758241758241},{"$f":"[1]Data!AB176","v":59.481543099958927},{"$f":"[1]Data!O176","v":49.425287356321846},{"$f":"[1]Data!AC176","v":48.818068626574224},{"$f":"[1]Data!P176","v":71.590909090909093},{"$f":"[1]Data!AD176","v":69.401463578065304}]
[null,{"$f":"[1]Data!C177","v":"2018-04-01"},{"$f":"[1]Data!D177","v":59.613425466050309},{"$f":"[1]Data!E177","v":65.217391304347828},{"$f":"[1]Data!F177","v":62.365591397849457},{"$f":"[1]Data!G177","v":56.97674418604651},{"$f":"[1]Data!H177","v":57.954545454545453},{"$f":"[1]Data!I177","v":54.891304347826079},{"$f":"[1]Data!C177","v":"2018-04-01"},{"$f":"[1]Data!R177","v":56.55833135649722},{"$f":"[1]Data!S177","v":60.788518403035567},{"$f":"[1]Data!T177","v":56.672137017924136},{"$f":"[1]Data!U177","v":55.462200648678177},{"$f":"[1]Data!V177","v":58.518567174291015},{"$f":"[1]Data!W177","v":55.106645555181998},{"$f":"[1]Data!C177","v":"2018-04-01"},{"$f":"[1]Data!K177","v":60.439560439560438},{"$f":"[1]Data!L177","v":58.720930232558139},{"$f":"[1]Data!Y177","v":54.381816774515279},{"$f":"[1]Data!Z177","v":56.027962042024321},{"$f":"[1]Data!C177","v":"2018-04-01"},{"$f":"[1]Data!M177","v":62.359550561797761},{"$f":"[1]Data!AA177","v":58.518177362037925},{"$f":"[1]Data!N177","v":67.032967032967036},{"$f":"[1]Data!AB177","v":64.573182740937156},{"$f":"[1]Data!O177","v":52.976190476190482},{"$f":"[1]Data!AC177","v":50.748216263735245},{"$f":"[1]Data!P177","v":70.786516853932582},{"$f":"[1]Data!AD177","v":68.025681393863891}]
[null,{"$f":"[1]Data!C178","v":"2018-05-01"},{"$f":"[1]Data!D178","v":60.271358543417364},{"$f":"[1]Data!E178","v":64.835164835164846},{"$f":"[1]Data!F178","v":62.637362637362642},{"$f":"[1]Data!G178","v":55.952380952380949},{"$f":"[1]Data!H178","v":64.705882352941174},{"$f":"[1]Data!I178","v":56.25},{"$f":"[1]Data!C178","v":"2018-05-01"},{"$f":"[1]Data!R178","v":55.937204552844747},{"$f":"[1]Data!S178","v":57.42114642916259},{"$f":"[1]Data!T178","v":55.194409689492517},{"$f":"[1]Data!U178","v":55.103802828392709},{"$f":"[1]Data!V178","v":63.460736419671406},{"$f":"[1]Data!W178","v":55.16275989922903},{"$f":"[1]Data!C178","v":"2018-05-01"},{"$f":"[1]Data!K178","v":60.439560439560438},{"$f":"[1]Data!L178","v":54.938271604938265},{"$f":"[1]Data!Y178","v":54.216946951545324},{"$f":"[1]Data!Z178","v":51.360098515008268},{"$f":"[1]Data!C178","v":"2018-05-01"},{"$f":"[1]Data!M178","v":63.888888888888886},{"$f":"[1]Data!AA178","v":56.239230868694996},{"$f":"[1]Data!N178","v":60.555555555555557},{"$f":"[1]Data!AB178","v":62.086372383123503},{"$f":"[1]Data!O178","v":51.851851851851848},{"$f":"[1]Data!AC178","v":53.096130176901184},{"$f":"[1]Data!P178","v":68.023255813953483},{"$f":"[1]Data!AD178","v":67.815155179592239}]
[null,{"$f":"[1]Data!C179","v":"2018-06-01"},{"$f":"[1]Data!D179","v":59.522202465623515},{"$f":"[1]Data!E179","v":60.526315789473685},{"$f":"[1]Data!F179","v":61.184210526315795},{"$f":"[1]Data!G179","v":60.666666666666671},{"$f":"[1]Data!H179","v":62.5},{"$f":"[1]Data!I179","v":54.729729729729733},{"$f":"[1]Data!C179","v":"2018-06-01"},{"$f":"[1]Data!R179","v":57.083170224231061},{"$f":"[1]Data!S179","v":57.796131707312171},{"$f":"[1]Data!T179","v":58.019806876266379},{"$f":"[1]Data!U179","v":57.466064118992158},{"$f":"[1]Data!V179","v":61.2001027626157},{"$f":"[1]Data!W179","v":54.450330036676789},{"$f":"[1]Data!C179","v":"2018-06-01"},{"$f":"[1]Data!K179","v":53.333333333333336},{"$f":"[1]Data!L179","v":55.633802816901408},{"$f":"[1]Data!Y179","v":52.110893003192743},{"$f":"[1]Data!Z179","v":53.13732926336948},{"$f":"[1]Data!C179","v":"2018-06-01"},{"$f":"[1]Data!M179","v":60.526315789473685},{"$f":"[1]Data!AA179","v":56.973332250623415},{"$f":"[1]Data!N179","v":66},{"$f":"[1]Data!AB179","v":67.972206009912512},{"$f":"[1]Data!O179","v":52.054794520547944},{"$f":"[1]Data!AC179","v":53.775153411819964},{"$f":"[1]Data!P179","v":70.666666666666671},{"$f":"[1]Data!AD179","v":72.828445570595264}]
[null,{"$f":"[1]Data!C180","v":"2018-07-01"},{"$f":"[1]Data!D180","v":40.264818899879032},{"$f":"[1]Data!E180","v":34.042553191489361},{"$f":"[1]Data!F180","v":35.869565217391305},{"$f":"[1]Data!G180","v":50},{"$f":"[1]Data!H180","v":39.230769230769234},{"$f":"[1]Data!I180","v":48.913043478260875},{"$f":"[1]Data!C180","v":"2018-07-01"},{"$f":"[1]Data!R180","v":48.209848731549911},{"$f":"[1]Data!S180","v":49.527720792917918},{"$f":"[1]Data!T180","v":49.111509119040882},{"$f":"[1]Data!U180","v":54.181864414394234},{"$f":"[1]Data!V180","v":36.06729199239367},{"$f":"[1]Data!W180","v":51.520008841297312},{"$f":"[1]Data!C180","v":"2018-07-01"},{"$f":"[1]Data!K180","v":33.695652173913047},{"$f":"[1]Data!L180","v":45.238095238095241},{"$f":"[1]Data!Y180","v":46.968395406017997},{"$f":"[1]Data!Z180","v":52.570853129537632},{"$f":"[1]Data!C180","v":"2018-07-01"},{"$f":"[1]Data!M180","v":40.217391304347821},{"$f":"[1]Data!AA180","v":54.678890276627257},{"$f":"[1]Data!N180","v":64.130434782608688},{"$f":"[1]Data!AB180","v":65.541490864092637},{"$f":"[1]Data!O180","v":48.888888888888893},{"$f":"[1]Data!AC180","v":54.095090197348718},{"$f":"[1]Data!P180","v":70},{"$f":"[1]Data!AD180","v":68.008888127708573}]
[null,{"$f":"[1]Data!C181","v":"2018-08-01"},{"$f":"[1]Data!D181","v":62.589177219435911},{"$f":"[1]Data!E181","v":69.230769230769226},{"$f":"[1]Data!F181","v":64.044943820224717},{"$f":"[1]Data!G181","v":61.931818181818187},{"$f":"[1]Data!H181","v":63.372093023255808},{"$f":"[1]Data!I181","v":58.241758241758234},{"$f":"[1]Data!C181","v":"2018-08-01"},{"$f":"[1]Data!R181","v":60.208261248905792},{"$f":"[1]Data!S181","v":63.78876001014175},{"$f":"[1]Data!T181","v":62.030466229990282},{"$f":"[1]Data!U181","v":59.237017537679073},{"$f":"[1]Data!V181","v":61.818107580725695},{"$f":"[1]Data!W181","v":54.681882672713954},{"$f":"[1]Data!C181","v":"2018-08-01"},{"$f":"[1]Data!K181","v":63.483146067415731},{"$f":"[1]Data!L181","v":56.024096385542173},{"$f":"[1]Data!Y181","v":58.844745610709275},{"$f":"[1]Data!Z181","v":54.356554796788359},{"$f":"[1]Data!C181","v":"2018-08-01"},{"$f":"[1]Data!M181","v":61.956521739130437},{"$f":"[1]Data!AA181","v":58.074905497684583},{"$f":"[1]Data!N181","v":64.130434782608702},{"$f":"[1]Data!AB181","v":63.709144644118133},{"$f":"[1]Data!O181","v":56.976744186046517},{"$f":"[1]Data!AC181","v":55.35889281431362},{"$f":"[1]Data!P181","v":71.111111111111114},{"$f":"[1]Data!AD181","v":70.282865758839534}]
[null,{"$f":"[1]Data!C182","v":"2018-09-01"},{"$f":"[1]Data!D182","v":58.915213076397272},{"$f":"[1]Data!E182","v":60.256410256410248},{"$f":"[1]Data!F182","v":60.389610389610382},{"$f":"[1]Data!G182","v":57.236842105263158},{"$f":"[1]Data!H182","v":63.194444444444443},{"$f":"[1]Data!I182","v":51.92307692307692},{"$f":"[1]Data!C182","v":"2018-09-01"},{"$f":"[1]Data!R182","v":56.244396859771626},{"$f":"[1]Data!S182","v":56.015884466764149},{"$f":"[1]Data!T182","v":56.598304238360178},{"$f":"[1]Data!U182","v":55.178386257624716},{"$f":"[1]Data!V182","v":62.659279349939972},{"$f":"[1]Data!W182","v":51.736346824433994},{"$f":"[1]Data!C182","v":"2018-09-01"},{"$f":"[1]Data!K182","v":61.038961038961034},{"$f":"[1]Data!L182","v":52.816901408450704},{"$f":"[1]Data!Y182","v":57.386279562349486},{"$f":"[1]Data!Z182","v":52.844655727816885},{"$f":"[1]Data!C182","v":"2018-09-01"},{"$f":"[1]Data!M182","v":57.79220779220779},{"$f":"[1]Data!AA182","v":55.4997727473108},{"$f":"[1]Data!N182","v":63.636363636363633},{"$f":"[1]Data!AB182","v":62.756311337397356},{"$f":"[1]Data!O182","v":56.849315068493141},{"$f":"[1]Data!AC182","v":54.36006669435865},{"$f":"[1]Data!P182","v":60.135135135135137},{"$f":"[1]Data!AD182","v":61.327472542717992}]
[null,{"$f":"[1]Data!C183","v":"2018-10-01"},{"$f":"[1]Data!D183","v":55.750254492343103},{"$f":"[1]Data!E183","v":55.063291139240505},{"$f":"[1]Data!F183","v":56.25},{"$f":"[1]Data!G183","v":54.545454545454547},{"$f":"[1]Data!H183","v":62.179487179487182},{"$f":"[1]Data!I183","v":51.265822784810126},{"$f":"[1]Data!C183","v":"2018-10-01"},{"$f":"[1]Data!R183","v":56.44070005596884},{"$f":"[1]Data!S183","v":56.081928946806229},{"$f":"[1]Data!T183","v":57.963603669731967},{"$f":"[1]Data!U183","v":54.66386574893918},{"$f":"[1]Data!V183","v":62.424030113759869},{"$f":"[1]Data!W183","v":52.65240948504119},{"$f":"[1]Data!C183","v":"2018-10-01"},{"$f":"[1]Data!K183","v":58.974358974358978},{"$f":"[1]Data!L183","v":49.315068493150683},{"$f":"[1]Data!Y183","v":58.699975249546029},{"$f":"[1]Data!Z183","v":50.649137474789939},{"$f":"[1]Data!C183","v":"2018-10-01"},{"$f":"[1]Data!M183","v":56.875},{"$f":"[1]Data!AA183","v":57.461126270906263},{"$f":"[1]Data!N183","v":56.962025316455701},{"$f":"[1]Data!AB183","v":59.634592675909651},{"$f":"[1]Data!O183","v":53.378378378378386},{"$f":"[1]Data!AC183","v":54.239458388073984},{"$f":"[1]Data!P183","v":58.441558441558442},{"$f":"[1]Data!AD183","v":63.997936645859184}]
[null,{"$f":"[1]Data!C184","v":"2018-11-01"},{"$f":"[1]Data!D184","v":52.848942561884158},{"$f":"[1]Data!E184","v":53.94736842105263},{"$f":"[1]Data!F184","v":54.109589041095887},{"$f":"[1]Data!G184","v":49.315068493150683},{"$f":"[1]Data!H184","v":58.219178082191782},{"$f":"[1]Data!I184","v":54.666666666666664},{"$f":"[1]Data!C184","v":"2018-11-01"},{"$f":"[1]Data!R184","v":55.935489394476249},{"$f":"[1]Data!S184","v":58.215514439919474},{"$f":"[1]Data!T184","v":57.449022814011194},{"$f":"[1]Data!U184","v":52.709919903277637},{"$f":"[1]Data!V184","v":60.05046776244847},{"$f":"[1]Data!W184","v":54.026502047297811},{"$f":"[1]Data!C184","v":"2018-11-01"},{"$f":"[1]Data!K184","v":52},{"$f":"[1]Data!L184","v":50.735294117647058},{"$f":"[1]Data!Y184","v":57.806601452060342},{"$f":"[1]Data!Z184","v":51.886667280942241},{"$f":"[1]Data!C184","v":"2018-11-01"},{"$f":"[1]Data!M184","v":57.432432432432435},{"$f":"[1]Data!AA184","v":59.989836878209523},{"$f":"[1]Data!N184","v":60.000000000000007},{"$f":"[1]Data!AB184","v":61.824301566016317},{"$f":"[1]Data!O184","v":46.32352941176471},{"$f":"[1]Data!AC184","v":44.841698570082421},{"$f":"[1]Data!P184","v":65.06849315068493},{"$f":"[1]Data!AD184","v":72.398699913629073}]
[null,{"$f":"[1]Data!C185","v":"2018-12-01"},{"$f":"[1]Data!D185","v":50.615009368740708},{"$f":"[1]Data!E185","v":50.714285714285715},{"$f":"[1]Data!F185","v":49.285714285714278},{"$f":"[1]Data!G185","v":49.242424242424235},{"$f":"[1]Data!H185","v":58.333333333333329},{"$f":"[1]Data!I185","v":54.477611940298509},{"$f":"[1]Data!C185","v":"2018-12-01"},{"$f":"[1]Data!R185","v":55.553357152851007},{"$f":"[1]Data!S185","v":58.971738756158707},{"$f":"[1]Data!T185","v":57.107690463746493},{"$f":"[1]Data!U185","v":52.298181936295727},{"$f":"[1]Data!V185","v":59.558431968845326},{"$f":"[1]Data!W185","v":57.152858578985636},{"$f":"[1]Data!C185","v":"2018-12-01"},{"$f":"[1]Data!K185","v":45.588235294117652},{"$f":"[1]Data!L185","v":49.193548387096776},{"$f":"[1]Data!Y185","v":51.093278317059927},{"$f":"[1]Data!Z185","v":53.703596331250566},{"$f":"[1]Data!C185","v":"2018-12-01"},{"$f":"[1]Data!M185","v":54.477611940298502},{"$f":"[1]Data!AA185","v":63.669596628595478},{"$f":"[1]Data!N185","v":54.545454545454547},{"$f":"[1]Data!AB185","v":55.219381568109903},{"$f":"[1]Data!O185","v":52.238805970149258},{"$f":"[1]Data!AC185","v":54.841995337813387},{"$f":"[1]Data!P185","v":65.217391304347828},{"$f":"[1]Data!AD185","v":64.818430949915495}]
[null,{"$f":"[1]Data!C186","v":"2019-01-01"},{"$f":"[1]Data!D186","v":59.093511722306786},{"$f":"[1]Data!E186","v":63.978494623655912},{"$f":"[1]Data!F186","v":61.827956989247312},{"$f":"[1]Data!G186","v":57.058823529411768},{"$f":"[1]Data!H186","v":55.357142857142854},{"$f":"[1]Data!I186","v":51.64835164835165},{"$f":"[1]Data!C186","v":"2019-01-01"},{"$f":"[1]Data!R186","v":57.852534903764564},{"$f":"[1]Data!S186","v":60.760813212760425},{"$f":"[1]Data!T186","v":59.776644959397316},{"$f":"[1]Data!U186","v":56.14489302630777},{"$f":"[1]Data!V186","v":57.616562771618817},{"$f":"[1]Data!W186","v":51.421249082491116},{"$f":"[1]Data!C186","v":"2019-01-01"},{"$f":"[1]Data!K186","v":58.791208791208788},{"$f":"[1]Data!L186","v":54.216867469879517},{"$f":"[1]Data!Y186","v":56.86952236143037},{"$f":"[1]Data!Z186","v":53.505107038743631},{"$f":"[1]Data!C186","v":"2019-01-01"},{"$f":"[1]Data!M186","v":60.752688172043008},{"$f":"[1]Data!AA186","v":59.964256031751276},{"$f":"[1]Data!N186","v":63.043478260869563},{"$f":"[1]Data!AB186","v":57.966450320105821},{"$f":"[1]Data!O186","v":55.357142857142854},{"$f":"[1]Data!AC186","v":53.538139403126181},{"$f":"[1]Data!P186","v":70.114942528735639},{"$f":"[1]Data!AD186","v":65.752823786010794}]
[null,{"$f":"[1]Data!C187","v":"2019-02-01"},{"$f":"[1]Data!D187","v":56.106439880188276},{"$f":"[1]Data!E187","v":58.333333333333329},{"$f":"[1]Data!F187","v":56.707317073170728},{"$f":"[1]Data!G187","v":56.578947368421048},{"$f":"[1]Data!H187","v":56.666666666666671},{"$f":"[1]Data!I187","v":53.048780487804876},{"$f":"[1]Data!C187","v":"2019-02-01"},{"$f":"[1]Data!R187","v":55.915436283925388},{"$f":"[1]Data!S187","v":56.82155899093808},{"$f":"[1]Data!T187","v":56.322311546022256},{"$f":"[1]Data!U187","v":57.117574089456298},{"$f":"[1]Data!V187","v":57.823511660100444},{"$f":"[1]Data!W187","v":52.836884945221414},{"$f":"[1]Data!C187","v":"2019-02-01"},{"$f":"[1]Data!K187","v":57.317073170731703},{"$f":"[1]Data!L187","v":55.405405405405411},{"$f":"[1]Data!Y187","v":55.032496928062251},{"$f":"[1]Data!Z187","v":54.929511381332247},{"$f":"[1]Data!C187","v":"2019-02-01"},{"$f":"[1]Data!M187","v":60.11904761904762},{"$f":"[1]Data!AA187","v":58.76797718590327},{"$f":"[1]Data!N187","v":60.11904761904762},{"$f":"[1]Data!AB187","v":58.00118537988363},{"$f":"[1]Data!O187","v":52.702702702702702},{"$f":"[1]Data!AC187","v":51.759310496537239},{"$f":"[1]Data!P187","v":69.871794871794876},{"$f":"[1]Data!AD187","v":66.572000729131503}]
[null,{"$f":"[1]Data!C188","v":"2019-03-01"},{"$f":"[1]Data!D188","v":57.844381986173026},{"$f":"[1]Data!E188","v":61.940298507462686},{"$f":"[1]Data!F188","v":59.848484848484844},{"$f":"[1]Data!G188","v":58.333333333333336},{"$f":"[1]Data!H188","v":53.174603174603178},{"$f":"[1]Data!I188","v":52.38095238095238},{"$f":"[1]Data!C188","v":"2019-03-01"},{"$f":"[1]Data!R188","v":56.096021188748232},{"$f":"[1]Data!S188","v":58.753328104546604},{"$f":"[1]Data!T188","v":56.310119411795405},{"$f":"[1]Data!U188","v":57.292414431617594},{"$f":"[1]Data!V188","v":55.051624359613463},{"$f":"[1]Data!W188","v":52.015732011925799},{"$f":"[1]Data!C188","v":"2019-03-01"},{"$f":"[1]Data!K188","v":57.03125},{"$f":"[1]Data!L188","v":55.645161290322584},{"$f":"[1]Data!Y188","v":55.443193336215892},{"$f":"[1]Data!Z188","v":52.761219145330578},{"$f":"[1]Data!C188","v":"2019-03-01"},{"$f":"[1]Data!M188","v":58.333333333333329},{"$f":"[1]Data!AA188","v":55.479046322543766},{"$f":"[1]Data!N188","v":53.90625},{"$f":"[1]Data!AB188","v":55.270831547879808},{"$f":"[1]Data!O188","v":51.587301587301582},{"$f":"[1]Data!AC188","v":51.217363332258088},{"$f":"[1]Data!P188","v":72.72727272727272},{"$f":"[1]Data!AD188","v":70.257265524496134}]
[null,{"$f":"[1]Data!C189","v":"2019-04-01"},{"$f":"[1]Data!D189","v":56.636536504540238},{"$f":"[1]Data!E189","v":60.447761194029852},{"$f":"[1]Data!F189","v":59.090909090909093},{"$f":"[1]Data!G189","v":53.90625},{"$f":"[1]Data!H189","v":56.923076923076927},{"$f":"[1]Data!I189","v":55.223880597014926},{"$f":"[1]Data!C189","v":"2019-04-01"},{"$f":"[1]Data!R189","v":53.779374312043061},{"$f":"[1]Data!S189","v":56.14356562387016},{"$f":"[1]Data!T189","v":53.87860702298898},{"$f":"[1]Data!U189","v":52.430955136721948},{"$f":"[1]Data!V189","v":57.482528644444628},{"$f":"[1]Data!W189","v":55.286695248322502},{"$f":"[1]Data!C189","v":"2019-04-01"},{"$f":"[1]Data!K189","v":58.333333333333329},{"$f":"[1]Data!L189","v":52.5},{"$f":"[1]Data!Y189","v":53.108820559060007},{"$f":"[1]Data!Z189","v":49.90755824735804},{"$f":"[1]Data!C189","v":"2019-04-01"},{"$f":"[1]Data!M189","v":60.606060606060609},{"$f":"[1]Data!AA189","v":56.478632961575087},{"$f":"[1]Data!N189","v":56.71641791044776},{"$f":"[1]Data!AB189","v":54.576026951251897},{"$f":"[1]Data!O189","v":54.761904761904759},{"$f":"[1]Data!AC189","v":52.326754761849422},{"$f":"[1]Data!P189","v":64.0625},{"$f":"[1]Data!AD189","v":61.835368597538732}]
[null,{"$f":"[1]Data!C190","v":"2019-05-01"},{"$f":"[1]Data!D190","v":58.587500000000006},{"$f":"[1]Data!E190","v":67.2},{"$f":"[1]Data!F190","v":64.5},{"$f":"[1]Data!G190","v":52.95},{"$f":"[1]Data!H190","v":51.449999999999996},{"$f":"[1]Data!I190","v":58.7},{"$f":"[1]Data!C190","v":"2019-05-01"},{"$f":"[1]Data!R190","v":54.122830979456623},{"$f":"[1]Data!S190","v":59.209835765879184},{"$f":"[1]Data!T190","v":56.666030094212118},{"$f":"[1]Data!U190","v":52.365102838609424},{"$f":"[1]Data!V190","v":50.418689270551312},{"$f":"[1]Data!W190","v":57.152609485813805},{"$f":"[1]Data!C190","v":"2019-05-01"},{"$f":"[1]Data!K190","v":62.349999999999994},{"$f":"[1]Data!L190","v":57.15},{"$f":"[1]Data!Y190","v":55.769636750916845},{"$f":"[1]Data!Z190","v":53.342653656039687},{"$f":"[1]Data!C190","v":"2019-05-01"},{"$f":"[1]Data!M190","v":65.650000000000006},{"$f":"[1]Data!AA190","v":57.684177183040902},{"$f":"[1]Data!N190","v":56.550000000000004},{"$f":"[1]Data!AB190","v":57.890673601738392},{"$f":"[1]Data!O190","v":50},{"$f":"[1]Data!AC190","v":51.121378537421833},{"$f":"[1]Data!P190","v":63.05},{"$f":"[1]Data!AD190","v":62.783910144061529}]
[null,{"$f":"[1]Data!C191","v":"2019-06-01"},{"$f":"[1]Data!D191","v":53.990204225529453},{"$f":"[1]Data!E191","v":57.142857142857139},{"$f":"[1]Data!F191","v":53.968253968253961},{"$f":"[1]Data!G191","v":54.032258064516128},{"$f":"[1]Data!H191","v":52.459016393442624},{"$f":"[1]Data!I191","v":51.612903225806448},{"$f":"[1]Data!C191","v":"2019-06-01"},{"$f":"[1]Data!R191","v":51.892963952430485},{"$f":"[1]Data!S191","v":54.782846140531753},{"$f":"[1]Data!T191","v":51.257172660843608},{"$f":"[1]Data!U191","v":51.091119630813118},{"$f":"[1]Data!V191","v":51.74971662412343},{"$f":"[1]Data!W191","v":51.60580800736669},{"$f":"[1]Data!C191","v":"2019-06-01"},{"$f":"[1]Data!K191","v":54.032258064516128},{"$f":"[1]Data!L191","v":45.762711864406775},{"$f":"[1]Data!Y191","v":53.243144653574561},{"$f":"[1]Data!Z191","v":43.95139998047933},{"$f":"[1]Data!C191","v":"2019-06-01"},{"$f":"[1]Data!M191","v":52.5},{"$f":"[1]Data!AA191","v":49.624610152951412},{"$f":"[1]Data!N191","v":50.793650793650791},{"$f":"[1]Data!AB191","v":52.374229460361441},{"$f":"[1]Data!O191","v":47.58064516129032},{"$f":"[1]Data!AC191","v":49.451943749953202},{"$f":"[1]Data!P191","v":58.064516129032256},{"$f":"[1]Data!AD191","v":59.896872922807546}]